View In:
ArcGIS JavaScript
ArcGIS Online Map Viewer
ArcGIS Earth
ArcMap
View Footprint In:
ArcGIS Online Map Viewer
Service Description: ImageServices/NH_NAIP_2018_all
Name: ImageServices/NH_NAIP_2018_all
Description:
Single Fused Map Cache: false
Extent:
XMin: 741950.5886259973
YMin: 66787.973949951
XMax: 1281370.769625971
YMax: 1027236.8404499041
Spatial Reference: 103104
(6525)
VCSWkid(105703)
LatestVCSWkid(6360)
Initial Extent:
XMin: 741950.5886259973
YMin: 66787.973949951
XMax: 1281370.769625971
YMax: 1027236.8404499041
Spatial Reference: 103104
(6525)
VCSWkid(105703)
LatestVCSWkid(6360)
Full Extent:
XMin: 741950.5886259973
YMin: 66787.973949951
XMax: 1281370.769625971
YMax: 1027236.8404499041
Spatial Reference: 103104
(6525)
VCSWkid(105703)
LatestVCSWkid(6360)
Pixel Size X: 1.9684999999999044
Pixel Size Y: 1.9684999999999038
Band Count: 4
Pixel Type: U8
RasterFunction Infos: {"rasterFunctionInfos": [{
"name": "None",
"description": "",
"help": ""
}]}
Mensuration Capabilities: Basic
Has Histograms: true
Has Colormap: false
Has Multi Dimensions : false
Rendering Rule:
Min Scale: 0
Max Scale: 0
Copyright Text:
Service Data Type: esriImageServiceDataTypeGeneric
Min Values: 0, 0, 0, 0
Max Values: 255, 255, 255, 255
Mean Values: 58.69902789804, 73.796226866526, 58.907349511278, 86.150448916083
Standard Deviation Values: 60.3822083622, 71.170462403295, 56.793777620196, 86.152573044492
Object ID Field:
Fields:
None
Default Mosaic Method: Center
Allowed Mosaic Methods:
SortField:
SortValue: null
Mosaic Operator: First
Default Compression Quality: 75
Default Resampling Method: Bilinear
Max Record Count: null
Max Image Height: 4100
Max Image Width: 15000
Max Download Image Count: null
Max Mosaic Image Count: null
Allow Raster Function: true
Allow Copy: null
Allow Analysis: null
Allow Compute TiePoints: false
Supports Statistics: false
Supports Advanced Queries: false
Use StandardizedQueries: true
Raster Type Infos:
Name: Raster Dataset
Description: Supports all ArcGIS Raster Datasets
Help:
Has Raster Attribute Table: false
Edit Fields Info: null
Ownership Based AccessControl For Rasters: null
Child Resources:
Info
Histograms
Key Properties
Legend
Raster Function Infos
Supported Operations:
Export Image
Identify
Measure
Compute Histograms
Compute Statistics Histograms
Get Samples
Compute Class Statistics
Query Boundary
Compute Pixel Location
Compute Angles
Validate
Project