{
 "currentVersion": 10.91,
 "serviceDescription": "ImageServices/NH_NAIP_2018_all",
 "name": "ImageServices/NH_NAIP_2018_all",
 "description": "",
 "extent": {
  "xmin": 741950.5886259973,
  "ymin": 66787.973949951,
  "xmax": 1281370.769625971,
  "ymax": 1027236.8404499041,
  "spatialReference": {
   "wkid": 103104,
   "latestWkid": 6525,
   "vcsWkid": 105703,
   "latestVcsWkid": 6360
  }
 },
 "initialExtent": {
  "xmin": 741950.5886259973,
  "ymin": 66787.973949951,
  "xmax": 1281370.769625971,
  "ymax": 1027236.8404499041,
  "spatialReference": {
   "wkid": 103104,
   "latestWkid": 6525,
   "vcsWkid": 105703,
   "latestVcsWkid": 6360
  }
 },
 "fullExtent": {
  "xmin": 741950.5886259973,
  "ymin": 66787.973949951,
  "xmax": 1281370.769625971,
  "ymax": 1027236.8404499041,
  "spatialReference": {
   "wkid": 103104,
   "latestWkid": 6525,
   "vcsWkid": 105703,
   "latestVcsWkid": 6360
  }
 },
 "heightModelInfo": {
  "heightModel": "gravity_related_height",
  "vertCRS": "NAVD_1988_Foot_US",
  "heightUnit": "us-foot"
 },
 "pixelSizeX": 1.9684999999999044,
 "pixelSizeY": 1.9684999999999038,
 "bandCount": 4,
 "pixelType": "U8",
 "minPixelSize": 0,
 "maxPixelSize": 0,
 "copyrightText": "",
 "serviceDataType": "esriImageServiceDataTypeGeneric",
 "minValues": [
  0,
  0,
  0,
  0
 ],
 "maxValues": [
  255,
  255,
  255,
  255
 ],
 "meanValues": [
  58.69902789804,
  73.796226866526,
  58.907349511278,
  86.150448916083
 ],
 "stdvValues": [
  60.3822083622,
  71.170462403295,
  56.793777620196,
  86.152573044492
 ],
 "objectIdField": "",
 "fields": [],
 "capabilities": "Image,Metadata,Mensuration",
 "defaultMosaicMethod": "Center",
 "allowedMosaicMethods": "",
 "sortField": "",
 "sortValue": null,
 "sortAscending": true,
 "mosaicOperator": "First",
 "defaultCompressionQuality": 75,
 "defaultResamplingMethod": "Bilinear",
 "maxImageHeight": 4100,
 "maxImageWidth": 15000,
 "allowRasterFunction": true,
 "rasterFunctionInfos": [
  {
   "name": "None",
   "description": "",
   "help": ""
  }
 ],
 "rasterTypeInfos": [
  {
   "name": "Raster Dataset",
   "description": "Supports all ArcGIS Raster Datasets",
   "help": ""
  }
 ],
 "mensurationCapabilities": "Basic",
 "hasHistograms": true,
 "hasColormap": false,
 "hasRasterAttributeTable": false,
 "minScale": 0,
 "maxScale": 0,
 "exportTilesAllowed": false,
 "hasMultidimensions": false,
 "supportsStatistics": false,
 "supportsAdvancedQueries": false,
 "editFieldsInfo": null,
 "ownershipBasedAccessControlForRasters": null,
 "allowComputeTiePoints": false,
 "useStandardizedQueries": true,
 "advancedQueryCapabilities": {
  "useStandardizedQueries": true,
  "supportsStatistics": false,
  "supportsOrderBy": false,
  "supportsDistinct": false,
  "supportsPagination": false
 },
 "spatialReference": {
  "wkid": 103104,
  "latestWkid": 6525,
  "vcsWkid": 105703,
  "latestVcsWkid": 6360
 }
}