View In:
ArcGIS JavaScript
ArcGIS Online Map Viewer
ArcGIS Earth
ArcMap
View Footprint In:
ArcGIS Online Map Viewer
Service Description: ImageServices/LiDAR_Derived_Slope_Degree_NH
Name: ImageServices/LiDAR_Derived_Slope_Degree_NH
Description:
Single Fused Map Cache: false
Extent:
XMin: 711187.2942715406
YMin: -72245.17493458581
XMax: 1278508.9942715417
YMax: 1031738.8375654165
Spatial Reference: 103104
(6525)
Initial Extent:
XMin: 711187.2942715406
YMin: -72245.17493458581
XMax: 1278508.9942715417
YMax: 1031738.8375654165
Spatial Reference: 103104
(6525)
Full Extent:
XMin: 711187.2942715406
YMin: -72245.17493458581
XMax: 1278508.9942715417
YMax: 1031738.8375654165
Spatial Reference: 103104
(6525)
Pixel Size X: 16.4041666666667
Pixel Size Y: 16.4041666666667
Band Count: 1
Pixel Type: S32
RasterFunction Infos: {"rasterFunctionInfos": [{
"name": "None",
"description": "",
"help": ""
}]}
Mensuration Capabilities: Basic
Has Histograms: true
Has Colormap: false
Has Multi Dimensions : false
Rendering Rule:
Min Scale: 0
Max Scale: 0
Copyright Text:
Service Data Type: esriImageServiceDataTypeGeneric
Min Values: 0
Max Values: 84
Mean Values: 8.4398932675422
Standard Deviation Values: 7.3414118938572
Object ID Field:
Fields:
None
Default Mosaic Method: Center
Allowed Mosaic Methods:
SortField:
SortValue: null
Mosaic Operator: First
Default Compression Quality: 75
Default Resampling Method: Bilinear
Max Record Count: null
Max Image Height: 4100
Max Image Width: 15000
Max Download Image Count: null
Max Mosaic Image Count: null
Allow Raster Function: true
Allow Copy: null
Allow Analysis: null
Allow Compute TiePoints: false
Supports Statistics: false
Supports Advanced Queries: false
Use StandardizedQueries: true
Raster Type Infos:
Name: Raster Dataset
Description: Supports all ArcGIS Raster Datasets
Help:
Has Raster Attribute Table: true
Edit Fields Info: null
Ownership Based AccessControl For Rasters: null
Child Resources:
Info
Raster Attribute Table
Histograms
Key Properties
Legend
Raster Function Infos
Supported Operations:
Export Image
Identify
Measure
Compute Histograms
Compute Statistics Histograms
Get Samples
Compute Class Statistics
Query Boundary
Compute Pixel Location
Compute Angles
Validate
Project