{
 "currentVersion": 10.91,
 "serviceDescription": "ImageServices/LiDAR_Derived_Slope_Degree_NH",
 "name": "ImageServices/LiDAR_Derived_Slope_Degree_NH",
 "description": "",
 "extent": {
  "xmin": 711187.2942715406,
  "ymin": -72245.17493458581,
  "xmax": 1278508.9942715417,
  "ymax": 1031738.8375654165,
  "spatialReference": {
   "wkid": 103104,
   "latestWkid": 6525
  }
 },
 "initialExtent": {
  "xmin": 711187.2942715406,
  "ymin": -72245.17493458581,
  "xmax": 1278508.9942715417,
  "ymax": 1031738.8375654165,
  "spatialReference": {
   "wkid": 103104,
   "latestWkid": 6525
  }
 },
 "fullExtent": {
  "xmin": 711187.2942715406,
  "ymin": -72245.17493458581,
  "xmax": 1278508.9942715417,
  "ymax": 1031738.8375654165,
  "spatialReference": {
   "wkid": 103104,
   "latestWkid": 6525
  }
 },
 "pixelSizeX": 16.4041666666667,
 "pixelSizeY": 16.4041666666667,
 "bandCount": 1,
 "pixelType": "S32",
 "minPixelSize": 0,
 "maxPixelSize": 0,
 "copyrightText": "",
 "serviceDataType": "esriImageServiceDataTypeGeneric",
 "minValues": [
  0
 ],
 "maxValues": [
  84
 ],
 "meanValues": [
  8.4398932675422
 ],
 "stdvValues": [
  7.3414118938572
 ],
 "objectIdField": "",
 "fields": [],
 "capabilities": "Image,Metadata,Mensuration",
 "defaultMosaicMethod": "Center",
 "allowedMosaicMethods": "",
 "sortField": "",
 "sortValue": null,
 "sortAscending": true,
 "mosaicOperator": "First",
 "defaultCompressionQuality": 75,
 "defaultResamplingMethod": "Bilinear",
 "maxImageHeight": 4100,
 "maxImageWidth": 15000,
 "allowRasterFunction": true,
 "rasterFunctionInfos": [
  {
   "name": "None",
   "description": "",
   "help": ""
  }
 ],
 "rasterTypeInfos": [
  {
   "name": "Raster Dataset",
   "description": "Supports all ArcGIS Raster Datasets",
   "help": ""
  }
 ],
 "mensurationCapabilities": "Basic",
 "hasHistograms": true,
 "hasColormap": false,
 "hasRasterAttributeTable": true,
 "minScale": 0,
 "maxScale": 0,
 "exportTilesAllowed": false,
 "hasMultidimensions": false,
 "supportsStatistics": false,
 "supportsAdvancedQueries": false,
 "editFieldsInfo": null,
 "ownershipBasedAccessControlForRasters": null,
 "allowComputeTiePoints": false,
 "useStandardizedQueries": true,
 "advancedQueryCapabilities": {
  "useStandardizedQueries": true,
  "supportsStatistics": false,
  "supportsOrderBy": false,
  "supportsDistinct": false,
  "supportsPagination": false
 },
 "spatialReference": {
  "wkid": 103104,
  "latestWkid": 6525
 }
}