View In:
ArcGIS JavaScript
ArcGIS Online Map Viewer
ArcGIS Earth
Service Description: Development of this coverage provides wildlife habitat classification within the state of New Hampshire. The New Hampshire Fish and Game Department (NHFG) has worked together with partners in the conservation community to update the State Wildlife Action Plan (SWAP). The plan, which was mandated and funded by the federal government through the State Wildlife Grants program, provides New Hampshire decision-makers with important tools for restoring and maintaining critical habitats and populations of the state's species of conservation and management concern. It is a pro-active effort to define and implement a strategy that will help keep species off of rare species lists.
Name: ImageServices/nhhabitat2025
Description: Development of this coverage provides wildlife habitat classification within the state of New Hampshire. The New Hampshire Fish and Game Department (NHFG) has worked together with partners in the conservation community to update the State Wildlife Action Plan (SWAP). The plan, which was mandated and funded by the federal government through the State Wildlife Grants program, provides New Hampshire decision-makers with important tools for restoring and maintaining critical habitats and populations of the state's species of conservation and management concern. It is a pro-active effort to define and implement a strategy that will help keep species off of rare species lists.
Single Fused Map Cache: false
Extent:
XMin: 745462.272433336
YMin: 72027.09546666883
XMax: 1287554.3641000022
YMax: 1023304.7204666679
Spatial Reference: 103104
(6525)
LatestVCSWkid(0)
Initial Extent:
XMin: 745462.272433336
YMin: 72027.09546666883
XMax: 1287554.3641000022
YMax: 1023304.7204666679
Spatial Reference: 103104
(6525)
LatestVCSWkid(0)
Full Extent:
XMin: 745462.272433336
YMin: 72027.09546666883
XMax: 1287554.3641000022
YMax: 1023304.7204666679
Spatial Reference: 103104
(6525)
LatestVCSWkid(0)
Pixel Size X: 32.80833333333331
Pixel Size Y: 32.8083333333333
Band Count: 1
Pixel Type: U16
RasterFunction Infos: {"rasterFunctionInfos": [
{
"name": "Raster Function Template",
"description": " ",
"help": ""
},
{
"name": "WAP 2025 Habitat",
"description": "WAP 2025 Habitat symbolization",
"help": ""
},
{
"name": "None",
"description": "",
"help": ""
}
]}
Mensuration Capabilities: Basic
Inspection Capabilities:
Has Histograms: true
Has Colormap: false
Has Multi Dimensions : false
Rendering Rule:
Min Scale: 0
Max Scale: 0
Copyright Text: NH Fish and Game Department and its conservation partners, 2025.
Service Data Type: esriImageServiceDataTypeGeneric
Min Values: 2
Max Values: 1933
Mean Values: 279.9804753912713
Standard Deviation Values: 255.78441079239357
Object ID Field:
Fields:
None
Default Mosaic Method: Center
Allowed Mosaic Methods:
SortField:
SortValue: null
Mosaic Operator: First
Default Compression Quality: 75
Default Resampling Method: Bilinear
Max Record Count: null
Max Image Height: 4100
Max Image Width: 15000
Max Download Image Count: null
Max Mosaic Image Count: null
Allow Raster Function: true
Allow Copy: true
Allow Analysis: true
Allow Compute TiePoints: false
Supports Statistics: false
Supports Advanced Queries: false
Use StandardizedQueries: true
Raster Type Infos:
Name: Raster Dataset
Description: Supports all ArcGIS Raster Datasets
Help:
Has Raster Attribute Table: true
Edit Fields Info: null
Ownership Based AccessControl For Rasters: null
Child Resources:
Info
Raster Attribute Table
Histograms
Statistics
Key Properties
Legend
Raster Function Infos
Supported Operations:
Export Image
Identify
Measure
Compute Histograms
Compute Statistics Histograms
Get Samples
Compute Class Statistics
Query Boundary
Compute Pixel Location
Compute Angles
Validate
Project