{ "currentVersion": 11.4, "serviceDescription": "
Development of this coverage provides wildlife habitat classification within the state of New Hampshire. The New Hampshire Fish and Game Department (NHFG) has worked together with partners in the conservation community to update the State Wildlife Action Plan (SWAP). The plan, which was mandated and funded by the federal government through the State Wildlife Grants program, provides New Hampshire decision-makers with important tools for restoring and maintaining critical habitats and populations of the state's species of conservation and management concern. It is a pro-active effort to define and implement a strategy that will help keep species off of rare species lists.<\/SPAN><\/P><\/DIV><\/DIV><\/DIV>",
"name": "ImageServices/nhhabitat2025",
"description": " Development of this coverage provides wildlife habitat classification within the state of New Hampshire. The New Hampshire Fish and Game Department (NHFG) has worked together with partners in the conservation community to update the State Wildlife Action Plan (SWAP). The plan, which was mandated and funded by the federal government through the State Wildlife Grants program, provides New Hampshire decision-makers with important tools for restoring and maintaining critical habitats and populations of the state's species of conservation and management concern. It is a pro-active effort to define and implement a strategy that will help keep species off of rare species lists.<\/span><\/p><\/div><\/div><\/div>",
"extent": {
"xmin": 745462.272433336,
"ymin": 72027.09546666883,
"xmax": 1287554.3641000022,
"ymax": 1023304.7204666679,
"spatialReference": {
"wkid": 103104,
"latestWkid": 6525
}
},
"initialExtent": {
"xmin": 745462.272433336,
"ymin": 72027.09546666883,
"xmax": 1287554.3641000022,
"ymax": 1023304.7204666679,
"spatialReference": {
"wkid": 103104,
"latestWkid": 6525
}
},
"fullExtent": {
"xmin": 745462.272433336,
"ymin": 72027.09546666883,
"xmax": 1287554.3641000022,
"ymax": 1023304.7204666679,
"spatialReference": {
"wkid": 103104,
"latestWkid": 6525
}
},
"sortableFields": "",
"bandCount": 1,
"pixelType": "U16",
"minValues": [
2
],
"maxValues": [
1933
],
"meanValues": [
279.9804753912713
],
"stdvValues": [
255.78441079239357
],
"hasMultidimensions": false,
"pixelSizeX": 32.80833333333331,
"pixelSizeY": 32.8083333333333,
"meanPixelSize": 9.999999999999993,
"datasetFormat": "FGDBR",
"uncompressedSize": 958168770,
"blockWidth": 128,
"blockHeight": 128,
"compressionType": "LZ77",
"bandNames": [
"Band_1"
],
"allowCopy": true,
"allowAnalysis": true,
"itemAccess": false,
"inspectionCapabilities": "",
"minPixelSize": 0,
"maxPixelSize": 0,
"copyrightText": "NH Fish and Game Department and its conservation partners, 2025.",
"serviceDataType": "esriImageServiceDataTypeGeneric",
"serviceSourceType": "esriImageServiceSourceTypeDataset",
"objectIdField": "",
"fields": [],
"capabilities": "Image,Metadata,Pixels,Mensuration",
"defaultMosaicMethod": "Center",
"allowedMosaicMethods": "",
"sortField": "",
"sortValue": null,
"sortAscending": true,
"mosaicOperator": "First",
"defaultCompressionQuality": 75,
"defaultResamplingMethod": "Bilinear",
"maxImageHeight": 4100,
"maxImageWidth": 15000,
"allowRasterFunction": true,
"rasterFunctionInfos": [
{
"name": "Raster Function Template",
"description": " ",
"help": ""
},
{
"name": "WAP 2025 Habitat",
"description": "WAP 2025 Habitat symbolization",
"help": ""
},
{
"name": "None",
"description": "",
"help": ""
}
],
"rasterTypeInfos": [
{
"name": "Raster Dataset",
"description": "Supports all ArcGIS Raster Datasets",
"help": ""
}
],
"mensurationCapabilities": "Basic",
"hasHistograms": true,
"hasColormap": false,
"hasRasterAttributeTable": true,
"minScale": 0,
"maxScale": 0,
"exportTilesAllowed": false,
"supportsStatistics": false,
"supportsAdvancedQueries": false,
"editFieldsInfo": null,
"ownershipBasedAccessControlForRasters": null,
"allowComputeTiePoints": false,
"useStandardizedQueries": true,
"advancedQueryCapabilities": {
"useStandardizedQueries": true,
"supportsStatistics": false,
"supportsOrderBy": false,
"supportsDistinct": false,
"supportsPagination": false
},
"spatialReference": {
"wkid": 103104,
"latestWkid": 6525
}
}