View In:
ArcGIS JavaScript
ArcGIS Online Map Viewer
ArcGIS Earth
Service Description: Copied from final PREP 2015 raster (Q:\IC_2015_1ft\DerivedData.gdb\r_2015_ic_expand_shrink)
Name: ImageServices/imperv2015_bad
Description: Copied from final PREP 2015 raster (Q:\IC_2015_1ft\DerivedData.gdb\r_2015_ic_expand_shrink)
Single Fused Map Cache: false
Extent:
XMin: 1061631.5001159273
YMin: 131033.45339835435
XMax: 1282770.5001159273
YMax: 433391.45339835435
Spatial Reference: 102710
(3437)
LatestVCSWkid(0)
Initial Extent:
XMin: 1061631.5001159273
YMin: 131033.45339835435
XMax: 1282770.5001159273
YMax: 433391.45339835435
Spatial Reference: 102710
(3437)
LatestVCSWkid(0)
Full Extent:
XMin: 1061631.5001159273
YMin: 131033.45339835435
XMax: 1282770.5001159273
YMax: 433391.45339835435
Spatial Reference: 102710
(3437)
LatestVCSWkid(0)
Pixel Size X: 1.0
Pixel Size Y: 1.0
Band Count: 1
Pixel Type: U1
RasterFunction Infos: {"rasterFunctionInfos": [{
"name": "None",
"description": "",
"help": ""
}]}
Mensuration Capabilities: Basic
Inspection Capabilities:
Has Histograms: true
Has Colormap: false
Has Multi Dimensions : false
Rendering Rule:
Min Scale: 0
Max Scale: 0
Copyright Text:
Service Data Type: esriImageServiceDataTypeGeneric
Min Values: 1
Max Values: 1
Mean Values: 1
Standard Deviation Values: 0
Object ID Field:
Fields:
None
Default Mosaic Method: Center
Allowed Mosaic Methods:
SortField:
SortValue: null
Mosaic Operator: First
Default Compression Quality: 75
Default Resampling Method: Bilinear
Max Record Count: null
Max Image Height: 4100
Max Image Width: 15000
Max Download Image Count: null
Max Mosaic Image Count: null
Allow Raster Function: true
Allow Copy: true
Allow Analysis: true
Allow Compute TiePoints: false
Supports Statistics: false
Supports Advanced Queries: false
Use StandardizedQueries: true
Raster Type Infos:
Name: Raster Dataset
Description: Supports all ArcGIS Raster Datasets
Help:
Has Raster Attribute Table: true
Edit Fields Info: null
Ownership Based AccessControl For Rasters: null
Child Resources:
Info
Raster Attribute Table
Histograms
Statistics
Key Properties
Legend
Raster Function Infos
Supported Operations:
Export Image
Identify
Measure
Compute Histograms
Compute Statistics Histograms
Get Samples
Compute Class Statistics
Query Boundary
Compute Pixel Location
Compute Angles
Validate
Project