{ "currentVersion": 11.4, "serviceDescription": "
Copied from final PREP 2015 raster (Q:\\IC_2015_1ft\\DerivedData.gdb\\<\/SPAN>r_2015_ic_expand_shrink)<\/SPAN><\/P><\/DIV><\/DIV><\/DIV>",
"name": "ImageServices/imperv2015_bad",
"description": " Copied from final PREP 2015 raster (Q:\\IC_2015_1ft\\DerivedData.gdb\\<\/SPAN>r_2015_ic_expand_shrink)<\/SPAN><\/P><\/DIV><\/DIV><\/DIV>",
"extent": {
"xmin": 1061631.5001159273,
"ymin": 131033.45339835435,
"xmax": 1282770.5001159273,
"ymax": 433391.45339835435,
"spatialReference": {
"wkid": 102710,
"latestWkid": 3437
}
},
"initialExtent": {
"xmin": 1061631.5001159273,
"ymin": 131033.45339835435,
"xmax": 1282770.5001159273,
"ymax": 433391.45339835435,
"spatialReference": {
"wkid": 102710,
"latestWkid": 3437
}
},
"fullExtent": {
"xmin": 1061631.5001159273,
"ymin": 131033.45339835435,
"xmax": 1282770.5001159273,
"ymax": 433391.45339835435,
"spatialReference": {
"wkid": 102710,
"latestWkid": 3437
}
},
"sortableFields": "",
"bandCount": 1,
"pixelType": "U1",
"minValues": [
1
],
"maxValues": [
1
],
"meanValues": [
1
],
"stdvValues": [
0
],
"hasMultidimensions": false,
"pixelSizeX": 1,
"pixelSizeY": 1,
"meanPixelSize": 0.30480060960121924,
"datasetFormat": "FGDBR",
"uncompressedSize": 8357893221,
"blockWidth": 128,
"blockHeight": 128,
"compressionType": "LZ77",
"bandNames": [
"Band_1"
],
"allowCopy": true,
"allowAnalysis": true,
"itemAccess": false,
"inspectionCapabilities": "",
"minPixelSize": 0,
"maxPixelSize": 0,
"copyrightText": "",
"serviceDataType": "esriImageServiceDataTypeGeneric",
"serviceSourceType": "esriImageServiceSourceTypeDataset",
"objectIdField": "",
"fields": [],
"capabilities": "Image,Metadata,Mensuration",
"defaultMosaicMethod": "Center",
"allowedMosaicMethods": "",
"sortField": "",
"sortValue": null,
"sortAscending": true,
"mosaicOperator": "First",
"defaultCompressionQuality": 75,
"defaultResamplingMethod": "Bilinear",
"maxImageHeight": 4100,
"maxImageWidth": 15000,
"allowRasterFunction": true,
"rasterFunctionInfos": [
{
"name": "None",
"description": "",
"help": ""
}
],
"rasterTypeInfos": [
{
"name": "Raster Dataset",
"description": "Supports all ArcGIS Raster Datasets",
"help": ""
}
],
"mensurationCapabilities": "Basic",
"hasHistograms": true,
"hasColormap": false,
"hasRasterAttributeTable": true,
"minScale": 0,
"maxScale": 0,
"exportTilesAllowed": false,
"supportsStatistics": false,
"supportsAdvancedQueries": false,
"editFieldsInfo": null,
"ownershipBasedAccessControlForRasters": null,
"allowComputeTiePoints": false,
"useStandardizedQueries": true,
"advancedQueryCapabilities": {
"useStandardizedQueries": true,
"supportsStatistics": false,
"supportsOrderBy": false,
"supportsDistinct": false,
"supportsPagination": false
},
"spatialReference": {
"wkid": 102710,
"latestWkid": 3437
}
}