View In:
ArcGIS JavaScript
ArcGIS Online Map Viewer
ArcGIS Earth
Service Description: ImageServices/NH_NAIP_2012_CIR
Name: ImageServices/NH_NAIP_2012
Description: ImageServices/NH_NAIP_2012_CIR
Single Fused Map Cache: false
Extent:
XMin: 712051.9852164948
YMin: 55600.629690690665
XMax: 1284150.578549828
YMax: 1032760.7488573571
Spatial Reference: 102710
(3437)
LatestVCSWkid(0)
Initial Extent:
XMin: 712051.9852164948
YMin: 55600.629690690665
XMax: 1284150.578549828
YMax: 1032760.7488573571
Spatial Reference: 102710
(3437)
LatestVCSWkid(0)
Full Extent:
XMin: 712051.9852164948
YMin: 55600.629690690665
XMax: 1284150.578549828
YMax: 1032760.7488573571
Spatial Reference: 102710
(3437)
LatestVCSWkid(0)
Pixel Size X: 3.2808333333333324
Pixel Size Y: 3.2808333333333324
Band Count: 4
Pixel Type: U8
RasterFunction Infos: {"rasterFunctionInfos": [
{
"name": "MaskOrtho",
"description": "test",
"help": ""
},
{
"name": "None",
"description": "",
"help": ""
}
]}
Mensuration Capabilities: Basic
Inspection Capabilities:
Has Histograms: true
Has Colormap: false
Has Multi Dimensions : false
Rendering Rule:
Min Scale: 0
Max Scale: 0
Copyright Text:
Service Data Type: esriImageServiceDataTypeGeneric
Min Values: 0, 0, 0, 0
Max Values: 255, 255, 255, 255
Mean Values: 53.061131365704, 64.971046249801, 64.378733631567, 95.200379477728
Standard Deviation Values: 56.845730939558, 67.735089980028, 62.810163121898, 99.001427198011
Object ID Field:
Fields:
None
Default Mosaic Method: Center
Allowed Mosaic Methods:
SortField:
SortValue: null
Mosaic Operator: First
Default Compression Quality: 75
Default Resampling Method: Bilinear
Max Record Count: null
Max Image Height: 4100
Max Image Width: 15000
Max Download Image Count: null
Max Mosaic Image Count: null
Allow Raster Function: true
Allow Copy: true
Allow Analysis: true
Allow Compute TiePoints: false
Supports Statistics: false
Supports Advanced Queries: false
Use StandardizedQueries: true
Raster Type Infos:
Name: Raster Dataset
Description: Supports all ArcGIS Raster Datasets
Help:
Has Raster Attribute Table: false
Edit Fields Info: null
Ownership Based AccessControl For Rasters: null
Child Resources:
Info
Histograms
Statistics
Key Properties
Legend
Raster Function Infos
Supported Operations:
Export Image
Identify
Measure
Compute Histograms
Compute Statistics Histograms
Get Samples
Compute Class Statistics
Query Boundary
Compute Pixel Location
Compute Angles
Validate
Project