{
 "currentVersion": 11.4,
 "serviceDescription": "ImageServices/NH_NAIP_2012_CIR",
 "name": "ImageServices/NH_NAIP_2012",
 "description": "ImageServices/NH_NAIP_2012_CIR",
 "extent": {
  "xmin": 712051.9852164948,
  "ymin": 55600.629690690665,
  "xmax": 1284150.578549828,
  "ymax": 1032760.7488573571,
  "spatialReference": {
   "wkid": 102710,
   "latestWkid": 3437
  }
 },
 "initialExtent": {
  "xmin": 712051.9852164948,
  "ymin": 55600.629690690665,
  "xmax": 1284150.578549828,
  "ymax": 1032760.7488573571,
  "spatialReference": {
   "wkid": 102710,
   "latestWkid": 3437
  }
 },
 "fullExtent": {
  "xmin": 712051.9852164948,
  "ymin": 55600.629690690665,
  "xmax": 1284150.578549828,
  "ymax": 1032760.7488573571,
  "spatialReference": {
   "wkid": 102710,
   "latestWkid": 3437
  }
 },
 "sortableFields": "",
 "bandCount": 4,
 "pixelType": "U8",
 "minValues": [
  0,
  0,
  0,
  0
 ],
 "maxValues": [
  255,
  255,
  255,
  255
 ],
 "meanValues": [
  53.061131365704,
  64.971046249801,
  64.378733631567,
  95.200379477728
 ],
 "stdvValues": [
  56.845730939558,
  67.735089980028,
  62.810163121898,
  99.001427198011
 ],
 "hasMultidimensions": false,
 "pixelSizeX": 3.2808333333333324,
 "pixelSizeY": 3.2808333333333324,
 "meanPixelSize": 0.9999999999999999,
 "datasetFormat": "IMAGINE Image",
 "uncompressedSize": 207743893856,
 "blockWidth": 64,
 "blockHeight": 64,
 "compressionType": "None",
 "bandNames": [
  "Layer_1",
  "Layer_2",
  "Layer_3",
  "Layer_4"
 ],
 "allowCopy": true,
 "allowAnalysis": true,
 "itemAccess": false,
 "inspectionCapabilities": "",
 "noDataValue": 256,
 "noDataValues": [
  256,
  256,
  256,
  256
 ],
 "minPixelSize": 0,
 "maxPixelSize": 0,
 "copyrightText": "",
 "serviceDataType": "esriImageServiceDataTypeGeneric",
 "serviceSourceType": "esriImageServiceSourceTypeDataset",
 "objectIdField": "",
 "fields": [],
 "capabilities": "Image,Metadata,Mensuration",
 "defaultMosaicMethod": "Center",
 "allowedMosaicMethods": "",
 "sortField": "",
 "sortValue": null,
 "sortAscending": true,
 "mosaicOperator": "First",
 "defaultCompressionQuality": 75,
 "defaultResamplingMethod": "Bilinear",
 "maxImageHeight": 4100,
 "maxImageWidth": 15000,
 "allowRasterFunction": true,
 "rasterFunctionInfos": [
  {
   "name": "MaskOrtho",
   "description": "test",
   "help": ""
  },
  {
   "name": "None",
   "description": "",
   "help": ""
  }
 ],
 "rasterTypeInfos": [
  {
   "name": "Raster Dataset",
   "description": "Supports all ArcGIS Raster Datasets",
   "help": ""
  }
 ],
 "mensurationCapabilities": "Basic",
 "hasHistograms": true,
 "hasColormap": false,
 "hasRasterAttributeTable": false,
 "minScale": 0,
 "maxScale": 0,
 "exportTilesAllowed": false,
 "supportsStatistics": false,
 "supportsAdvancedQueries": false,
 "editFieldsInfo": null,
 "ownershipBasedAccessControlForRasters": null,
 "allowComputeTiePoints": false,
 "useStandardizedQueries": true,
 "advancedQueryCapabilities": {
  "useStandardizedQueries": true,
  "supportsStatistics": false,
  "supportsOrderBy": false,
  "supportsDistinct": false,
  "supportsPagination": false
 },
 "spatialReference": {
  "wkid": 102710,
  "latestWkid": 3437
 }
}
