View In:
ArcGIS JavaScript
ArcGIS Online Map Viewer
ArcGIS Earth
ArcMap
View Footprint In:
ArcGIS Online Map Viewer
Service Description: Topical/CV_VesselActivity_2012
Name: Topical/CV_VesselActivity_2012
Description:
Single Fused Map Cache: false
Extent:
XMin: 1528404.7531000003
YMin: -239340.9763999991
XMax: 2479904.7531000003
YMax: 976759.0236000009
Spatial Reference: 102008
(102008)
Initial Extent:
XMin: 1528404.7531000003
YMin: -239340.9763999991
XMax: 2479904.7531000003
YMax: 976759.0236000009
Spatial Reference: 102008
(102008)
Full Extent:
XMin: 1528404.7531000003
YMin: -239340.9763999991
XMax: 2479904.7531000003
YMax: 976759.0236000009
Spatial Reference: 102008
(102008)
Pixel Size X: 100.0
Pixel Size Y: 100.0
Band Count: 1
Pixel Type: F32
RasterFunction Infos: {"rasterFunctionInfos": [
{
"name": "Vessel Activity 2012",
"description": "Vessel Activity of CV",
"help": ""
},
{
"name": "None",
"description": "",
"help": ""
}
]}
Mensuration Capabilities: Basic
Has Histograms: true
Has Colormap: false
Has Multi Dimensions : false
Rendering Rule:
Min Scale: 0
Max Scale: 0
Copyright Text:
Service Data Type: esriImageServiceDataTypeGeneric
Min Values: 0
Max Values: 744.2567749023438
Mean Values: 0.02422995432231391
Standard Deviation Values: 0.8887567233839134
Object ID Field:
Fields:
None
Default Mosaic Method: Center
Allowed Mosaic Methods:
SortField:
SortValue: null
Mosaic Operator: First
Default Compression Quality: 75
Default Resampling Method: Bilinear
Max Record Count: null
Max Image Height: 4100
Max Image Width: 15000
Max Download Image Count: null
Max Mosaic Image Count: null
Allow Raster Function: true
Allow Copy: true
Allow Analysis: true
Allow Compute TiePoints: false
Supports Statistics: false
Supports Advanced Queries: false
Use StandardizedQueries: true
Raster Type Infos:
Name: Raster Dataset
Description: Supports all ArcGIS Raster Datasets
Help:
Has Raster Attribute Table: false
Edit Fields Info: null
Ownership Based AccessControl For Rasters: null
Child Resources:
Info
Histograms
Statistics
Key Properties
Legend
Raster Function Infos
Supported Operations:
Export Image
Identify
Measure
Compute Histograms
Compute Statistics Histograms
Get Samples
Compute Class Statistics
Query Boundary
Compute Pixel Location
Compute Angles
Validate
Project