View In:
ArcGIS JavaScript
ArcGIS Online Map Viewer
ArcGIS Earth
ArcMap
View Footprint In:
ArcGIS Online Map Viewer
Service Description: This data set represents a 5-meter resolution LiDAR-derived percent slope layer for New Hampshire. It was generated
from a statewide Esri Mosaic Dataset which comprised 8 separate LiDAR collections that covered the state as of January, 2020. The Mosaic Dataset
was used as input to the ArcGIS Spatial Analyst "Slope" geoprocessing tool which calculates the percent slope for each cell of the input raster,
in this case, the statewide mosaic dataset.
Name: ImageServices/LiDAR_Derived_Slope_Percent_NH
Description: This data set represents a 5-meter resolution LiDAR-derived percent slope layer for New Hampshire. It was generated
from a statewide Esri Mosaic Dataset which comprised 8 separate LiDAR collections that covered the state as of January, 2020. The Mosaic Dataset
was used as input to the ArcGIS Spatial Analyst "Slope" geoprocessing tool which calculates the percent slope for each cell of the input raster,
in this case, the statewide mosaic dataset.
Single Fused Map Cache: false
Extent:
XMin: 711187.2942715406
YMin: -72245.17493458581
XMax: 1278508.9942715417
YMax: 1031738.8375654165
Spatial Reference: 103104
(6525)
Initial Extent:
XMin: 711187.2942715406
YMin: -72245.17493458581
XMax: 1278508.9942715417
YMax: 1031738.8375654165
Spatial Reference: 103104
(6525)
Full Extent:
XMin: 711187.2942715406
YMin: -72245.17493458581
XMax: 1278508.9942715417
YMax: 1031738.8375654165
Spatial Reference: 103104
(6525)
Pixel Size X: 16.4041666666667
Pixel Size Y: 16.4041666666667
Band Count: 1
Pixel Type: S32
RasterFunction Infos: {"rasterFunctionInfos": [{
"name": "None",
"description": "",
"help": ""
}]}
Mensuration Capabilities: Basic
Has Histograms: true
Has Colormap: false
Has Multi Dimensions : false
Rendering Rule:
Min Scale: 0
Max Scale: 0
Copyright Text: LiDAR-Derived Percent Slope - NH, 2020, Earth System Research Center, University of NH (https://granit.unh.edu)
Service Data Type: esriImageServiceDataTypeGeneric
Min Values: 0
Max Values: 883
Mean Values: 15.228635423621
Standard Deviation Values: 14.049788097515
Object ID Field:
Fields:
None
Default Mosaic Method: Center
Allowed Mosaic Methods:
SortField:
SortValue: null
Mosaic Operator: First
Default Compression Quality: 75
Default Resampling Method: Bilinear
Max Record Count: null
Max Image Height: 4100
Max Image Width: 15000
Max Download Image Count: null
Max Mosaic Image Count: null
Allow Raster Function: true
Allow Copy: null
Allow Analysis: null
Allow Compute TiePoints: false
Supports Statistics: false
Supports Advanced Queries: false
Use StandardizedQueries: true
Raster Type Infos:
Name: Raster Dataset
Description: Supports all ArcGIS Raster Datasets
Help:
Has Raster Attribute Table: true
Edit Fields Info: null
Ownership Based AccessControl For Rasters: null
Child Resources:
Info
Raster Attribute Table
Histograms
Key Properties
Legend
Raster Function Infos
Supported Operations:
Export Image
Identify
Measure
Compute Histograms
Compute Statistics Histograms
Get Samples
Compute Class Statistics
Query Boundary
Compute Pixel Location
Compute Angles
Validate
Project