View In:
ArcGIS JavaScript
ArcGIS Online Map Viewer
ArcGIS Earth
ArcMap
View Footprint In:
ArcGIS Online Map Viewer
Service Description: ImageServices/LiDAR_Bare_Earth_HS_NE_NH
Name: ImageServices/LiDAR_Bare_Earth_HS_NE_NH
Description:
Single Fused Map Cache: false
Extent:
XMin: 208801.94421496047
YMin: 4728207.645415292
XMax: 369485.9675830072
YMax: 5020500.000000001
Spatial Reference: 26919
(26919)
VCSWkid(5703)
LatestVCSWkid(5703)
Initial Extent:
XMin: 208801.94421496047
YMin: 4728207.645415292
XMax: 369485.9675830072
YMax: 5020500.000000001
Spatial Reference: 26919
(26919)
VCSWkid(5703)
LatestVCSWkid(5703)
Full Extent:
XMin: 208801.94421496047
YMin: 4728207.645415292
XMax: 369485.9675830072
YMax: 5020500.000000001
Spatial Reference: 26919
(26919)
VCSWkid(5703)
LatestVCSWkid(5703)
Pixel Size X: 0.7620015240030479
Pixel Size Y: 0.7620015240030471
Band Count: 1
Pixel Type: U8
RasterFunction Infos: {"rasterFunctionInfos": [{
"name": "None",
"description": "A No-Op Function.",
"help": ""
}]}
Mensuration Capabilities: None
Has Histograms: true
Has Colormap: false
Has Multi Dimensions : false
Rendering Rule:
Min Scale: 0
Max Scale: 0
Copyright Text:
Service Data Type: esriImageServiceDataTypeProcessed
Min Values: -1.4015581607818604
Max Values: 1906.3404541015625
Mean Values: 297.62367951959254
Standard Deviation Values: 201.304881026042
Object ID Field: OBJECTID
Fields:
-
OBJECTID
(
type: esriFieldTypeOID, alias: OBJECTID
)
-
Shape
(
type: esriFieldTypeGeometry, alias: Shape
)
-
Name
(
type: esriFieldTypeString, alias: Name, length: 50
)
-
MinPS
(
type: esriFieldTypeDouble, alias: MinPS
)
-
MaxPS
(
type: esriFieldTypeDouble, alias: MaxPS
)
-
LowPS
(
type: esriFieldTypeDouble, alias: LowPS
)
-
HighPS
(
type: esriFieldTypeDouble, alias: HighPS
)
-
Category
(
type: esriFieldTypeInteger, alias: Category
, Coded Values:
[0: Unknown]
, [1: Primary]
, [2: Overview]
, ...6 more...
)
-
Tag
(
type: esriFieldTypeString, alias: Tag, length: 20
)
-
GroupName
(
type: esriFieldTypeString, alias: GroupName, length: 50
)
-
ProductName
(
type: esriFieldTypeString, alias: ProductName, length: 50
)
-
CenterX
(
type: esriFieldTypeDouble, alias: CenterX
)
-
CenterY
(
type: esriFieldTypeDouble, alias: CenterY
)
-
ZOrder
(
type: esriFieldTypeInteger, alias: ZOrder
)
-
Shape_Length
(
type: esriFieldTypeDouble, alias: Shape_Length
)
-
Shape_Area
(
type: esriFieldTypeDouble, alias: Shape_Area
)
Default Mosaic Method: Northwest
Allowed Mosaic Methods: NorthWest,Center,LockRaster,ByAttribute,Nadir,Viewpoint,Seamline,None
SortField:
SortValue: null
Mosaic Operator: Mean
Default Compression Quality: 75
Default Resampling Method: Bilinear
Max Record Count: 10000
Max Image Height: 220000
Max Image Width: 450000
Max Download Image Count: 500
Max Mosaic Image Count: 20
Allow Raster Function: true
Allow Copy: null
Allow Analysis: null
Allow Compute TiePoints: false
Supports Statistics: true
Supports Advanced Queries: true
Use StandardizedQueries: true
Raster Type Infos:
Name: Raster Dataset
Description: Supports all ArcGIS Raster Datasets
Help:
Has Raster Attribute Table: false
Edit Fields Info: null
Ownership Based AccessControl For Rasters: null
Child Resources:
Info
Histograms
Key Properties
Legend
Raster Function Infos
Supported Operations:
Export Image
Query
Identify
Compute Histograms
Compute Statistics Histograms
Get Samples
Compute Class Statistics
Query Boundary
Compute Pixel Location
Compute Angles
Validate
Project