View In:
ArcGIS JavaScript
ArcGIS Online Map Viewer
ArcGIS Earth
ArcMap
View Footprint In:
ArcGIS Online Map Viewer
Service Description: This data set represents a 0.76-meter resolution LiDAR-derived bare earth Digital Elevation Model (DEM) layer for New Hampshire. It was generated from a statewide Esri Mosaic Dataset which comprised 7 separate LiDAR collections that covered the state as of, July 2022. The Mosaic Dataset was converted to this img raster data set.
Name: ImageServices/LiDAR_Bare_Earth_DEM_NH_2022
Description: This data set represents a 0.76-meter resolution LiDAR-derived bare earth Digital Elevation Model (DEM) layer for New Hampshire. It was generated from a statewide Esri Mosaic Dataset which comprised 7 separate LiDAR collections that covered the state as of, July 2022. The Mosaic Dataset was converted to this img raster data set.
Single Fused Map Cache: false
Extent:
XMin: 209059.50072263984
YMin: 4726714.123971599
XMax: 373218.25017775985
YMax: 5019972.694948159
Spatial Reference: 26919
(26919)
VCSWkid(5703)
LatestVCSWkid(5703)
Initial Extent:
XMin: 209059.50072263984
YMin: 4726714.123971599
XMax: 373218.25017775985
YMax: 5019972.694948159
Spatial Reference: 26919
(26919)
VCSWkid(5703)
LatestVCSWkid(5703)
Full Extent:
XMin: 209059.50072263984
YMin: 4726714.123971599
XMax: 373218.25017775985
YMax: 5019972.694948159
Spatial Reference: 26919
(26919)
VCSWkid(5703)
LatestVCSWkid(5703)
Pixel Size X: 0.76200152
Pixel Size Y: 0.76200152
Band Count: 1
Pixel Type: F32
RasterFunction Infos: {"rasterFunctionInfos": [{
"name": "None",
"description": "",
"help": ""
}]}
Mensuration Capabilities: Basic
Has Histograms: true
Has Colormap: false
Has Multi Dimensions : false
Rendering Rule:
Min Scale: 0
Max Scale: 0
Copyright Text: NH GRANIT
Service Data Type: esriImageServiceDataTypeGeneric
Min Values: -10.796661376953
Max Values: 1916.1048583984
Mean Values: 336.61135530174
Standard Deviation Values: 227.62292400554
Object ID Field:
Fields:
None
Default Mosaic Method: Center
Allowed Mosaic Methods:
SortField:
SortValue: null
Mosaic Operator: First
Default Compression Quality: 75
Default Resampling Method: Bilinear
Max Record Count: null
Max Image Height: 4100
Max Image Width: 15000
Max Download Image Count: null
Max Mosaic Image Count: null
Allow Raster Function: true
Allow Copy: null
Allow Analysis: null
Allow Compute TiePoints: false
Supports Statistics: false
Supports Advanced Queries: false
Use StandardizedQueries: true
Raster Type Infos:
Name: Raster Dataset
Description: Supports all ArcGIS Raster Datasets
Help:
Has Raster Attribute Table: false
Edit Fields Info: null
Ownership Based AccessControl For Rasters: null
Child Resources:
Info
Histograms
Key Properties
Legend
Raster Function Infos
Supported Operations:
Export Image
Identify
Measure
Compute Histograms
Compute Statistics Histograms
Get Samples
Compute Class Statistics
Query Boundary
Compute Pixel Location
Compute Angles
Validate
Project