View In:
ArcGIS JavaScript
ArcGIS Online Map Viewer
ArcGIS Earth
ArcMap
ArcGIS Pro
View Footprint In:
ArcGIS Online Map Viewer
Service Description: New Hampshire Parcel Mosaic data. This service includes parcel polygons, attributes and linework for areas where parcel polygons are not present.
Map Name: ParcelMosaicTiled
Legend
All Layers and Tables
Dynamic Legend
Dynamic All Layers
Layers:
Tables:
Description: New Hampshire Parcel Mosaic data. This service includes parcel polygons, attributes and linework for areas where parcel polygons are not present.
Copyright Text: NHDRA, Axiomatic, Inc.
Spatial Reference:
102100
(3857)
Single Fused Map Cache: true
Tile Info:
- Height: 256
- Width: 256
- DPI: 96
-
Levels of Detail: 24
-
Level ID: 1
[ Start Tile, End Tile ]
- Resolution: 78271.5169639999
- Scale: 2.95828763795777E8
-
Level ID: 2
[ Start Tile, End Tile ]
- Resolution: 39135.7584820001
- Scale: 1.47914381897889E8
-
Level ID: 3
[ Start Tile, End Tile ]
- Resolution: 19567.8792409999
- Scale: 7.3957190948944E7
-
Level ID: 4
[ Start Tile, End Tile ]
- Resolution: 9783.93962049996
- Scale: 3.6978595474472E7
-
Level ID: 5
[ Start Tile, End Tile ]
- Resolution: 4891.96981024998
- Scale: 1.8489297737236E7
- Format: PNG
- Compression Quality: 0.0
- Origin: X: -2.0037508342787E7
Y: 2.0037508342787E7
- Spatial Reference: 102100
(3857)
Storage Info:
- Storage Format: esriMapCacheStorageModeCompactV2
- Packet Size: 128
Initial Extent:
XMin: -7885172.048282622
YMin: 5311532.799142314
XMax: -7882980.332455528
YMax: 5312978.477913953
Spatial Reference: 102100
Full Extent:
XMin: -8081129.197148295
YMin: 5260898.3515793905
XMax: -7650954.493314436
YMax: 5694070.015461946
Spatial Reference: 102100
Units: esriMeters
Supported Image Format Types: PNG32,PNG24,PNG,JPG,DIB,TIFF,EMF,PS,PDF,GIF,SVG,SVGZ,BMP
Document Info:
Title: Parcel Data
Author:
Comments: New Hampshire Parcel Mosaic data. This service includes parcel polygons, attributes and linework for areas where parcel polygons are not present.
Subject: This data set contains parcel boundaries and associated attribute data for communities in New Hampshire. It is compiled and managed by the NH Department of Revenue Administration to support property tax equalization activities.
Category:
Keywords: Parcels,Cadastral,Municipal,Planning
AntialiasingMode: None
TextAntialiasingMode: Force
Supports Dynamic Layers: true
MaxRecordCount: 2000
MaxImageHeight: 4096
MaxImageWidth: 4096
Supported Query Formats: JSON, geoJSON, PBF
Supports Query Data Elements: true
Min Scale: 2311162.217155
Max Scale: 1128.497176
Min LOD: 8
Max LOD: 19
Supports Datum Transformation: true
Child Resources:
Info
Dynamic Layer
Supported Operations:
Export Map
Identify
QueryLegends
QueryDomains
Find
Return Updates