View In:
ArcGIS JavaScript
ArcGIS Online Map Viewer
ArcGIS Earth
Service Description: ImageServices/NH_NED_2011_HS
Name: ImageServices/NH_NED_2011_HS
Description:
Single Fused Map Cache: false
Extent:
XMin: 745473.875
YMin: 72029.90666666673
XMax: 1242047.567389766
YMax: 1023284.9114669702
Spatial Reference: 102710
(3437)
LatestVCSWkid(0)
Initial Extent:
XMin: 745473.875
YMin: 72029.90666666673
XMax: 1242047.567389766
YMax: 1023284.9114669702
Spatial Reference: 102710
(3437)
LatestVCSWkid(0)
Full Extent:
XMin: 745473.875
YMin: 72029.90666666673
XMax: 1242047.567389766
YMax: 1023284.9114669702
Spatial Reference: 102710
(3437)
LatestVCSWkid(0)
Pixel Size X: 87.64096229964102
Pixel Size Y: 87.640962299641
Band Count: 1
Pixel Type: U8
RasterFunction Infos: {"rasterFunctionInfos": [{
"name": "None",
"description": "",
"help": ""
}]}
Mensuration Capabilities: Basic
Inspection Capabilities:
Has Histograms: true
Has Colormap: false
Has Multi Dimensions : false
Rendering Rule:
Min Scale: 0
Max Scale: 0
Resampling: false
Copyright Text:
Service Data Type: esriImageServiceDataTypeGeneric
Min Values: 0
Max Values: 254
Mean Values: 176.850175532
Standard Deviation Values: 23.353219622541
Object ID Field:
Fields:
None
Default Mosaic Method: Center
Allowed Mosaic Methods:
SortField:
SortValue: null
Mosaic Operator: First
Default Compression Quality: 75
Default Resampling Method: Bilinear
Max Record Count: null
Max Image Height: 4100
Max Image Width: 15000
Max Download Image Count: null
Max Mosaic Image Count: null
Allow Raster Function: true
Allow Copy: true
Allow Analysis: true
Allow Compute TiePoints: false
Supports Statistics: false
Supports Advanced Queries: false
Use StandardizedQueries: true
Raster Type Infos:
Name: Raster Dataset
Description: Supports all ArcGIS Raster Datasets
Help:
Has Raster Attribute Table: true
Edit Fields Info: null
Ownership Based AccessControl For Rasters: null
Child Resources:
Info
Raster Attribute Table
Histograms
Statistics
Key Properties
Legend
Raster Function Infos
Supported Operations:
Export Image
Identify
Measure
Compute Histograms
Compute Statistics Histograms
Get Samples
Compute Class Statistics
Query Boundary
Compute Pixel Location
Compute Angles
Validate
Project