View In:
ArcGIS JavaScript
ArcGIS Online Map Viewer
ArcGIS Earth
Service Description: ImageServices/NH_NAIP_2016_CIR
Name: ImageServices/NH_NAIP_2016_CIR
Description:
Single Fused Map Cache: false
Extent:
XMin: 712052.0286234805
YMin: 55601.898970586946
XMax: 1284147.3411234496
YMax: 1032759.3934705346
Spatial Reference: 103104
(6525)
LatestVCSWkid(0)
Initial Extent:
XMin: 712052.0286234805
YMin: 55601.898970586946
XMax: 1284147.3411234496
YMax: 1032759.3934705346
Spatial Reference: 103104
(6525)
LatestVCSWkid(0)
Full Extent:
XMin: 712052.0286234805
YMin: 55601.898970586946
XMax: 1284147.3411234496
YMax: 1032759.3934705346
Spatial Reference: 103104
(6525)
LatestVCSWkid(0)
Pixel Size X: 1.9684999999998938
Pixel Size Y: 1.9684999999998944
Band Count: 4
Pixel Type: U8
RasterFunction Infos: {"rasterFunctionInfos": [
{
"name": "NH 2016 NAIP CIR",
"description": "NH 2016 NAIP CIR",
"help": ""
},
{
"name": "CIR_Default",
"description": "CIR Color",
"help": ""
},
{
"name": "NH 2003 NAIP RGB",
"description": "NH 2003 NAIP RGB",
"help": ""
},
{
"name": "NH 2009 NAIP RGB",
"description": "NH 2009 NAIP RGB",
"help": ""
},
{
"name": "NH 2010 2011 1ft CIR",
"description": "NH 2010 2011 1ft CIR",
"help": ""
},
{
"name": "NH 2011 NAIP CIR",
"description": "NH 2011 NAIP CIR",
"help": ""
},
{
"name": "NH 2011 NAIP RGB",
"description": "NH 2011 NAIP RGB",
"help": ""
},
{
"name": "NH 2012 NAIP CIR",
"description": "NH 2012 NAIP CIR",
"help": ""
},
{
"name": "NH 2012 NAIP RGB",
"description": "NH 2012 NAIP RGB",
"help": ""
},
{
"name": "NH 2014 NAIP CIR",
"description": "NH 2014 NAIP CIR",
"help": ""
},
{
"name": "NH 2014 NAIP RGB",
"description": "NH 2014 NAIP RGB",
"help": ""
},
{
"name": "NH 2015 CIR",
"description": "NH 2015 CIR",
"help": ""
},
{
"name": "NH 2015 RGB",
"description": "NH 2015 RGB",
"help": ""
},
{
"name": "NH 2016 NAIP RGB",
"description": "NH 2016 NAIP RGB",
"help": ""
},
{
"name": "NH 2018 NAIP CIR",
"description": "NH 2018 NAIP CIR",
"help": ""
},
{
"name": "NH 2018 NAIP RGB",
"description": "NH 2018 NAIP RGB",
"help": ""
},
{
"name": "NH 2021 CIR",
"description": "NH 2021 CIR",
"help": ""
},
{
"name": "NH 2021 NAIP",
"description": "NH 2021 NAIP",
"help": ""
},
{
"name": "NH 2021 RGB",
"description": "NH 2021 RGB",
"help": ""
},
{
"name": "RGB_Default",
"description": "RGB Color",
"help": ""
},
{
"name": "RGB_Default",
"description": "RGB Color",
"help": ""
},
{
"name": "None",
"description": "",
"help": ""
}
]}
Mensuration Capabilities: Basic
Inspection Capabilities:
Has Histograms: true
Has Colormap: false
Has Multi Dimensions : false
Rendering Rule:
Min Scale: 0
Max Scale: 0
Resampling: false
Copyright Text:
Service Data Type: esriImageServiceDataTypeGeneric
Min Values: 0, 0, 0, 0
Max Values: 255, 255, 255, 255
Mean Values: 50.683541380272, 69.721964499041, 64.823076554578, 99.773282761047
Standard Deviation Values: 54.149229270714, 70.673913151948, 63.599594672841, 103.97113421547
Object ID Field:
Fields:
None
Default Mosaic Method: Center
Allowed Mosaic Methods:
SortField:
SortValue: null
Mosaic Operator: First
Default Compression Quality: 75
Default Resampling Method: Bilinear
Max Record Count: null
Max Image Height: 4100
Max Image Width: 15000
Max Download Image Count: null
Max Mosaic Image Count: null
Allow Raster Function: true
Allow Copy: true
Allow Analysis: true
Allow Compute TiePoints: false
Supports Statistics: false
Supports Advanced Queries: false
Use StandardizedQueries: true
Raster Type Infos:
Name: Raster Dataset
Description: Supports all ArcGIS Raster Datasets
Help:
Has Raster Attribute Table: false
Edit Fields Info: null
Ownership Based AccessControl For Rasters: null
Child Resources:
Info
Histograms
Statistics
Key Properties
Legend
Raster Function Infos
Supported Operations:
Export Image
Identify
Measure
Compute Histograms
Compute Statistics Histograms
Get Samples
Compute Class Statistics
Query Boundary
Compute Pixel Location
Compute Angles
Validate
Project