View In:
ArcGIS JavaScript
ArcGIS Online Map Viewer
ArcGIS Earth
Service Description: ImageServices/CV_ResilientandConnectedNetwork2020
Name: ImageServices/CV_ResilientandConnectedNetwork2020
Description:
Single Fused Map Cache: false
Extent:
XMin: 1776874.7474977344
YMin: 2383425.7298947806
XMax: 2074954.7474977344
YMax: 2781795.7298947806
Spatial Reference: 0
(0)
LatestVCSWkid(0)
Initial Extent:
XMin: 1776874.7474977344
YMin: 2383425.7298947806
XMax: 2074954.7474977344
YMax: 2781795.7298947806
Spatial Reference: 0
(0)
LatestVCSWkid(0)
Full Extent:
XMin: 1776874.7474977344
YMin: 2383425.7298947806
XMax: 2074954.7474977344
YMax: 2781795.7298947806
Spatial Reference: 0
(0)
LatestVCSWkid(0)
Pixel Size X: 30.0
Pixel Size Y: 30.0
Band Count: 1
Pixel Type: S32
RasterFunction Infos: {"rasterFunctionInfos": [
{
"name": "Resilient and Connected Network",
"description": "Symbology for the Resilient and Connected Network",
"help": ""
},
{
"name": "None",
"description": "",
"help": ""
}
]}
Mensuration Capabilities: Basic
Inspection Capabilities:
Has Histograms: true
Has Colormap: false
Has Multi Dimensions : false
Rendering Rule:
Min Scale: 0
Max Scale: 0
Copyright Text:
Service Data Type: esriImageServiceDataTypeGeneric
Min Values: 2000100
Max Values: 98300100
Mean Values: 6392222.351250777
Standard Deviation Values: 2177557.057758052
Object ID Field:
Fields:
None
Default Mosaic Method: Center
Allowed Mosaic Methods:
SortField:
SortValue: null
Mosaic Operator: First
Default Compression Quality: 75
Default Resampling Method: Bilinear
Max Record Count: null
Max Image Height: 4100
Max Image Width: 15000
Max Download Image Count: null
Max Mosaic Image Count: null
Allow Raster Function: true
Allow Copy: true
Allow Analysis: true
Allow Compute TiePoints: false
Supports Statistics: false
Supports Advanced Queries: false
Use StandardizedQueries: true
Raster Type Infos:
Name: Raster Dataset
Description: Supports all ArcGIS Raster Datasets
Help:
Has Raster Attribute Table: true
Edit Fields Info: null
Ownership Based AccessControl For Rasters: null
Child Resources:
Info
Raster Attribute Table
Histograms
Statistics
Key Properties
Legend
Raster Function Infos
Supported Operations:
Export Image
Identify
Measure
Compute Histograms
Compute Statistics Histograms
Get Samples
Compute Class Statistics
Query Boundary
Compute Pixel Location
Compute Angles
Validate
Project