{
 "currentVersion": 10.91,
 "serviceDescription": "The NH Coastal Lidar Work Package 183374, Work Unit 183371 project called for the planning, acquisition, processing, and derivative products of lidar data to be collected at a nominal pulse spacing (NPS) of 0.35 meters. Project specifications are based on the U.S. Geological Survey National Geospatial Program Base LiDAR Specification, Version 1.3. The data were developed based on a horizontal projection/datum of NAD 1983 2011 StatePlane New Hampshire FIPS 2800 Ft US, Foot US and vertical datum of NAVD88 Geoid 12b, Foot US. LiDAR data were delivered as processed Classified LAS 1.4 files formatted to 6108 individual 2500 ft x 2500 ft tiles and as 6236 2500 ft x 2500 ft tiled intensity images, and tiled bare earth DEMs; all tiled to the same 2500 ft x 2500 ft schema. Continuous breaklines were produced in Esri file geodatabase format. Some tiles contained no deliverable points due to being over water, which is while tile counts differ.\n       Ground Conditions: LiDAR was collected in fall 2019 and spring 2020, while no snow was on the ground and rivers were at or below normal levels. In order to post process the LiDAR data to meet task order specifications and meet ASPRS vertical accuracy guidelines, NV5 Geospatial, powered by Quantum Spatial utilized a total of 57 ground control points that were used to calibrate the LiDAR to known ground locations established throughout the project area. An additional 146 independent accuracy checkpoints, 83 in Bare Earth and Urban landcovers (83 NVA points), 63 in Tall Weeds categories (63 VVA points), were used to assess the vertical accuracy of the data. These checkpoints were not used to calibrate or post process the data.",
 "name": "ImageServices/Southeast_LiDAR_Bare_Earth_DEM_2019_2020",
 "description": "The NH Coastal Lidar Work Package 183374, Work Unit 183371 project called for the planning, acquisition, processing, and derivative products of lidar data to be collected at a nominal pulse spacing (NPS) of 0.35 meters. Project specifications are based on the U.S. Geological Survey National Geospatial Program Base LiDAR Specification, Version 1.3. The data were developed based on a horizontal projection/datum of NAD 1983 2011 StatePlane New Hampshire FIPS 2800 Ft US, Foot US and vertical datum of NAVD88 Geoid 12b, Foot US. LiDAR data were delivered as processed Classified LAS 1.4 files formatted to 6108 individual 2500 ft x 2500 ft tiles and as 6236 2500 ft x 2500 ft tiled intensity images, and tiled bare earth DEMs; all tiled to the same 2500 ft x 2500 ft schema. Continuous breaklines were produced in Esri file geodatabase format. Some tiles contained no deliverable points due to being over water, which is while tile counts differ.\n       Ground Conditions: LiDAR was collected in fall 2019 and spring 2020, while no snow was on the ground and rivers were at or below normal levels. In order to post process the LiDAR data to meet task order specifications and meet ASPRS vertical accuracy guidelines, NV5 Geospatial, powered by Quantum Spatial utilized a total of 57 ground control points that were used to calibrate the LiDAR to known ground locations established throughout the project area. An additional 146 independent accuracy checkpoints, 83 in Bare Earth and Urban landcovers (83 NVA points), 63 in Tall Weeds categories (63 VVA points), were used to assess the vertical accuracy of the data. These checkpoints were not used to calibrate or post process the data.",
 "extent": {
  "xmin": 927500,
  "ymin": 60000,
  "xmax": 1282500,
  "ymax": 330000,
  "spatialReference": {"wkt": "PROJCS[\"NAD_1983_2011_New_Hampshire_ftUS\",GEOGCS[\"GCS_NAD83_2011\",DATUM[\"D_NAD83_National_Spatial_Reference_System_2011\",SPHEROID[\"GRS_1980\",6378137.0,298.257222101]],PRIMEM[\"Greenwich\",0.0],UNIT[\"Degree\",0.0174532925199433]],PROJECTION[\"Transverse_Mercator\"],PARAMETER[\"false_easting\",984250.0],PARAMETER[\"false_northing\",0.0],PARAMETER[\"central_meridian\",-71.66666666666667],PARAMETER[\"scale_factor\",0.999966667],PARAMETER[\"latitude_of_origin\",42.5],UNIT[\"Foot_US\",0.3048006096012192]],VERTCS[\"NAVD88_height_(ftUS)\",VDATUM[\"North_American_Vertical_Datum_1988\"],PARAMETER[\"Vertical_Shift\",0.0],PARAMETER[\"Direction\",1.0],UNIT[\"Foot_US\",0.3048006096012192]]"}
 },
 "initialExtent": {
  "xmin": 927500,
  "ymin": 60000,
  "xmax": 1282500,
  "ymax": 330000,
  "spatialReference": {"wkt": "PROJCS[\"NAD_1983_2011_New_Hampshire_ftUS\",GEOGCS[\"GCS_NAD83_2011\",DATUM[\"D_NAD83_National_Spatial_Reference_System_2011\",SPHEROID[\"GRS_1980\",6378137.0,298.257222101]],PRIMEM[\"Greenwich\",0.0],UNIT[\"Degree\",0.0174532925199433]],PROJECTION[\"Transverse_Mercator\"],PARAMETER[\"false_easting\",984250.0],PARAMETER[\"false_northing\",0.0],PARAMETER[\"central_meridian\",-71.66666666666667],PARAMETER[\"scale_factor\",0.999966667],PARAMETER[\"latitude_of_origin\",42.5],UNIT[\"Foot_US\",0.3048006096012192]],VERTCS[\"NAVD88_height_(ftUS)\",VDATUM[\"North_American_Vertical_Datum_1988\"],PARAMETER[\"Vertical_Shift\",0.0],PARAMETER[\"Direction\",1.0],UNIT[\"Foot_US\",0.3048006096012192]]"}
 },
 "fullExtent": {
  "xmin": 927500,
  "ymin": 60000,
  "xmax": 1282500,
  "ymax": 330000,
  "spatialReference": {"wkt": "PROJCS[\"NAD_1983_2011_New_Hampshire_ftUS\",GEOGCS[\"GCS_NAD83_2011\",DATUM[\"D_NAD83_National_Spatial_Reference_System_2011\",SPHEROID[\"GRS_1980\",6378137.0,298.257222101]],PRIMEM[\"Greenwich\",0.0],UNIT[\"Degree\",0.0174532925199433]],PROJECTION[\"Transverse_Mercator\"],PARAMETER[\"false_easting\",984250.0],PARAMETER[\"false_northing\",0.0],PARAMETER[\"central_meridian\",-71.66666666666667],PARAMETER[\"scale_factor\",0.999966667],PARAMETER[\"latitude_of_origin\",42.5],UNIT[\"Foot_US\",0.3048006096012192]],VERTCS[\"NAVD88_height_(ftUS)\",VDATUM[\"North_American_Vertical_Datum_1988\"],PARAMETER[\"Vertical_Shift\",0.0],PARAMETER[\"Direction\",1.0],UNIT[\"Foot_US\",0.3048006096012192]]"}
 },
 "heightModelInfo": {
  "heightModel": "gravity_related_height",
  "vertCRS": "NAVD88_height_(ftUS)",
  "heightUnit": "us-foot"
 },
 "pixelSizeX": 1.25,
 "pixelSizeY": 1.25,
 "bandCount": 1,
 "pixelType": "F32",
 "minPixelSize": 0,
 "maxPixelSize": 0,
 "copyrightText": "NH GRANIT",
 "serviceDataType": "esriImageServiceDataTypeGeneric",
 "minValues": [
  -6.199999809265137
 ],
 "maxValues": [
  1397.292724609375
 ],
 "meanValues": [
  264.63685309015193
 ],
 "stdvValues": [
  214.21558966428714
 ],
 "objectIdField": "OBJECTID",
 "fields": [
  {
   "name": "OBJECTID",
   "type": "esriFieldTypeOID",
   "alias": "OBJECTID",
   "domain": null
  },
  {
   "name": "Shape",
   "type": "esriFieldTypeGeometry",
   "alias": "Shape",
   "domain": null
  },
  {
   "name": "Name",
   "type": "esriFieldTypeString",
   "alias": "Name",
   "domain": null,
   "length": 200
  },
  {
   "name": "MinPS",
   "type": "esriFieldTypeDouble",
   "alias": "MinPS",
   "domain": null
  },
  {
   "name": "MaxPS",
   "type": "esriFieldTypeDouble",
   "alias": "MaxPS",
   "domain": null
  },
  {
   "name": "LowPS",
   "type": "esriFieldTypeDouble",
   "alias": "LowPS",
   "domain": null
  },
  {
   "name": "HighPS",
   "type": "esriFieldTypeDouble",
   "alias": "HighPS",
   "domain": null
  },
  {
   "name": "Category",
   "type": "esriFieldTypeInteger",
   "alias": "Category",
   "domain": {
    "type": "codedValue",
    "name": "MosaicCatalogItemCategoryDomain",
    "description": "Catalog item categories.",
    "codedValues": [
     {
      "name": "Unknown",
      "code": 0
     },
     {
      "name": "Primary",
      "code": 1
     },
     {
      "name": "Overview",
      "code": 2
     },
     {
      "name": "Unprocessed Overview",
      "code": 3
     },
     {
      "name": "Partial Overview",
      "code": 4
     },
     {
      "name": "Inactive",
      "code": 5
     },
     {
      "name": "Uploaded",
      "code": 253
     },
     {
      "name": "Incomplete",
      "code": 254
     },
     {
      "name": "Custom",
      "code": 255
     }
    ],
    "mergePolicy": "esriMPTDefaultValue",
    "splitPolicy": "esriSPTDefaultValue"
   }
  },
  {
   "name": "Tag",
   "type": "esriFieldTypeString",
   "alias": "Tag",
   "domain": null,
   "length": 100
  },
  {
   "name": "GroupName",
   "type": "esriFieldTypeString",
   "alias": "GroupName",
   "domain": null,
   "length": 100
  },
  {
   "name": "ProductName",
   "type": "esriFieldTypeString",
   "alias": "ProductName",
   "domain": null,
   "length": 100
  },
  {
   "name": "CenterX",
   "type": "esriFieldTypeDouble",
   "alias": "CenterX",
   "domain": null
  },
  {
   "name": "CenterY",
   "type": "esriFieldTypeDouble",
   "alias": "CenterY",
   "domain": null
  },
  {
   "name": "ZOrder",
   "type": "esriFieldTypeInteger",
   "alias": "ZOrder",
   "domain": null
  },
  {
   "name": "Shape_Length",
   "type": "esriFieldTypeDouble",
   "alias": "Shape_Length",
   "domain": null
  },
  {
   "name": "Shape_Area",
   "type": "esriFieldTypeDouble",
   "alias": "Shape_Area",
   "domain": null
  }
 ],
 "capabilities": "Image,Metadata,Mensuration",
 "defaultMosaicMethod": "Northwest",
 "allowedMosaicMethods": "NorthWest,Center,LockRaster,ByAttribute,Nadir,Viewpoint,Seamline,None",
 "sortField": "",
 "sortValue": null,
 "sortAscending": true,
 "mosaicOperator": "First",
 "maxDownloadSizeLimit": 2048,
 "defaultCompressionQuality": 75,
 "defaultResamplingMethod": "Bilinear",
 "maxImageHeight": 4100,
 "maxImageWidth": 15000,
 "maxRecordCount": 1000,
 "maxDownloadImageCount": 20,
 "maxMosaicImageCount": 20,
 "allowRasterFunction": true,
 "rasterFunctionInfos": [
  {
   "name": "None",
   "description": "A No-Op Function.",
   "help": ""
  }
 ],
 "rasterTypeInfos": [
  {
   "name": "Raster Dataset",
   "description": "Supports all ArcGIS Raster Datasets",
   "help": ""
  }
 ],
 "mensurationCapabilities": "",
 "hasHistograms": true,
 "hasColormap": false,
 "hasRasterAttributeTable": false,
 "minScale": 0,
 "maxScale": 0,
 "exportTilesAllowed": false,
 "hasMultidimensions": false,
 "supportsStatistics": true,
 "supportsAdvancedQueries": true,
 "editFieldsInfo": null,
 "ownershipBasedAccessControlForRasters": null,
 "allowComputeTiePoints": false,
 "useStandardizedQueries": true,
 "advancedQueryCapabilities": {
  "useStandardizedQueries": true,
  "supportsStatistics": true,
  "supportsOrderBy": true,
  "supportsDistinct": true,
  "supportsPagination": true
 },
 "spatialReference": {"wkt": "PROJCS[\"NAD_1983_2011_New_Hampshire_ftUS\",GEOGCS[\"GCS_NAD83_2011\",DATUM[\"D_NAD83_National_Spatial_Reference_System_2011\",SPHEROID[\"GRS_1980\",6378137.0,298.257222101]],PRIMEM[\"Greenwich\",0.0],UNIT[\"Degree\",0.0174532925199433]],PROJECTION[\"Transverse_Mercator\"],PARAMETER[\"false_easting\",984250.0],PARAMETER[\"false_northing\",0.0],PARAMETER[\"central_meridian\",-71.66666666666667],PARAMETER[\"scale_factor\",0.999966667],PARAMETER[\"latitude_of_origin\",42.5],UNIT[\"Foot_US\",0.3048006096012192]],VERTCS[\"NAVD88_height_(ftUS)\",VDATUM[\"North_American_Vertical_Datum_1988\"],PARAMETER[\"Vertical_Shift\",0.0],PARAMETER[\"Direction\",1.0],UNIT[\"Foot_US\",0.3048006096012192]]"}
}