View In:
ArcGIS JavaScript
ArcGIS Online Map Viewer
ArcGIS Earth
ArcMap
View Footprint In:
ArcGIS Online Map Viewer
Service Description: The NH Coastal Lidar Work Package 183374, Work Unit 183371 project called for the planning, acquisition, processing, and derivative products of lidar data to be collected at a nominal pulse spacing (NPS) of 0.35 meters. Project specifications are based on the U.S. Geological Survey National Geospatial Program Base LiDAR Specification, Version 1.3. The data were developed based on a horizontal projection/datum of NAD 1983 2011 StatePlane New Hampshire FIPS 2800 Ft US, Foot US and vertical datum of NAVD88 Geoid 12b, Foot US. LiDAR data were delivered as processed Classified LAS 1.4 files formatted to 6108 individual 2500 ft x 2500 ft tiles and as 6236 2500 ft x 2500 ft tiled intensity images, and tiled bare earth DEMs; all tiled to the same 2500 ft x 2500 ft schema. Continuous breaklines were produced in Esri file geodatabase format. Some tiles contained no deliverable points due to being over water, which is while tile counts differ.
Ground Conditions: LiDAR was collected in fall 2019 and spring 2020, while no snow was on the ground and rivers were at or below normal levels. In order to post process the LiDAR data to meet task order specifications and meet ASPRS vertical accuracy guidelines, NV5 Geospatial, powered by Quantum Spatial utilized a total of 57 ground control points that were used to calibrate the LiDAR to known ground locations established throughout the project area. An additional 146 independent accuracy checkpoints, 83 in Bare Earth and Urban landcovers (83 NVA points), 63 in Tall Weeds categories (63 VVA points), were used to assess the vertical accuracy of the data. These checkpoints were not used to calibrate or post process the data.
Name: ImageServices/Southeast_LiDAR_Bare_Earth_DEM_2019_2020
Description: The NH Coastal Lidar Work Package 183374, Work Unit 183371 project called for the planning, acquisition, processing, and derivative products of lidar data to be collected at a nominal pulse spacing (NPS) of 0.35 meters. Project specifications are based on the U.S. Geological Survey National Geospatial Program Base LiDAR Specification, Version 1.3. The data were developed based on a horizontal projection/datum of NAD 1983 2011 StatePlane New Hampshire FIPS 2800 Ft US, Foot US and vertical datum of NAVD88 Geoid 12b, Foot US. LiDAR data were delivered as processed Classified LAS 1.4 files formatted to 6108 individual 2500 ft x 2500 ft tiles and as 6236 2500 ft x 2500 ft tiled intensity images, and tiled bare earth DEMs; all tiled to the same 2500 ft x 2500 ft schema. Continuous breaklines were produced in Esri file geodatabase format. Some tiles contained no deliverable points due to being over water, which is while tile counts differ.
Ground Conditions: LiDAR was collected in fall 2019 and spring 2020, while no snow was on the ground and rivers were at or below normal levels. In order to post process the LiDAR data to meet task order specifications and meet ASPRS vertical accuracy guidelines, NV5 Geospatial, powered by Quantum Spatial utilized a total of 57 ground control points that were used to calibrate the LiDAR to known ground locations established throughout the project area. An additional 146 independent accuracy checkpoints, 83 in Bare Earth and Urban landcovers (83 NVA points), 63 in Tall Weeds categories (63 VVA points), were used to assess the vertical accuracy of the data. These checkpoints were not used to calibrate or post process the data.
Single Fused Map Cache: false
Extent:
XMin: 927500
YMin: 60000
XMax: 1282500
YMax: 330000
Spatial Reference: PROJCS["NAD_1983_2011_New_Hampshire_ftUS",GEOGCS["GCS_NAD83_2011",DATUM["D_NAD83_National_Spatial_Reference_System_2011",SPHEROID["GRS_1980",6378137.0,298.257222101]],PRIMEM["Greenwich",0.0],UNIT["Degree",0.0174532925199433]],PROJECTION["Transverse_Mercator"],PARAMETER["false_easting",984250.0],PARAMETER["false_northing",0.0],PARAMETER["central_meridian",-71.66666666666667],PARAMETER["scale_factor",0.999966667],PARAMETER["latitude_of_origin",42.5],UNIT["Foot_US",0.3048006096012192]],VERTCS["NAVD88_height_(ftUS)",VDATUM["North_American_Vertical_Datum_1988"],PARAMETER["Vertical_Shift",0.0],PARAMETER["Direction",1.0],UNIT["Foot_US",0.3048006096012192]]
Initial Extent:
XMin: 927500
YMin: 60000
XMax: 1282500
YMax: 330000
Spatial Reference: PROJCS["NAD_1983_2011_New_Hampshire_ftUS",GEOGCS["GCS_NAD83_2011",DATUM["D_NAD83_National_Spatial_Reference_System_2011",SPHEROID["GRS_1980",6378137.0,298.257222101]],PRIMEM["Greenwich",0.0],UNIT["Degree",0.0174532925199433]],PROJECTION["Transverse_Mercator"],PARAMETER["false_easting",984250.0],PARAMETER["false_northing",0.0],PARAMETER["central_meridian",-71.66666666666667],PARAMETER["scale_factor",0.999966667],PARAMETER["latitude_of_origin",42.5],UNIT["Foot_US",0.3048006096012192]],VERTCS["NAVD88_height_(ftUS)",VDATUM["North_American_Vertical_Datum_1988"],PARAMETER["Vertical_Shift",0.0],PARAMETER["Direction",1.0],UNIT["Foot_US",0.3048006096012192]]
Full Extent:
XMin: 927500
YMin: 60000
XMax: 1282500
YMax: 330000
Spatial Reference: PROJCS["NAD_1983_2011_New_Hampshire_ftUS",GEOGCS["GCS_NAD83_2011",DATUM["D_NAD83_National_Spatial_Reference_System_2011",SPHEROID["GRS_1980",6378137.0,298.257222101]],PRIMEM["Greenwich",0.0],UNIT["Degree",0.0174532925199433]],PROJECTION["Transverse_Mercator"],PARAMETER["false_easting",984250.0],PARAMETER["false_northing",0.0],PARAMETER["central_meridian",-71.66666666666667],PARAMETER["scale_factor",0.999966667],PARAMETER["latitude_of_origin",42.5],UNIT["Foot_US",0.3048006096012192]],VERTCS["NAVD88_height_(ftUS)",VDATUM["North_American_Vertical_Datum_1988"],PARAMETER["Vertical_Shift",0.0],PARAMETER["Direction",1.0],UNIT["Foot_US",0.3048006096012192]]
Pixel Size X: 1.25
Pixel Size Y: 1.25
Band Count: 1
Pixel Type: F32
RasterFunction Infos: {"rasterFunctionInfos": [{
"name": "None",
"description": "A No-Op Function.",
"help": ""
}]}
Mensuration Capabilities:
Has Histograms: true
Has Colormap: false
Has Multi Dimensions : false
Rendering Rule:
Min Scale: 0
Max Scale: 0
Copyright Text: NH GRANIT
Service Data Type: esriImageServiceDataTypeGeneric
Min Values: -6.199999809265137
Max Values: 1397.292724609375
Mean Values: 264.63685309015193
Standard Deviation Values: 214.21558966428714
Object ID Field: OBJECTID
Fields:
-
OBJECTID
(
type: esriFieldTypeOID, alias: OBJECTID
)
-
Shape
(
type: esriFieldTypeGeometry, alias: Shape
)
-
Name
(
type: esriFieldTypeString, alias: Name, length: 200
)
-
MinPS
(
type: esriFieldTypeDouble, alias: MinPS
)
-
MaxPS
(
type: esriFieldTypeDouble, alias: MaxPS
)
-
LowPS
(
type: esriFieldTypeDouble, alias: LowPS
)
-
HighPS
(
type: esriFieldTypeDouble, alias: HighPS
)
-
Category
(
type: esriFieldTypeInteger, alias: Category
, Coded Values:
[0: Unknown]
, [1: Primary]
, [2: Overview]
, ...6 more...
)
-
Tag
(
type: esriFieldTypeString, alias: Tag, length: 100
)
-
GroupName
(
type: esriFieldTypeString, alias: GroupName, length: 100
)
-
ProductName
(
type: esriFieldTypeString, alias: ProductName, length: 100
)
-
CenterX
(
type: esriFieldTypeDouble, alias: CenterX
)
-
CenterY
(
type: esriFieldTypeDouble, alias: CenterY
)
-
ZOrder
(
type: esriFieldTypeInteger, alias: ZOrder
)
-
Shape_Length
(
type: esriFieldTypeDouble, alias: Shape_Length
)
-
Shape_Area
(
type: esriFieldTypeDouble, alias: Shape_Area
)
Default Mosaic Method: Northwest
Allowed Mosaic Methods: NorthWest,Center,LockRaster,ByAttribute,Nadir,Viewpoint,Seamline,None
SortField:
SortValue: null
Mosaic Operator: First
Default Compression Quality: 75
Default Resampling Method: Bilinear
Max Record Count: 1000
Max Image Height: 4100
Max Image Width: 15000
Max Download Image Count: 20
Max Mosaic Image Count: 20
Allow Raster Function: true
Allow Copy: null
Allow Analysis: null
Allow Compute TiePoints: false
Supports Statistics: true
Supports Advanced Queries: true
Use StandardizedQueries: true
Raster Type Infos:
Name: Raster Dataset
Description: Supports all ArcGIS Raster Datasets
Help:
Has Raster Attribute Table: false
Edit Fields Info: null
Ownership Based AccessControl For Rasters: null
Child Resources:
Info
Histograms
Key Properties
Legend
Raster Function Infos
Supported Operations:
Export Image
Identify
Measure
Compute Histograms
Compute Statistics Histograms
Get Samples
Compute Class Statistics
Query Boundary
Compute Pixel Location
Compute Angles
Validate
Project