{
 "currentVersion": 10.91,
 "serviceDescription": "2011 NED hillshade for New Hampshire",
 "name": "ImageServices/NH_NED_2011_HS",
 "description": "2011 NED hillshade for New Hampshire",
 "extent": {
  "xmin": 745473.875,
  "ymin": 72029.90666666673,
  "xmax": 1242047.567389766,
  "ymax": 1023284.9114669702,
  "spatialReference": {
   "wkid": 102710,
   "latestWkid": 3437
  }
 },
 "initialExtent": {
  "xmin": 745473.875,
  "ymin": 72029.90666666673,
  "xmax": 1242047.567389766,
  "ymax": 1023284.9114669702,
  "spatialReference": {
   "wkid": 102710,
   "latestWkid": 3437
  }
 },
 "fullExtent": {
  "xmin": 745473.875,
  "ymin": 72029.90666666673,
  "xmax": 1242047.567389766,
  "ymax": 1023284.9114669702,
  "spatialReference": {
   "wkid": 102710,
   "latestWkid": 3437
  }
 },
 "pixelSizeX": 87.64096229964102,
 "pixelSizeY": 87.640962299641,
 "bandCount": 1,
 "pixelType": "U8",
 "minPixelSize": 0,
 "maxPixelSize": 0,
 "copyrightText": "",
 "serviceDataType": "esriImageServiceDataTypeGeneric",
 "minValues": [
  0
 ],
 "maxValues": [
  254
 ],
 "meanValues": [
  176.850175532
 ],
 "stdvValues": [
  23.353219622541
 ],
 "objectIdField": "",
 "fields": [],
 "capabilities": "Image,Metadata,Mensuration",
 "defaultMosaicMethod": "Center",
 "allowedMosaicMethods": "",
 "sortField": "",
 "sortValue": null,
 "sortAscending": true,
 "mosaicOperator": "First",
 "defaultCompressionQuality": 75,
 "defaultResamplingMethod": "Bilinear",
 "maxImageHeight": 4100,
 "maxImageWidth": 15000,
 "allowRasterFunction": true,
 "rasterFunctionInfos": [
  {
   "name": "None",
   "description": "",
   "help": ""
  }
 ],
 "rasterTypeInfos": [
  {
   "name": "Raster Dataset",
   "description": "Supports all ArcGIS Raster Datasets",
   "help": ""
  }
 ],
 "mensurationCapabilities": "Basic",
 "hasHistograms": true,
 "hasColormap": false,
 "hasRasterAttributeTable": true,
 "minScale": 0,
 "maxScale": 0,
 "exportTilesAllowed": false,
 "hasMultidimensions": false,
 "supportsStatistics": false,
 "supportsAdvancedQueries": false,
 "editFieldsInfo": null,
 "ownershipBasedAccessControlForRasters": null,
 "allowComputeTiePoints": false,
 "useStandardizedQueries": true,
 "advancedQueryCapabilities": {
  "useStandardizedQueries": true,
  "supportsStatistics": false,
  "supportsOrderBy": false,
  "supportsDistinct": false,
  "supportsPagination": false
 },
 "spatialReference": {
  "wkid": 102710,
  "latestWkid": 3437
 }
}
