{
 "currentVersion": 10.91,
 "serviceDescription": "This data set contains imagery from the National Agriculture Imagery Program (NAIP) covering New Hampshire and displayed as RGB. \nThe NAIP program is administered by USDA FSA and has been established to support two \nmain FSA strategic goals centered on agricultural production. These are, increase stewardship of\nAmerica's natural resources while enhancing the environment, and to ensure commodities\nare procured and distributed effectively and efficiently to increase food security. \nThe NAIP program supports these goals by acquiring and providing ortho imagery that has \nbeen collected during the agricultural growing season in the U.S. The NAIP ortho imagery is tailored \nto meet FSA requirements and is a fundamental tool used to support FSA farm and conservation\nprograms.  Ortho imagery provides an effective, intuitive means of communication about farm \nprogram administration between FSA and stakeholders.\n\nNew technology and innovation is identified by fostering and maintaining a relationship with vendors \nand government partners, and by keeping pace with the broader geospatial community.  As a result \nof these efforts the NAIP program provides three main products: DOQQ tiles, Compressed County \nMosaics (CCM), and Seamline shape files The Contract specifications for NAIP imagery have changed\nover time reflecting agency requirements and improving technologies.  These changes include image \nresolution, horizontal accuracy, coverage area, and number of bands. In general, flying seasons are \nestablished by FSA and are targeted for peak crop growing conditions.  The NAIP acquisition cycle \nis based on a minimum 3 year refresh of base ortho imagery.  The tiling format of the NAIP imagery \nis based on a 3.75' x 3.75' quarter quadrangle with a 300 pixel buffer on all four sides.  \nNAIP quarter quads are formatted to the UTM coordinate system using the North American Datum of 1983.\nNAIP imagery may contain as much as 10% cloud cover per tile.\n\nNH GRANIT performed additional processing to mosaic the DOQQ tiles into a statewide mosaic while also \nconverting the spatial reference system from UTM to NH Stateplane. Users will also notice a distinct\nseamline where snowfall is present in the north west and southern sectors of the imagery. These \nconditions were present in the source data and therefore could not be avoided.",
 "name": "ImageServices/NH_NAIP_2018_RGB",
 "description": "This data set contains imagery from the National Agriculture Imagery Program (NAIP) covering New Hampshire and displayed as RGB. \nThe NAIP program is administered by USDA FSA and has been established to support two \nmain FSA strategic goals centered on agricultural production. These are, increase stewardship of\nAmerica's natural resources while enhancing the environment, and to ensure commodities\nare procured and distributed effectively and efficiently to increase food security. \nThe NAIP program supports these goals by acquiring and providing ortho imagery that has \nbeen collected during the agricultural growing season in the U.S. The NAIP ortho imagery is tailored \nto meet FSA requirements and is a fundamental tool used to support FSA farm and conservation\nprograms.  Ortho imagery provides an effective, intuitive means of communication about farm \nprogram administration between FSA and stakeholders.\n\nNew technology and innovation is identified by fostering and maintaining a relationship with vendors \nand government partners, and by keeping pace with the broader geospatial community.  As a result \nof these efforts the NAIP program provides three main products: DOQQ tiles, Compressed County \nMosaics (CCM), and Seamline shape files The Contract specifications for NAIP imagery have changed\nover time reflecting agency requirements and improving technologies.  These changes include image \nresolution, horizontal accuracy, coverage area, and number of bands. In general, flying seasons are \nestablished by FSA and are targeted for peak crop growing conditions.  The NAIP acquisition cycle \nis based on a minimum 3 year refresh of base ortho imagery.  The tiling format of the NAIP imagery \nis based on a 3.75' x 3.75' quarter quadrangle with a 300 pixel buffer on all four sides.  \nNAIP quarter quads are formatted to the UTM coordinate system using the North American Datum of 1983.\nNAIP imagery may contain as much as 10% cloud cover per tile.\n\nNH GRANIT performed additional processing to mosaic the DOQQ tiles into a statewide mosaic while also \nconverting the spatial reference system from UTM to NH Stateplane. Users will also notice a distinct\nseamline where snowfall is present in the north west and southern sectors of the imagery. These \nconditions were present in the source data and therefore could not be avoided.",
 "extent": {
  "xmin": 741950.5886259973,
  "ymin": 66787.973949951,
  "xmax": 1281370.769625971,
  "ymax": 1027236.8404499041,
  "spatialReference": {
   "wkid": 103104,
   "latestWkid": 6525,
   "vcsWkid": 105703,
   "latestVcsWkid": 6360
  }
 },
 "initialExtent": {
  "xmin": 741950.5886259973,
  "ymin": 66787.973949951,
  "xmax": 1281370.769625971,
  "ymax": 1027236.8404499041,
  "spatialReference": {
   "wkid": 103104,
   "latestWkid": 6525,
   "vcsWkid": 105703,
   "latestVcsWkid": 6360
  }
 },
 "fullExtent": {
  "xmin": 741950.5886259973,
  "ymin": 66787.973949951,
  "xmax": 1281370.769625971,
  "ymax": 1027236.8404499041,
  "spatialReference": {
   "wkid": 103104,
   "latestWkid": 6525,
   "vcsWkid": 105703,
   "latestVcsWkid": 6360
  }
 },
 "heightModelInfo": {
  "heightModel": "gravity_related_height",
  "vertCRS": "NAVD_1988_Foot_US",
  "heightUnit": "us-foot"
 },
 "pixelSizeX": 1.9684999999999044,
 "pixelSizeY": 1.9684999999999038,
 "bandCount": 3,
 "pixelType": "U8",
 "minPixelSize": 0,
 "maxPixelSize": 0,
 "copyrightText": "USDA, NH GRANIT",
 "serviceDataType": "esriImageServiceDataTypeRGB",
 "minValues": [],
 "maxValues": [],
 "meanValues": [],
 "stdvValues": [],
 "objectIdField": "",
 "fields": [],
 "capabilities": "Image,Metadata,Mensuration",
 "defaultMosaicMethod": "Center",
 "allowedMosaicMethods": "",
 "sortField": "",
 "sortValue": null,
 "sortAscending": true,
 "mosaicOperator": "First",
 "defaultCompressionQuality": 75,
 "defaultResamplingMethod": "Bilinear",
 "maxImageHeight": 4100,
 "maxImageWidth": 15000,
 "allowRasterFunction": true,
 "rasterFunctionInfos": [
  {
   "name": "None",
   "description": "",
   "help": ""
  }
 ],
 "rasterTypeInfos": [
  {
   "name": "Raster Dataset",
   "description": "Supports all ArcGIS Raster Datasets",
   "help": ""
  }
 ],
 "mensurationCapabilities": "Basic",
 "hasHistograms": false,
 "hasColormap": false,
 "hasRasterAttributeTable": false,
 "minScale": 0,
 "maxScale": 0,
 "exportTilesAllowed": false,
 "hasMultidimensions": false,
 "supportsStatistics": false,
 "supportsAdvancedQueries": false,
 "editFieldsInfo": null,
 "ownershipBasedAccessControlForRasters": null,
 "allowComputeTiePoints": false,
 "useStandardizedQueries": true,
 "advancedQueryCapabilities": {
  "useStandardizedQueries": true,
  "supportsStatistics": false,
  "supportsOrderBy": false,
  "supportsDistinct": false,
  "supportsPagination": false
 },
 "spatialReference": {
  "wkid": 103104,
  "latestWkid": 6525,
  "vcsWkid": 105703,
  "latestVcsWkid": 6360
 }
}