View In:
ArcGIS JavaScript
ArcGIS Online Map Viewer
ArcGIS Earth
ArcMap
View Footprint In:
ArcGIS Online Map Viewer
Service Description: This data set contains imagery from the National Agriculture Imagery Program (NAIP) covering New Hampshire and displayed as RGB. The NAIP program is administered by USDA FSA and has been established to support two main FSA strategic goals centered on agricultural production. These are, increase stewardship of
America's natural resources while enhancing the environment, and to ensure commodities
are procured and distributed effectively and efficiently to increase food security. The NAIP program supports these goals by acquiring and providing ortho imagery that has been collected during the agricultural growing season in the U.S. The NAIP ortho imagery is tailored to meet FSA requirements and is a fundamental tool used to support FSA farm and conservation
programs. Ortho imagery provides an effective, intuitive means of communication about farm program administration between FSA and stakeholders.
New technology and innovation is identified by fostering and maintaining a relationship with vendors and government partners, and by keeping pace with the broader geospatial community. As a result of these efforts the NAIP program provides three main products: DOQQ tiles, Compressed County Mosaics (CCM), and Seamline shape files The Contract specifications for NAIP imagery have changed
over time reflecting agency requirements and improving technologies. These changes include image resolution, horizontal accuracy, coverage area, and number of bands. In general, flying seasons are established by FSA and are targeted for peak crop growing conditions. The NAIP acquisition cycle is based on a minimum 3 year refresh of base ortho imagery. The tiling format of the NAIP imagery is based on a 3.75' x 3.75' quarter quadrangle with a 300 pixel buffer on all four sides. NAIP quarter quads are formatted to the UTM coordinate system using the North American Datum of 1983.
NAIP imagery may contain as much as 10% cloud cover per tile.
NH GRANIT performed additional processing to mosaic the DOQQ tiles into a statewide mosaic while also converting the spatial reference system from UTM to NH Stateplane. Users will also notice a distinct
seamline where snowfall is present in the north west and southern sectors of the imagery. These conditions were present in the source data and therefore could not be avoided.
Name: ImageServices/NH_NAIP_2018_RGB
Description: This data set contains imagery from the National Agriculture Imagery Program (NAIP) covering New Hampshire and displayed as RGB. The NAIP program is administered by USDA FSA and has been established to support two main FSA strategic goals centered on agricultural production. These are, increase stewardship of
America's natural resources while enhancing the environment, and to ensure commodities
are procured and distributed effectively and efficiently to increase food security. The NAIP program supports these goals by acquiring and providing ortho imagery that has been collected during the agricultural growing season in the U.S. The NAIP ortho imagery is tailored to meet FSA requirements and is a fundamental tool used to support FSA farm and conservation
programs. Ortho imagery provides an effective, intuitive means of communication about farm program administration between FSA and stakeholders.
New technology and innovation is identified by fostering and maintaining a relationship with vendors and government partners, and by keeping pace with the broader geospatial community. As a result of these efforts the NAIP program provides three main products: DOQQ tiles, Compressed County Mosaics (CCM), and Seamline shape files The Contract specifications for NAIP imagery have changed
over time reflecting agency requirements and improving technologies. These changes include image resolution, horizontal accuracy, coverage area, and number of bands. In general, flying seasons are established by FSA and are targeted for peak crop growing conditions. The NAIP acquisition cycle is based on a minimum 3 year refresh of base ortho imagery. The tiling format of the NAIP imagery is based on a 3.75' x 3.75' quarter quadrangle with a 300 pixel buffer on all four sides. NAIP quarter quads are formatted to the UTM coordinate system using the North American Datum of 1983.
NAIP imagery may contain as much as 10% cloud cover per tile.
NH GRANIT performed additional processing to mosaic the DOQQ tiles into a statewide mosaic while also converting the spatial reference system from UTM to NH Stateplane. Users will also notice a distinct
seamline where snowfall is present in the north west and southern sectors of the imagery. These conditions were present in the source data and therefore could not be avoided.
Single Fused Map Cache: false
Extent:
XMin: 741950.5886259973
YMin: 66787.973949951
XMax: 1281370.769625971
YMax: 1027236.8404499041
Spatial Reference: 103104
(6525)
VCSWkid(105703)
LatestVCSWkid(6360)
Initial Extent:
XMin: 741950.5886259973
YMin: 66787.973949951
XMax: 1281370.769625971
YMax: 1027236.8404499041
Spatial Reference: 103104
(6525)
VCSWkid(105703)
LatestVCSWkid(6360)
Full Extent:
XMin: 741950.5886259973
YMin: 66787.973949951
XMax: 1281370.769625971
YMax: 1027236.8404499041
Spatial Reference: 103104
(6525)
VCSWkid(105703)
LatestVCSWkid(6360)
Pixel Size X: 1.9684999999999044
Pixel Size Y: 1.9684999999999038
Band Count: 3
Pixel Type: U8
RasterFunction Infos: {"rasterFunctionInfos": [{
"name": "None",
"description": "",
"help": ""
}]}
Mensuration Capabilities: Basic
Has Histograms: false
Has Colormap: false
Has Multi Dimensions : false
Rendering Rule:
Min Scale: 0
Max Scale: 0
Copyright Text: USDA, NH GRANIT
Service Data Type: esriImageServiceDataTypeRGB
Min Values: N/A
Max Values: N/A
Mean Values: N/A
Standard Deviation Values: N/A
Object ID Field:
Fields:
None
Default Mosaic Method: Center
Allowed Mosaic Methods:
SortField:
SortValue: null
Mosaic Operator: First
Default Compression Quality: 75
Default Resampling Method: Bilinear
Max Record Count: null
Max Image Height: 4100
Max Image Width: 15000
Max Download Image Count: null
Max Mosaic Image Count: null
Allow Raster Function: true
Allow Copy: null
Allow Analysis: null
Allow Compute TiePoints: false
Supports Statistics: false
Supports Advanced Queries: false
Use StandardizedQueries: true
Raster Type Infos:
Name: Raster Dataset
Description: Supports all ArcGIS Raster Datasets
Help:
Has Raster Attribute Table: false
Edit Fields Info: null
Ownership Based AccessControl For Rasters: null
Child Resources:
Info
Key Properties
Legend
Raster Function Infos
Supported Operations:
Export Image
Identify
Measure
Compute Histograms
Compute Statistics Histograms
Get Samples
Compute Class Statistics
Query Boundary
Compute Pixel Location
Compute Angles
Validate
Project