{
 "currentVersion": 10.91,
 "serviceDescription": "The 2016 60-centimeter NAIP image mosaic for New Hampshire (RGB) is composed of 4 band GeoTIFF images acquired from the National Agriculture Imagery Program (NAIP). \n\nThe NAIP program is administered by USDA FSA and has been established to support two main FSA strategic goals centered on agricultural production. These are, increase stewardship of America's natural resources while enhancing the environment, and to ensure commodities are procured and distributed effectively and efficiently to increase food security. The NAIP program supports these goals by acquiring and providing ortho imagery that has been collected during the agricultural growing season in the U.S. The NAIP ortho imagery is tailored to meet FSA requirements and is a fundamental tool used to support FSA farm and conservation programs. Ortho imagery provides an effective, intuitive means of communication about farm program administration between FSA and stakeholders.",
 "name": "ImageServices/NH_NAIP_2016_RGB",
 "description": "The 2016 60-centimeter NAIP image mosaic for New Hampshire (RGB) is composed of 4 band GeoTIFF images acquired from the National Agriculture Imagery Program (NAIP). \n\nThe NAIP program is administered by USDA FSA and has been established to support two main FSA strategic goals centered on agricultural production. These are, increase stewardship of America's natural resources while enhancing the environment, and to ensure commodities are procured and distributed effectively and efficiently to increase food security. The NAIP program supports these goals by acquiring and providing ortho imagery that has been collected during the agricultural growing season in the U.S. The NAIP ortho imagery is tailored to meet FSA requirements and is a fundamental tool used to support FSA farm and conservation programs. Ortho imagery provides an effective, intuitive means of communication about farm program administration between FSA and stakeholders.",
 "extent": {
  "xmin": 712052.0286234805,
  "ymin": 55601.898970587295,
  "xmax": 1284147.3411234496,
  "ymax": 1032759.3934705346,
  "spatialReference": {
   "wkid": 103104,
   "latestWkid": 6525
  }
 },
 "initialExtent": {
  "xmin": 712052.0286234805,
  "ymin": 55601.898970587295,
  "xmax": 1284147.3411234496,
  "ymax": 1032759.3934705346,
  "spatialReference": {
   "wkid": 103104,
   "latestWkid": 6525
  }
 },
 "fullExtent": {
  "xmin": 712052.0286234805,
  "ymin": 55601.898970587295,
  "xmax": 1284147.3411234496,
  "ymax": 1032759.3934705346,
  "spatialReference": {
   "wkid": 103104,
   "latestWkid": 6525
  }
 },
 "pixelSizeX": 1.9684999999998938,
 "pixelSizeY": 1.9684999999998938,
 "bandCount": 3,
 "pixelType": "U8",
 "minPixelSize": 0,
 "maxPixelSize": 0,
 "copyrightText": "",
 "serviceDataType": "esriImageServiceDataTypeRGB",
 "minValues": [],
 "maxValues": [],
 "meanValues": [],
 "stdvValues": [],
 "objectIdField": "",
 "fields": [],
 "capabilities": "Image,Metadata,Mensuration",
 "defaultMosaicMethod": "Center",
 "allowedMosaicMethods": "",
 "sortField": "",
 "sortValue": null,
 "sortAscending": true,
 "mosaicOperator": "First",
 "defaultCompressionQuality": 75,
 "defaultResamplingMethod": "Bilinear",
 "maxImageHeight": 4100,
 "maxImageWidth": 15000,
 "allowRasterFunction": true,
 "rasterFunctionInfos": [
  {
   "name": "None",
   "description": "",
   "help": ""
  }
 ],
 "rasterTypeInfos": [
  {
   "name": "Raster Dataset",
   "description": "Supports all ArcGIS Raster Datasets",
   "help": ""
  }
 ],
 "mensurationCapabilities": "Basic",
 "hasHistograms": false,
 "hasColormap": false,
 "hasRasterAttributeTable": false,
 "minScale": 0,
 "maxScale": 0,
 "exportTilesAllowed": false,
 "hasMultidimensions": false,
 "supportsStatistics": false,
 "supportsAdvancedQueries": false,
 "editFieldsInfo": null,
 "ownershipBasedAccessControlForRasters": null,
 "allowComputeTiePoints": false,
 "useStandardizedQueries": true,
 "advancedQueryCapabilities": {
  "useStandardizedQueries": true,
  "supportsStatistics": false,
  "supportsOrderBy": false,
  "supportsDistinct": false,
  "supportsPagination": false
 },
 "spatialReference": {
  "wkid": 103104,
  "latestWkid": 6525
 }
}
