View In:
ArcGIS JavaScript
ArcGIS Online Map Viewer
ArcGIS Earth
ArcMap
View Footprint In:
ArcGIS Online Map Viewer
Service Description: ImageServices/NH_NAIP_2016_CIR
Name: ImageServices/NH_NAIP_2016_CIR
Description:
Single Fused Map Cache: false
Extent:
XMin: 712052.0286234805
YMin: 55601.898970587295
XMax: 1284147.3411234496
YMax: 1032759.3934705346
Spatial Reference: 103104
(6525)
Initial Extent:
XMin: 712052.0286234805
YMin: 55601.898970587295
XMax: 1284147.3411234496
YMax: 1032759.3934705346
Spatial Reference: 103104
(6525)
Full Extent:
XMin: 712052.0286234805
YMin: 55601.898970587295
XMax: 1284147.3411234496
YMax: 1032759.3934705346
Spatial Reference: 103104
(6525)
Pixel Size X: 1.9684999999998938
Pixel Size Y: 1.9684999999998938
Band Count: 3
Pixel Type: U8
RasterFunction Infos: {"rasterFunctionInfos": [{
"name": "None",
"description": "",
"help": ""
}]}
Mensuration Capabilities: Basic
Has Histograms: false
Has Colormap: false
Has Multi Dimensions : false
Rendering Rule:
Min Scale: 0
Max Scale: 0
Copyright Text:
Service Data Type: esriImageServiceDataTypeRGB
Min Values: N/A
Max Values: N/A
Mean Values: N/A
Standard Deviation Values: N/A
Object ID Field:
Fields:
None
Default Mosaic Method: Center
Allowed Mosaic Methods:
SortField:
SortValue: null
Mosaic Operator: First
Default Compression Quality: 75
Default Resampling Method: Bilinear
Max Record Count: null
Max Image Height: 4100
Max Image Width: 15000
Max Download Image Count: null
Max Mosaic Image Count: null
Allow Raster Function: true
Allow Copy: null
Allow Analysis: null
Allow Compute TiePoints: false
Supports Statistics: false
Supports Advanced Queries: false
Use StandardizedQueries: true
Raster Type Infos:
Name: Raster Dataset
Description: Supports all ArcGIS Raster Datasets
Help:
Has Raster Attribute Table: false
Edit Fields Info: null
Ownership Based AccessControl For Rasters: null
Child Resources:
Info
Key Properties
Legend
Raster Function Infos
Supported Operations:
Export Image
Identify
Measure
Compute Histograms
Compute Statistics Histograms
Get Samples
Compute Class Statistics
Query Boundary
Compute Pixel Location
Compute Angles
Validate
Project