{
 "currentVersion": 10.91,
 "serviceDescription": "ImageServices/NH_NAIP_2009_RGB",
 "name": "ImageServices/NH_NAIP_2009_RGB",
 "description": "",
 "extent": {
  "xmin": 744763.2236752033,
  "ymin": 67768.65958322305,
  "xmax": 1276751.060023322,
  "ymax": 1025734.8833602578,
  "spatialReference": {
   "wkid": 102710,
   "latestWkid": 3437
  }
 },
 "initialExtent": {
  "xmin": 744763.2236752033,
  "ymin": 67768.65958322305,
  "xmax": 1276751.060023322,
  "ymax": 1025734.8833602578,
  "spatialReference": {
   "wkid": 102710,
   "latestWkid": 3437
  }
 },
 "fullExtent": {
  "xmin": 744763.2236752033,
  "ymin": 67768.65958322305,
  "xmax": 1276751.060023322,
  "ymax": 1025734.8833602578,
  "spatialReference": {
   "wkid": 102710,
   "latestWkid": 3437
  }
 },
 "pixelSizeX": 3.363243937791959,
 "pixelSizeY": 3.363243937791959,
 "bandCount": 3,
 "pixelType": "U8",
 "minPixelSize": 0,
 "maxPixelSize": 0,
 "copyrightText": "",
 "serviceDataType": "esriImageServiceDataTypeRGB",
 "minValues": [],
 "maxValues": [],
 "meanValues": [],
 "stdvValues": [],
 "objectIdField": "",
 "fields": [],
 "capabilities": "Mensuration,Image,Metadata",
 "defaultMosaicMethod": "Center",
 "allowedMosaicMethods": "",
 "sortField": "",
 "sortValue": null,
 "sortAscending": true,
 "mosaicOperator": "First",
 "defaultCompressionQuality": 75,
 "defaultResamplingMethod": "Bilinear",
 "maxImageHeight": 4100,
 "maxImageWidth": 15000,
 "allowRasterFunction": true,
 "rasterFunctionInfos": [
  {
   "name": "None",
   "description": "",
   "help": ""
  }
 ],
 "rasterTypeInfos": [
  {
   "name": "Raster Dataset",
   "description": "Supports all ArcGIS Raster Datasets",
   "help": ""
  }
 ],
 "mensurationCapabilities": "Basic",
 "hasHistograms": false,
 "hasColormap": false,
 "hasRasterAttributeTable": false,
 "minScale": 0,
 "maxScale": 0,
 "exportTilesAllowed": false,
 "hasMultidimensions": false,
 "supportsStatistics": false,
 "supportsAdvancedQueries": false,
 "editFieldsInfo": null,
 "ownershipBasedAccessControlForRasters": null,
 "allowComputeTiePoints": false,
 "useStandardizedQueries": true,
 "advancedQueryCapabilities": {
  "useStandardizedQueries": true,
  "supportsStatistics": false,
  "supportsOrderBy": false,
  "supportsDistinct": false,
  "supportsPagination": false
 },
 "spatialReference": {
  "wkid": 102710,
  "latestWkid": 3437
 }
}