{
 "currentVersion": 10.91,
 "serviceDescription": "This data set represents a 0.76-meter resolution LiDAR-derived bare earth hillshaded terrain (illumination from the northwest) layer for New Hampshire. It was generated from a statewide Esri Mosaic Dataset which comprised 7 separate LiDAR collections that covered the state as of January, 2022.",
 "name": "ImageServices/LiDAR_Bare_Earth_NW_HS_NH_2022",
 "description": "This data set represents a 0.76-meter resolution LiDAR-derived bare earth hillshaded terrain (illumination from the northwest) layer for New Hampshire. It was generated from a statewide Esri Mosaic Dataset which comprised 7 separate LiDAR collections that covered the state as of January, 2022.",
 "extent": {
  "xmin": 209059.50072263984,
  "ymin": 4726714.123971599,
  "xmax": 373218.25017775985,
  "ymax": 5019972.694948159,
  "spatialReference": {
   "wkid": 26919,
   "latestWkid": 26919,
   "vcsWkid": 5703,
   "latestVcsWkid": 5703
  }
 },
 "initialExtent": {
  "xmin": 209059.50072263984,
  "ymin": 4726714.123971599,
  "xmax": 373218.25017775985,
  "ymax": 5019972.694948159,
  "spatialReference": {
   "wkid": 26919,
   "latestWkid": 26919,
   "vcsWkid": 5703,
   "latestVcsWkid": 5703
  }
 },
 "fullExtent": {
  "xmin": 209059.50072263984,
  "ymin": 4726714.123971599,
  "xmax": 373218.25017775985,
  "ymax": 5019972.694948159,
  "spatialReference": {
   "wkid": 26919,
   "latestWkid": 26919,
   "vcsWkid": 5703,
   "latestVcsWkid": 5703
  }
 },
 "heightModelInfo": {
  "heightModel": "gravity_related_height",
  "vertCRS": "NAVD_1988",
  "heightUnit": "meter"
 },
 "pixelSizeX": 0.76200152,
 "pixelSizeY": 0.76200152,
 "bandCount": 3,
 "pixelType": "U8",
 "minPixelSize": 0,
 "maxPixelSize": 0,
 "copyrightText": "NH GRANIT",
 "serviceDataType": "esriImageServiceDataTypeRGB",
 "minValues": [],
 "maxValues": [],
 "meanValues": [],
 "stdvValues": [],
 "objectIdField": "",
 "fields": [],
 "capabilities": "Image,Metadata,Mensuration",
 "defaultMosaicMethod": "Center",
 "allowedMosaicMethods": "",
 "sortField": "",
 "sortValue": null,
 "sortAscending": true,
 "mosaicOperator": "First",
 "defaultCompressionQuality": 75,
 "defaultResamplingMethod": "Bilinear",
 "maxImageHeight": 4100,
 "maxImageWidth": 15000,
 "allowRasterFunction": true,
 "rasterFunctionInfos": [
  {
   "name": "None",
   "description": "",
   "help": ""
  }
 ],
 "rasterTypeInfos": [
  {
   "name": "Raster Dataset",
   "description": "Supports all ArcGIS Raster Datasets",
   "help": ""
  }
 ],
 "mensurationCapabilities": "Basic",
 "hasHistograms": false,
 "hasColormap": false,
 "hasRasterAttributeTable": false,
 "minScale": 0,
 "maxScale": 0,
 "exportTilesAllowed": false,
 "hasMultidimensions": false,
 "supportsStatistics": false,
 "supportsAdvancedQueries": false,
 "editFieldsInfo": null,
 "ownershipBasedAccessControlForRasters": null,
 "allowComputeTiePoints": false,
 "useStandardizedQueries": true,
 "advancedQueryCapabilities": {
  "useStandardizedQueries": true,
  "supportsStatistics": false,
  "supportsOrderBy": false,
  "supportsDistinct": false,
  "supportsPagination": false
 },
 "spatialReference": {
  "wkid": 26919,
  "latestWkid": 26919,
  "vcsWkid": 5703,
  "latestVcsWkid": 5703
 }
}