{
 "currentVersion": 10.91,
 "serviceDescription": "<DIV STYLE=\"text-align:Left;\"><DIV><P><SPAN>This data set represents a 2-meter resolution LiDAR first return surface or Digital Surface Model (DSM) for New Hampshire. It was derived from a statewide LAS Dataset which comprised 8 separate LiDAR collections that covered the state as of January, 2020. The LAS Dataset was used as input to the ArcGIS \"LAS Dataset to Raster\" geoprocessing tool which converted the LAS first return values to raster values in the output data set. In some areas, users may notice unusual linear edges which appear unlikely or anomalous. The LiDAR vendor explained that these anomalies may be the result of changes in the degrees of tree canopy closure that occurred between the times adjacent flight lines were completed. Although leaf-off conditions were specified for data collection, strict adherence to the project specifications was not possible in all locations and exceptions occurred in order to complete data acquisition in a timely manner. As a result, abrupt discontinuities may be noticeable where data were collected on different dates. Eamples of these anomalies can be found in the areas of Cave Mountain in Bartlett and to the west of Woodstock.<\/SPAN><\/P><\/DIV><\/DIV>",
 "name": "ImageServices/DSM_NH",
 "description": "<DIV STYLE=\"text-align:Left;\"><DIV><P><SPAN>This data set represents a 2-meter resolution LiDAR first return surface or Digital Surface Model (DSM) for New Hampshire. It was derived from a statewide LAS Dataset which comprised 8 separate LiDAR collections that covered the state as of January, 2020. The LAS Dataset was used as input to the ArcGIS \"LAS Dataset to Raster\" geoprocessing tool which converted the LAS first return values to raster values in the output data set. In some areas, users may notice unusual linear edges which appear unlikely or anomalous. The LiDAR vendor explained that these anomalies may be the result of changes in the degrees of tree canopy closure that occurred between the times adjacent flight lines were completed. Although leaf-off conditions were specified for data collection, strict adherence to the project specifications was not possible in all locations and exceptions occurred in order to complete data acquisition in a timely manner. As a result, abrupt discontinuities may be noticeable where data were collected on different dates. Eamples of these anomalies can be found in the areas of Cave Mountain in Bartlett and to the west of Woodstock.<\/SPAN><\/P><\/DIV><\/DIV>",
 "extent": {
  "xmin": 208801.85242963792,
  "ymin": 4729189.274951745,
  "xmax": 361867.8524296379,
  "ymax": 5020367.274951745,
  "spatialReference": {
   "wkt": "PROJCS[\"NAD_1983_UTM_Zone_19N\",GEOGCS[\"GCS_North_American_1983\",DATUM[\"D_North_American_1983\",SPHEROID[\"GRS_1980\",6378137.0,298.257222101]],PRIMEM[\"Greenwich\",0.0],UNIT[\"Degree\",0.0174532925199433]],PROJECTION[\"Transverse_Mercator\"],PARAMETER[\"False_Easting\",500000.0],PARAMETER[\"False_Northing\",0.0],PARAMETER[\"Central_Meridian\",-69.0],PARAMETER[\"Scale_Factor\",0.9996],PARAMETER[\"Latitude_Of_Origin\",0.0],UNIT[\"Meter\",1.0]],VERTCS[\"NAVD88 - Geoid09 (Meters)\",VDATUM[\"unknown\"],PARAMETER[\"Vertical_Shift\",0.0],PARAMETER[\"Direction\",1.0],UNIT[\"Meter\",1.0]]"
  }
 },
 "initialExtent": {
  "xmin": 208801.85242963792,
  "ymin": 4729189.274951745,
  "xmax": 361867.8524296379,
  "ymax": 5020367.274951745,
  "spatialReference": {
   "wkt": "PROJCS[\"NAD_1983_UTM_Zone_19N\",GEOGCS[\"GCS_North_American_1983\",DATUM[\"D_North_American_1983\",SPHEROID[\"GRS_1980\",6378137.0,298.257222101]],PRIMEM[\"Greenwich\",0.0],UNIT[\"Degree\",0.0174532925199433]],PROJECTION[\"Transverse_Mercator\"],PARAMETER[\"False_Easting\",500000.0],PARAMETER[\"False_Northing\",0.0],PARAMETER[\"Central_Meridian\",-69.0],PARAMETER[\"Scale_Factor\",0.9996],PARAMETER[\"Latitude_Of_Origin\",0.0],UNIT[\"Meter\",1.0]],VERTCS[\"NAVD88 - Geoid09 (Meters)\",VDATUM[\"unknown\"],PARAMETER[\"Vertical_Shift\",0.0],PARAMETER[\"Direction\",1.0],UNIT[\"Meter\",1.0]]"
  }
 },
 "fullExtent": {
  "xmin": 208801.85242963792,
  "ymin": 4729189.274951745,
  "xmax": 361867.8524296379,
  "ymax": 5020367.274951745,
  "spatialReference": {
   "wkt": "PROJCS[\"NAD_1983_UTM_Zone_19N\",GEOGCS[\"GCS_North_American_1983\",DATUM[\"D_North_American_1983\",SPHEROID[\"GRS_1980\",6378137.0,298.257222101]],PRIMEM[\"Greenwich\",0.0],UNIT[\"Degree\",0.0174532925199433]],PROJECTION[\"Transverse_Mercator\"],PARAMETER[\"False_Easting\",500000.0],PARAMETER[\"False_Northing\",0.0],PARAMETER[\"Central_Meridian\",-69.0],PARAMETER[\"Scale_Factor\",0.9996],PARAMETER[\"Latitude_Of_Origin\",0.0],UNIT[\"Meter\",1.0]],VERTCS[\"NAVD88 - Geoid09 (Meters)\",VDATUM[\"unknown\"],PARAMETER[\"Vertical_Shift\",0.0],PARAMETER[\"Direction\",1.0],UNIT[\"Meter\",1.0]]"
  }
 },
 "heightModelInfo": {
  "heightModel": "gravity_related_height",
  "vertCRS": "NAVD88 - Geoid09 (Meters)",
  "heightUnit": "meter"
 },
 "pixelSizeX": 2,
 "pixelSizeY": 2,
 "bandCount": 1,
 "pixelType": "F32",
 "minPixelSize": 0,
 "maxPixelSize": 0,
 "copyrightText": "NH GRANIT LiDAR-Derived Digital Surface Model - NH (DSM), 2020, Earth System Research Center, University of NH (http://www.granit.unh.edu)",
 "serviceDataType": "esriImageServiceDataTypeGeneric",
 "minValues": [
  0
 ],
 "maxValues": [
  2034.46875
 ],
 "meanValues": [
  347.91115450276
 ],
 "stdvValues": [
  225.75221591028
 ],
 "objectIdField": "",
 "fields": [],
 "capabilities": "Image,Metadata,Mensuration",
 "defaultMosaicMethod": "Center",
 "allowedMosaicMethods": "",
 "sortField": "",
 "sortValue": null,
 "sortAscending": true,
 "mosaicOperator": "First",
 "defaultCompressionQuality": 75,
 "defaultResamplingMethod": "Bilinear",
 "maxImageHeight": 4100,
 "maxImageWidth": 15000,
 "allowRasterFunction": true,
 "rasterFunctionInfos": [
  {
   "name": "None",
   "description": "",
   "help": ""
  }
 ],
 "rasterTypeInfos": [
  {
   "name": "Raster Dataset",
   "description": "Supports all ArcGIS Raster Datasets",
   "help": ""
  }
 ],
 "mensurationCapabilities": "Basic",
 "hasHistograms": true,
 "hasColormap": false,
 "hasRasterAttributeTable": false,
 "minScale": 0,
 "maxScale": 0,
 "exportTilesAllowed": false,
 "hasMultidimensions": false,
 "supportsStatistics": false,
 "supportsAdvancedQueries": false,
 "editFieldsInfo": null,
 "ownershipBasedAccessControlForRasters": null,
 "allowComputeTiePoints": false,
 "useStandardizedQueries": true,
 "advancedQueryCapabilities": {
  "useStandardizedQueries": true,
  "supportsStatistics": false,
  "supportsOrderBy": false,
  "supportsDistinct": false,
  "supportsPagination": false
 },
 "spatialReference": {
  "wkt": "PROJCS[\"NAD_1983_UTM_Zone_19N\",GEOGCS[\"GCS_North_American_1983\",DATUM[\"D_North_American_1983\",SPHEROID[\"GRS_1980\",6378137.0,298.257222101]],PRIMEM[\"Greenwich\",0.0],UNIT[\"Degree\",0.0174532925199433]],PROJECTION[\"Transverse_Mercator\"],PARAMETER[\"False_Easting\",500000.0],PARAMETER[\"False_Northing\",0.0],PARAMETER[\"Central_Meridian\",-69.0],PARAMETER[\"Scale_Factor\",0.9996],PARAMETER[\"Latitude_Of_Origin\",0.0],UNIT[\"Meter\",1.0]],VERTCS[\"NAVD88 - Geoid09 (Meters)\",VDATUM[\"unknown\"],PARAMETER[\"Vertical_Shift\",0.0],PARAMETER[\"Direction\",1.0],UNIT[\"Meter\",1.0]]"
 }
}
