{
 "currentVersion": 10.91,
 "serviceDescription": "This data set represents smoothed, 2-foot bare earth contours (isolines) for the Piscataqua-Salmon Falls (01060003) HUC 8 unit. It was derived from a data set which was compiled from LIDAR collections in NH available as of spring, 2019. The raster was filtered using the ArcGIS FOCAL STATISTICS tool with a 3x3 circular neighborhood. The contours were generated using the ArcGIS CONTOUR tool while applying a Z factor of 3.2808 to convert the elevation values from meters to feet. The filtered contours were then smoothed using the ArcGIS SMOOTH LINE tool. The data include an INDEX field with values of 10 and 100 to flag 10 and 100-foot contours. When viewed using this service, contours become visible at scales greater than 1:10,000.",
 "mapName": "2-foot Contours",
 "description": "This data set represents smoothed, 2-foot bare earth contours (isolines) for the Piscataqua-Salmon Falls (01060003) HUC 8 unit. It was derived from a data set which was compiled from LIDAR collections in NH available as of spring, 2019. The raster was filtered using the ArcGIS FOCAL STATISTICS tool with a 3x3 circular neighborhood. The contours were generated using the ArcGIS CONTOUR tool while applying a Z factor of 3.2808 to convert the elevation values from meters to feet. The filtered contours were then smoothed using the ArcGIS SMOOTH LINE tool. The data include an INDEX field with values of 10 and 100 to flag 10 and 100-foot contours. When viewed using this service, contours become visible at scales greater than 1:10,000.",
 "copyrightText": "Please cite NH GRANIT.",
 "supportsDynamicLayers": true,
 "layers": [
  {
   "id": 0,
   "name": "HUC 8 Watershed Boundaries",
   "parentLayerId": -1,
   "defaultVisibility": true,
   "subLayerIds": null,
   "minScale": 0,
   "maxScale": 18058,
   "type": "Feature Layer",
   "geometryType": "esriGeometryPolygon"
  },
  {
   "id": 1,
   "name": "HUC 10 Watershed Boundaries",
   "parentLayerId": -1,
   "defaultVisibility": true,
   "subLayerIds": null,
   "minScale": 0,
   "maxScale": 18058,
   "type": "Feature Layer",
   "geometryType": "esriGeometryPolygon"
  },
  {
   "id": 2,
   "name": "Scale > 9,028",
   "parentLayerId": -1,
   "defaultVisibility": true,
   "subLayerIds": [
    3,
    4,
    5,
    6,
    7,
    8
   ],
   "minScale": 9027,
   "maxScale": 0,
   "type": "Group Layer"
  },
  {
   "id": 3,
   "name": "Contour_2ft_0106000305_smooth",
   "parentLayerId": 2,
   "defaultVisibility": true,
   "subLayerIds": null,
   "minScale": 0,
   "maxScale": 0,
   "type": "Feature Layer",
   "geometryType": "esriGeometryPolyline"
  },
  {
   "id": 4,
   "name": "Contour_2ft_0106000306_smooth",
   "parentLayerId": 2,
   "defaultVisibility": true,
   "subLayerIds": null,
   "minScale": 0,
   "maxScale": 0,
   "type": "Feature Layer",
   "geometryType": "esriGeometryPolyline"
  },
  {
   "id": 5,
   "name": "Contour_2ft_0106000307_smooth",
   "parentLayerId": 2,
   "defaultVisibility": true,
   "subLayerIds": null,
   "minScale": 0,
   "maxScale": 0,
   "type": "Feature Layer",
   "geometryType": "esriGeometryPolyline"
  },
  {
   "id": 6,
   "name": "Contour_2ft_0106000308_smooth",
   "parentLayerId": 2,
   "defaultVisibility": true,
   "subLayerIds": null,
   "minScale": 0,
   "maxScale": 0,
   "type": "Feature Layer",
   "geometryType": "esriGeometryPolyline"
  },
  {
   "id": 7,
   "name": "Contour_2ft_0106000309_smooth",
   "parentLayerId": 2,
   "defaultVisibility": true,
   "subLayerIds": null,
   "minScale": 0,
   "maxScale": 0,
   "type": "Feature Layer",
   "geometryType": "esriGeometryPolyline"
  },
  {
   "id": 8,
   "name": "Contour_2ft_0106000310_smooth",
   "parentLayerId": 2,
   "defaultVisibility": true,
   "subLayerIds": null,
   "minScale": 0,
   "maxScale": 0,
   "type": "Feature Layer",
   "geometryType": "esriGeometryPolyline"
  },
  {
   "id": 9,
   "name": "Scales Between 9,027 - 18,057",
   "parentLayerId": -1,
   "defaultVisibility": true,
   "subLayerIds": [
    10,
    11,
    12,
    13,
    14,
    15
   ],
   "minScale": 18057,
   "maxScale": 9027,
   "type": "Group Layer"
  },
  {
   "id": 10,
   "name": "Contour_2ft_0106000305_smooth",
   "parentLayerId": 9,
   "defaultVisibility": true,
   "subLayerIds": null,
   "minScale": 0,
   "maxScale": 0,
   "type": "Feature Layer",
   "geometryType": "esriGeometryPolyline"
  },
  {
   "id": 11,
   "name": "Contour_2ft_0106000306_smooth",
   "parentLayerId": 9,
   "defaultVisibility": true,
   "subLayerIds": null,
   "minScale": 0,
   "maxScale": 0,
   "type": "Feature Layer",
   "geometryType": "esriGeometryPolyline"
  },
  {
   "id": 12,
   "name": "Contour_2ft_0106000307_smooth",
   "parentLayerId": 9,
   "defaultVisibility": true,
   "subLayerIds": null,
   "minScale": 0,
   "maxScale": 0,
   "type": "Feature Layer",
   "geometryType": "esriGeometryPolyline"
  },
  {
   "id": 13,
   "name": "Contour_2ft_0106000308_smooth",
   "parentLayerId": 9,
   "defaultVisibility": true,
   "subLayerIds": null,
   "minScale": 0,
   "maxScale": 0,
   "type": "Feature Layer",
   "geometryType": "esriGeometryPolyline"
  },
  {
   "id": 14,
   "name": "Contour_2ft_0106000309_smooth",
   "parentLayerId": 9,
   "defaultVisibility": true,
   "subLayerIds": null,
   "minScale": 0,
   "maxScale": 0,
   "type": "Feature Layer",
   "geometryType": "esriGeometryPolyline"
  },
  {
   "id": 15,
   "name": "Contour_2ft_0106000310_smooth",
   "parentLayerId": 9,
   "defaultVisibility": true,
   "subLayerIds": null,
   "minScale": 0,
   "maxScale": 0,
   "type": "Feature Layer",
   "geometryType": "esriGeometryPolyline"
  }
 ],
 "tables": [],
 "spatialReference": {
  "wkid": 102100,
  "latestWkid": 3857
 },
 "singleFusedMapCache": true,
 "tileInfo": {
  "rows": 256,
  "cols": 256,
  "dpi": 96,
  "format": "PNG32",
  "compressionQuality": 0,
  "origin": {
   "x": -2.0037508342787E7,
   "y": 2.0037508342787E7
  },
  "spatialReference": {
   "wkid": 102100,
   "latestWkid": 3857
  },
  "lods": [
   {
    "level": 0,
    "resolution": 156543.03392800014,
    "scale": 5.91657527591555E8
   },
   {
    "level": 1,
    "resolution": 78271.51696399994,
    "scale": 2.95828763795777E8
   },
   {
    "level": 2,
    "resolution": 39135.75848200009,
    "scale": 1.47914381897889E8
   },
   {
    "level": 3,
    "resolution": 19567.87924099992,
    "scale": 7.3957190948944E7
   },
   {
    "level": 4,
    "resolution": 9783.93962049996,
    "scale": 3.6978595474472E7
   },
   {
    "level": 5,
    "resolution": 4891.96981024998,
    "scale": 1.8489297737236E7
   },
   {
    "level": 6,
    "resolution": 2445.98490512499,
    "scale": 9244648.868618
   },
   {
    "level": 7,
    "resolution": 1222.992452562495,
    "scale": 4622324.434309
   },
   {
    "level": 8,
    "resolution": 611.4962262813797,
    "scale": 2311162.217155
   },
   {
    "level": 9,
    "resolution": 305.74811314055756,
    "scale": 1155581.108577
   },
   {
    "level": 10,
    "resolution": 152.87405657041106,
    "scale": 577790.554289
   },
   {
    "level": 11,
    "resolution": 76.43702828507324,
    "scale": 288895.277144
   },
   {
    "level": 12,
    "resolution": 38.21851414253662,
    "scale": 144447.638572
   },
   {
    "level": 13,
    "resolution": 19.10925707126831,
    "scale": 72223.819286
   },
   {
    "level": 14,
    "resolution": 9.554628535634155,
    "scale": 36111.909643
   },
   {
    "level": 15,
    "resolution": 4.77731426794937,
    "scale": 18055.954822
   },
   {
    "level": 16,
    "resolution": 2.388657133974685,
    "scale": 9027.977411
   },
   {
    "level": 17,
    "resolution": 1.1943285668550503,
    "scale": 4513.988705
   },
   {
    "level": 18,
    "resolution": 0.5971642835598172,
    "scale": 2256.994353
   },
   {
    "level": 19,
    "resolution": 0.29858214164761665,
    "scale": 1128.497176
   },
   {
    "level": 20,
    "resolution": 0.14929107082380833,
    "scale": 564.248588
   },
   {
    "level": 21,
    "resolution": 0.07464553541190416,
    "scale": 282.124294
   },
   {
    "level": 22,
    "resolution": 0.03732276770595208,
    "scale": 141.062147
   },
   {
    "level": 23,
    "resolution": 0.01866138385297604,
    "scale": 70.5310735
   }
  ]
 },
 "initialExtent": {
  "xmin": -7957352.596162651,
  "ymin": 5321000.494915488,
  "xmax": -7842238.431565132,
  "ymax": 5415018.039706291,
  "spatialReference": {
   "cs": "pcs",
   "wkid": 102100
  }
 },
 "fullExtent": {
  "xmin": -7944148.295881574,
  "ymin": 5290578.95861782,
  "xmax": -7855442.731846205,
  "ymax": 5406915.313748216,
  "spatialReference": {
   "cs": "pcs",
   "wkid": 102100
  }
 },
 "minScale": 577790.554289,
 "maxScale": 141.062147,
 "minLOD": 10,
 "maxLOD": 22,
 "units": "esriMeters",
 "supportedImageFormatTypes": "PNG32,PNG24,PNG,JPG,DIB,TIFF,EMF,PS,PDF,GIF,SVG,SVGZ,BMP",
 "documentInfo": {
  "Title": "Two Foot Topographic Contours - Piscataqua-Salmon Falls (01060003) - smoothed",
  "Author": "NH GRANIT",
  "Comments": "This data set represents smoothed, 2-foot bare earth contours (isolines) for the Piscataqua-Salmon Falls (01060003) HUC 8 unit. It was derived from a data set which was compiled from LIDAR collections in NH available as of spring, 2019. The raster was filtered using the ArcGIS FOCAL STATISTICS tool with a 3x3 circular neighborhood. The contours were generated using the ArcGIS CONTOUR tool while applying a Z factor of 3.2808 to convert the elevation values from meters to feet. The filtered contours were then smoothed using the ArcGIS SMOOTH LINE tool. The data include an INDEX field with values of 10 and 100 to flag 10 and 100-foot contours. When viewed using this service, contours become visible at scales greater than 1:10,000.",
  "Subject": "These contours connect points of equal elevation at 2-foot intervals, and are one of a suite of topographic datasets available from NH GRANIT.",
  "Category": "",
  "AntialiasingMode": "None",
  "TextAntialiasingMode": "Force",
  "Keywords": "Elevation,Contours,Hypsography,LiDAR,Piscataqua-Salmon Falls,01060003,NH GRANIT"
 },
 "capabilities": "Map,Query,Data",
 "supportedQueryFormats": "JSON, geoJSON",
 "exportTilesAllowed": false,
 "referenceScale": 0,
 "supportsDatumTransformation": true,
 "maxRecordCount": 1000,
 "maxImageHeight": 4096,
 "maxImageWidth": 4096,
 "supportedExtensions": ""
}
