<?xml version="1.0" encoding="UTF-8" standalone="no"?>
<metadata xml:lang="en">
<Esri>
<CreaDate>20200225</CreaDate>
<CreaTime>08401600</CreaTime>
<ArcGISFormat>1.0</ArcGISFormat>
<SyncOnce>FALSE</SyncOnce>
<DataProperties>
<lineage>
<Process Date="20200225" Name="" Time="084016" ToolSource="c:\program files\arcgis\pro\Resources\ArcToolbox\toolboxes\Image Analyst Tools.tbx\Con" export="">Con NormalizedFirstReturns_REF_VoidFill.img 0 R:\Imagery\LiDAR\DerivedData\FirstReturnProcessing\NormalizedFirstReturns_REF_VoidFillCon.img NormalizedFirstReturns_REF_VoidFill.img "VALUE &lt; 0"</Process>
</lineage>
<itemProps>
<itemName Sync="TRUE">nDSM_NH.img</itemName>
<itemLocation>
<linkage Sync="TRUE">file://R:\Imagery\LiDAR\DerivedData\FirstReturnProcessing\nDSM_NH.img</linkage>
<protocol Sync="TRUE">Local Area Network</protocol>
</itemLocation>
<nativeExtBox>
<westBL Sync="TRUE">208335.852430</westBL>
<eastBL Sync="TRUE">361867.852430</eastBL>
<southBL Sync="TRUE">4729191.274952</southBL>
<northBL Sync="TRUE">5020367.274952</northBL>
<exTypeCode Sync="TRUE">1</exTypeCode>
</nativeExtBox>
<imsContentType Sync="TRUE">002</imsContentType>
</itemProps>
<coordRef>
<type Sync="TRUE">Projected</type>
<geogcsn Sync="TRUE">GCS_North_American_1983</geogcsn>
<csUnits Sync="TRUE">Linear Unit: Meter (1.000000)</csUnits>
<projcsn Sync="TRUE">NAD_1983_UTM_Zone_19N</projcsn>
<peXml Sync="TRUE">&lt;ProjectedCoordinateSystem xsi:type='typens:ProjectedCoordinateSystem' xmlns:xsi='http://www.w3.org/2001/XMLSchema-instance' xmlns:xs='http://www.w3.org/2001/XMLSchema' xmlns:typens='http://www.esri.com/schemas/ArcGIS/2.9.0'&gt;&lt;WKT&gt;PROJCS[&amp;quot;NAD_1983_UTM_Zone_19N&amp;quot;,GEOGCS[&amp;quot;GCS_North_American_1983&amp;quot;,DATUM[&amp;quot;D_North_American_1983&amp;quot;,SPHEROID[&amp;quot;GRS_1980&amp;quot;,6378137.0,298.257222101]],PRIMEM[&amp;quot;Greenwich&amp;quot;,0.0],UNIT[&amp;quot;Degree&amp;quot;,0.0174532925199433]],PROJECTION[&amp;quot;Transverse_Mercator&amp;quot;],PARAMETER[&amp;quot;False_Easting&amp;quot;,500000.0],PARAMETER[&amp;quot;False_Northing&amp;quot;,0.0],PARAMETER[&amp;quot;Central_Meridian&amp;quot;,-69.0],PARAMETER[&amp;quot;Scale_Factor&amp;quot;,0.9996],PARAMETER[&amp;quot;Latitude_Of_Origin&amp;quot;,0.0],UNIT[&amp;quot;Meter&amp;quot;,1.0],AUTHORITY[&amp;quot;EPSG&amp;quot;,26919]],VERTCS[&amp;quot;NAVD88 - Geoid09 (Meters)&amp;quot;,VDATUM[&amp;quot;unknown&amp;quot;],PARAMETER[&amp;quot;Vertical_Shift&amp;quot;,0.0],PARAMETER[&amp;quot;Direction&amp;quot;,1.0],UNIT[&amp;quot;Meter&amp;quot;,1.0]]&lt;/WKT&gt;&lt;XOrigin&gt;-5120900&lt;/XOrigin&gt;&lt;YOrigin&gt;-9998100&lt;/YOrigin&gt;&lt;XYScale&gt;450445547.3910538&lt;/XYScale&gt;&lt;ZOrigin&gt;-100000&lt;/ZOrigin&gt;&lt;ZScale&gt;10000&lt;/ZScale&gt;&lt;MOrigin&gt;-100000&lt;/MOrigin&gt;&lt;MScale&gt;10000&lt;/MScale&gt;&lt;XYTolerance&gt;0.001&lt;/XYTolerance&gt;&lt;ZTolerance&gt;0.001&lt;/ZTolerance&gt;&lt;MTolerance&gt;0.001&lt;/MTolerance&gt;&lt;HighPrecision&gt;true&lt;/HighPrecision&gt;&lt;WKID&gt;26919&lt;/WKID&gt;&lt;LatestWKID&gt;26919&lt;/LatestWKID&gt;&lt;/ProjectedCoordinateSystem&gt;</peXml>
</coordRef>
<RasterProperties>
<General>
<PixelDepth Sync="TRUE">32</PixelDepth>
<HasColormap Sync="TRUE">FALSE</HasColormap>
<CompressionType Sync="TRUE">None</CompressionType>
<NumBands Sync="TRUE">1</NumBands>
<Format Sync="TRUE">IMAGINE Image</Format>
<HasPyramids Sync="TRUE">TRUE</HasPyramids>
<SourceType Sync="TRUE">continuous</SourceType>
<PixelType Sync="TRUE">floating point</PixelType>
<NoDataValue Sync="TRUE">-3.4028235e+38</NoDataValue>
</General>
</RasterProperties>
</DataProperties>
<SyncDate>20220505</SyncDate>
<SyncTime>14053000</SyncTime>
<ModDate>20220505</ModDate>
<ModTime>14055900</ModTime>
<scaleRange>
<minScale>150000000</minScale>
<maxScale>5000</maxScale>
</scaleRange>
<ArcGISProfile>FGDC</ArcGISProfile>
</Esri>
<mdChar>
<CharSetCd value="004"/>
</mdChar>
<mdHrLv>
<ScopeCd value="005"/>
</mdHrLv>
<mdContact>
<rpIndName>NH GRANIT Database Manager</rpIndName>
<rpOrgName>Earth Systems Research Center</rpOrgName>
<rpPosName>NH GRANIT Database Manager</rpPosName>
<rpCntInfo>
<cntPhone>
<voiceNum>603-862-1792</voiceNum>
<faxNum>603-862-0188</faxNum>
</cntPhone>
<cntAddress addressType="physical">
<delPoint>8 College Rd</delPoint>
<city>Durham</city>
<adminArea>New Hampshire</adminArea>
<postCode>03824</postCode>
<country>US</country>
<eMailAdd>granit@unh.edu</eMailAdd>
</cntAddress>
</rpCntInfo>
<role>
<RoleCd value="007"/>
</role>
</mdContact>
<mdDateSt Sync="TRUE">20220505</mdDateSt>
<mdStanName>ArcGIS Metadata</mdStanName>
<mdStanVer>1.0</mdStanVer>
<distInfo>
<distributor>
<distorCont>
<rpIndName>NH GRANIT Database Manager</rpIndName>
<rpOrgName>Earth Systems Research Center</rpOrgName>
<rpPosName>NH GRANIT Database Manager</rpPosName>
<rpCntInfo>
<cntPhone>
<voiceNum>603-862-1792</voiceNum>
<faxNum>603-862-0188</faxNum>
</cntPhone>
<cntAddress addressType="both">
<delPoint>Morse Hall, University of New Hampshire</delPoint>
<city>Durham</city>
<adminArea>NH</adminArea>
<postCode>03824</postCode>
<country>US</country>
<eMailAdd>granit@unh.edu</eMailAdd>
</cntAddress>
<cntHours>8:30AM-5PM, EST</cntHours>
</rpCntInfo>
<role>
<RoleCd value="005"/>
</role>
</distorCont>
<distorOrdPrc>
<resFees>No charge when downloaded from the Internet.</resFees>
</distorOrdPrc>
<distorFormat>
<formatName>ERDAS .img file</formatName>
<formatTech>Ability to read/import Esri file geodatabase format.</formatTech>
</distorFormat>
<distorTran>
<transSize>56832.0</transSize>
<onLineSrc>
<linkage>Network_Resource_Name: &lt;URL:http://www.granit.unh.edu&gt;</linkage>
</onLineSrc>
</distorTran>
</distributor>
<distTranOps>
<onLineSrc>
<linkage>&lt;URL:ftp://ftp.granit.sr.unh.edu/pub/GRANIT_Data/Raster_Data/LiDAR_Derived_nDSM/nDSM_NH.zip&gt;</linkage>
</onLineSrc>
</distTranOps>
<distFormat>
<formatName Sync="TRUE">Raster Dataset</formatName>
</distFormat>
</distInfo>
<dataIdInfo>
<idCitation>
<resTitle>nDSM_NE_HS_NH</resTitle>
<date>
<pubDate>2020-06-15</pubDate>
</date>
<citRespParty>
<rpOrgName>Earth Systems Research Center, University of New Hampshire</rpOrgName>
<role>
<RoleCd value="006"/>
</role>
</citRespParty>
<citRespParty>
<rpOrgName>Earth Systems Research Center, University of New Hampshire</rpOrgName>
<rpCntInfo>
<cntAddress>
<delPoint>Durham, New Hampshire</delPoint>
</cntAddress>
</rpCntInfo>
<role>
<RoleCd value="010"/>
</role>
</citRespParty>
<presForm>
<PresFormCd value="005"/>
</presForm>
<presForm>
<fgdcGeoform>raster digital data</fgdcGeoform>
</presForm>
<otherCitDet>None</otherCitDet>
</idCitation>
<idAbs>&lt;DIV STYLE="text-align:Left;"&gt;&lt;DIV&gt;&lt;P&gt;&lt;SPAN&gt;This data set represents a 2-meter resolution LiDAR-derived normalized Digital Surface Model (nDSM) or Canopy Height Model (CHM) for New Hampshire. It was derived from a statewide LAS Dataset which comprised 8 separate LiDAR collections that covered the state as of January, 2020. The LAS Dataset was used as input to the ArcGIS "LAS Dataset to Raster" geoprocessing tool which converted the LAS first return values to raster values in the output data set. Subsequent processing subtracted the corresponding "bare earth" surface values to produce estimated feature height. It is recognized that this is a simplistic approach to the challenge of estimating LiDAR-based first return heights. Users should recognize this and keep it in mind when using the data. In some areas, users may notice unusual linear edges which appear unlikely or anomalous. The LiDAR vendor explained that these anomalies may be the result of changes in the degrees of tree canopy closure that occurred between the times adjacent flight lines were completed. Although leaf-off conditions were specified for data collection, strict adherence to the project specifications was not possible in all locations and exceptions occurred in order to complete data acquisition in a timely manner. As a result, abrupt discontinuities may be noticeable where data were collected on different dates. Eamples of these anomalies can be found in the areas of Cave Mountain in Bartlett and to the west of Woodstock.&lt;/SPAN&gt;&lt;/P&gt;&lt;/DIV&gt;&lt;/DIV&gt;</idAbs>
<idPurp>This data set estimates feature heights above the ground surface, and is one of a suite of topographic datasets available from
NH GRANIT that convey the shape of the Earth's surface.</idPurp>
<idCredit>NH GRANIT LiDAR-Derived Normalized Digital Surface Model - NH (nDSM), 2020, Earth System Research Center, University of NH (http://www.granit.unh.edu)</idCredit>
<idStatus>
<ProgCd value="001"/>
</idStatus>
<idPoC>
<rpIndName>NH GRANIT Database Manager</rpIndName>
<rpOrgName>Earth Systems Research Center</rpOrgName>
<rpPosName>Database Manager</rpPosName>
<rpCntInfo>
<cntPhone>
<voiceNum>603-862-1792</voiceNum>
<faxNum>603-862-0188</faxNum>
</cntPhone>
<cntAddress addressType="both">
<delPoint>Morse Hall, University of New Hampshire</delPoint>
<city>Durham</city>
<adminArea>NH</adminArea>
<postCode>03824</postCode>
<country>US</country>
<eMailAdd>granit@unh.edu</eMailAdd>
</cntAddress>
<cntHours>8:30AM-5PM, EST</cntHours>
</rpCntInfo>
<role>
<RoleCd value="007"/>
</role>
</idPoC>
<resMaint>
<maintFreq>
<MaintFreqCd value="011"/>
</maintFreq>
</resMaint>
<placeKeys>
<keyword>United States</keyword>
<keyword>Northeast</keyword>
<keyword>New England</keyword>
<keyword>New Hampshire</keyword>
</placeKeys>
<themeKeys>
<thesaName>
<resTitle>ISO 19115 Topic Categories</resTitle>
</thesaName>
<keyword>elevation</keyword>
</themeKeys>
<themeKeys>
<keyword>first returns</keyword>
<keyword>elevation</keyword>
<keyword>LiDAR</keyword>
<keyword>New Hampshire</keyword>
</themeKeys>
<searchKeys>
<keyword>first returns</keyword>
<keyword>elevation</keyword>
<keyword>LiDAR</keyword>
<keyword>New Hampshire</keyword>
<keyword>United States</keyword>
<keyword>Northeast</keyword>
<keyword>New England</keyword>
<keyword>New Hampshire</keyword>
</searchKeys>
<resConst>
<Consts>
<useLimit>&lt;DIV STYLE="text-align:Left;"&gt;&lt;DIV&gt;&lt;P&gt;&lt;SPAN&gt;Please cite NH GRANIT (See Data_Set_Credit). Not for Legal use.&lt;/SPAN&gt;&lt;/P&gt;&lt;/DIV&gt;&lt;/DIV&gt;</useLimit>
</Consts>
</resConst>
<resConst>
<LegConsts>
<useLimit>Digital data in NH GRANIT represent the efforts of the contributing agencies to record information from the cited
source materials. Earth Systems Research Center, under contract to the NH Office of Strategic Initiatives, and in
consultation with cooperating agencies, maintains a continuing program to identify and correct errors in these
data. OSI, ESRC, and the cooperating agencies make no claim as to the validity or reliability or to any implied uses of
these data.</useLimit>
</LegConsts>
</resConst>
<spatRpType>
<SpatRepTypCd value="002"/>
</spatRpType>
<envirDesc>Microsoft Windows 7 Version 6.1 (Build 7601) Service Pack 1; Esri ArcGIS 10.6.1; Esri ArcGIS Pro 2.3.3</envirDesc>
<dataExt>
<geoEle>
<GeoBndBox>
<exTypeCode>true</exTypeCode>
<westBL>-72.718537</westBL>
<eastBL>-70.686573</eastBL>
<northBL>45.323213</northBL>
<southBL>42.659909</southBL>
</GeoBndBox>
</geoEle>
</dataExt>
<dataExt>
<exDesc>None</exDesc>
<tempEle>
<TempExtent>
<exTemp>
<TM_Period>
<tmBegin>2011-05-06</tmBegin>
<tmEnd>2018-05-24</tmEnd>
</TM_Period>
</exTemp>
</TempExtent>
</tempEle>
</dataExt>
<suppInfo>One companion data set representing LiDAR-based first return elevations (DSM_NH.img) is also available from NH GRANIT.</suppInfo>
<dataLang>
<languageCode Sync="TRUE" value="eng"/>
<countryCode Sync="TRUE" value="USA"/>
</dataLang>
<dataExt>
<geoEle>
<GeoBndBox esriExtentType="search">
<exTypeCode Sync="TRUE">1</exTypeCode>
<westBL Sync="TRUE">-72.718537</westBL>
<eastBL Sync="TRUE">-70.686573</eastBL>
<northBL Sync="TRUE">45.323213</northBL>
<southBL Sync="TRUE">42.659909</southBL>
</GeoBndBox>
</geoEle>
</dataExt>
<tpCat>
<TopicCatCd value="006"/>
</tpCat>
</dataIdInfo>
<dqInfo>
<dqScope>
<scpLvl>
<ScopeCd value="005"/>
</scpLvl>
</dqScope>
<report type="DQQuanAttAcc">
<measDesc>The critical attribute of this data is the raster cell elevation, the absolute accuracy of which has been affected by a number of
processing steps. The original LiDAR elevation source DEMs had a 0.7 - 2 meter or better nominal post spacing (GSD).</measDesc>
<evalMethDesc>None</evalMethDesc>
<measResult>
<QuanResult>
<quanVal>Floating point</quanVal>
</QuanResult>
</measResult>
</report>
<report type="DQConcConsis">
<measDesc>None</measDesc>
</report>
<report type="DQCompOm">
<measDesc>Data are complete for the State of New Hampshire, and reflect the content of the source datasets.</measDesc>
</report>
<dataLineage>
<prcStep>
<stepDesc>Created an Esri LAS Dataset comprising Coastal_LiDAR_LAS, Connecticut_River_LiDAR_LAS, Merrimack_LiDAR_LAS, Nashua_LiDAR_LAS,
Umbagog_LiDAR_LAS, WMNF_2011_LiDAR_LAS, WMNF_2012_LiDAR_LAS, and WMNF_2014_LiDAR_LAS.</stepDesc>
<stepDateTm>2019</stepDateTm>
<stepSrc type="used">
<srcCitatn>
<resAltTitle>Coastal_LiDAR_LAS, Connecticut_River_LiDAR_LAS, Merrimack_LiDAR_LAS, Nashua_LiDAR_LAS, Umbagog_LiDAR_LAS, WMNF_2011_LiDAR_LAS,
WMNF_2012_LiDAR_LAS, WMNF_2014_LiDAR_LAS</resAltTitle>
</srcCitatn>
</stepSrc>
<stepSrc type="produced">
<srcCitatn>
<resAltTitle>LAS</resAltTitle>
</srcCitatn>
</stepSrc>
</prcStep>
<prcStep>
<stepDesc>Using an ArcGIS model iterator, for each Quarter Quad (QQ) in QQs, ran an in-house ArcGIS Desktop model comprising the
following steps: Buffer the selected QQ polygon by 500 meters - QQ_1; Set process extent to the QQ_1 shape; converted BREAKLINES
to raster - r_BREAKLINES; ran the ArcGIS LAS to Raster tool using LAS first return values as input with an Interpolation Type set
to "Binning", Cell Assignment set to "IDW", and the Void Fill Method set to "Natural Neighbor" - r_DSM; ran the Con tool where
areas within r_BREAKLINES received BAREEARTHDEM elevations while all other areas received values from r_DSM - r_DSM_xxx; subtracted
BAREEARTHDEM from r_DSM_xxx - nDSMxxx.</stepDesc>
<stepSrc type="used">
<srcCitatn>
<resAltTitle>QQs, BREAKLINES, LAS</resAltTitle>
</srcCitatn>
</stepSrc>
<stepSrc type="produced">
<srcCitatn>
<resAltTitle>nDSMxxx</resAltTitle>
</srcCitatn>
</stepSrc>
</prcStep>
<prcStep>
<stepDesc>Final processing included; created a Mosaic Dataset into which all nDSMxxx rasters were loaded - nDSMNHi;
created a Refereced Mosaic Dataset from nDSMNHi and added an Elevation Void Fill Function - nDSMNH_REF_VoidFill;
copied nDSMNH_REF_VoidFill to final statewide ERDAS .img raster - nDSMNH.</stepDesc>
<stepSrc type="used">
<srcCitatn>
<resAltTitle>nDSMxxx</resAltTitle>
</srcCitatn>
</stepSrc>
<stepSrc type="produced">
<srcCitatn>
<resAltTitle>nDSMNH</resAltTitle>
</srcCitatn>
</stepSrc>
</prcStep>
<dataSource>
<srcDesc>Provided hydrography boundaries to hydro-flatten first resturn raster.</srcDesc>
<srcMedName>
<MedNameCd value="digital data"/>
</srcMedName>
<srcCitatn>
<resTitle>Hydro Breaklines</resTitle>
<resAltTitle>BREAKLINES</resAltTitle>
<date>
<pubDate date="inapplicable"/>
</date>
<citRespParty>
<rpOrgName>Earth Systems Research Center, University of New Hampshire</rpOrgName>
<role>
<RoleCd value="006"/>
</role>
</citRespParty>
</srcCitatn>
<srcExt>
<exDesc>ground condition</exDesc>
<tempEle>
<TempExtent>
<exTemp>
<TM_Period>
<tmBegin>2011-05-06</tmBegin>
<tmEnd>2018-05-24</tmEnd>
</TM_Period>
</exTemp>
</TempExtent>
</tempEle>
</srcExt>
</dataSource>
<dataSource>
<srcDesc>Input LiDAR LAS</srcDesc>
<srcMedName>
<MedNameCd value="digital data"/>
</srcMedName>
<srcCitatn>
<resTitle>Coastal New Hampshire 2011 LiDAR collection</resTitle>
<resAltTitle>Coastal_LiDAR_LAS</resAltTitle>
<date>
<pubDate>2011</pubDate>
</date>
<citRespParty>
<rpOrgName>Photo Science, Inc.</rpOrgName>
<role>
<RoleCd value="006"/>
</role>
</citRespParty>
</srcCitatn>
<srcExt>
<exDesc>ground condition</exDesc>
<tempEle>
<TempExtent>
<exTemp>
<TM_Period>
<tmBegin>2011-05-06</tmBegin>
<tmEnd>2011-06-30</tmEnd>
</TM_Period>
</exTemp>
</TempExtent>
</tempEle>
</srcExt>
</dataSource>
<dataSource>
<srcDesc>Input LiDAR LAS</srcDesc>
<srcMedName>
<MedNameCd value="digital data"/>
</srcMedName>
<srcCitatn>
<resTitle>USGS Connecticut River NH State Plane LiDAR</resTitle>
<resAltTitle>Connecticut_River_LiDAR_LAS</resAltTitle>
<date>
<pubDate>2016</pubDate>
</date>
<citRespParty>
<rpOrgName>Quantum Spatial, Inc.</rpOrgName>
<role>
<RoleCd value="006"/>
</role>
</citRespParty>
</srcCitatn>
<srcExt>
<exDesc>ground condition</exDesc>
<tempEle>
<TempExtent>
<exTemp>
<TM_Period>
<tmBegin>2015-10-24</tmBegin>
<tmEnd>2016-04-29</tmEnd>
</TM_Period>
</exTemp>
</TempExtent>
</tempEle>
</srcExt>
</dataSource>
<dataSource>
<srcDesc>Input LiDAR LAS</srcDesc>
<srcMedName>
<MedNameCd value="digital data"/>
</srcMedName>
<srcCitatn>
<resTitle>TERRAIN, Merrimack HUC 8 Watershed, Massachusetts and New Hampshire</resTitle>
<resAltTitle>Merrimack_LiDAR_LAS</resAltTitle>
<date>
<pubDate>2012-09-14</pubDate>
</date>
<citRespParty>
<rpOrgName>Federal Emergency Management Agency</rpOrgName>
<role>
<RoleCd value="006"/>
</role>
</citRespParty>
</srcCitatn>
<srcExt>
<exDesc>ground condition</exDesc>
<tempEle>
<TempExtent>
<exTemp>
<TM_Instant>
<tmPosition>2012-09-14</tmPosition>
</TM_Instant>
</exTemp>
</TempExtent>
</tempEle>
</srcExt>
</dataSource>
<dataSource>
<srcDesc>Input LiDAR LAS</srcDesc>
<srcMedName>
<MedNameCd value="digital data"/>
</srcMedName>
<srcCitatn>
<resTitle>TERRAIN, Nashua, Massachusetts</resTitle>
<resAltTitle>Nashua_LiDAR_LAS</resAltTitle>
<date>
<pubDate>2011-07-15</pubDate>
</date>
<citRespParty>
<rpOrgName>Federal Emergency Management Agency</rpOrgName>
<role>
<RoleCd value="006"/>
</role>
</citRespParty>
</srcCitatn>
<srcExt>
<exDesc>ground condition</exDesc>
<tempEle>
<TempExtent>
<exTemp>
<TM_Instant>
<tmPosition>2011-01-28</tmPosition>
</TM_Instant>
</exTemp>
</TempExtent>
</tempEle>
</srcExt>
</dataSource>
<dataSource>
<srcDesc>LiDAR LAS</srcDesc>
<srcMedName>
<MedNameCd value="digital data"/>
</srcMedName>
<srcCitatn>
<resTitle>Umbagog NH/ME 2016 LiDAR</resTitle>
<resAltTitle>Umbagog_LiDAR_LAS</resAltTitle>
<date>
<pubDate>2018-08-30</pubDate>
</date>
<citRespParty>
<rpOrgName>Quantum Spatial, Inc.</rpOrgName>
<role>
<RoleCd value="006"/>
</role>
</citRespParty>
</srcCitatn>
<srcExt>
<exDesc>ground condition</exDesc>
<tempEle>
<TempExtent>
<exTemp>
<TM_Period>
<tmBegin>2016-04-06</tmBegin>
<tmEnd>2018-05-24</tmEnd>
</TM_Period>
</exTemp>
</TempExtent>
</tempEle>
</srcExt>
</dataSource>
<dataSource>
<srcDesc>LiDAR LAS</srcDesc>
<srcMedName>
<MedNameCd value="digital data"/>
</srcMedName>
<srcCitatn>
<resTitle>White Mountain National Forest Lidar (USGS Contract: G10PC00026 Task Order Numbers: G10PD01309 and G10PD00088)</resTitle>
<resAltTitle>WMNF_2011_LiDAR_LAS</resAltTitle>
<date>
<pubDate date="inapplicable"/>
</date>
<citRespParty>
<rpOrgName>Photo Science, Inc.</rpOrgName>
<role>
<RoleCd value="006"/>
</role>
</citRespParty>
</srcCitatn>
<srcExt>
<exDesc>ground condition</exDesc>
<tempEle>
<TempExtent>
<exTemp>
<TM_Period>
<tmBegin>2010-11-11</tmBegin>
<tmEnd>2012-04-19</tmEnd>
</TM_Period>
</exTemp>
</TempExtent>
</tempEle>
</srcExt>
</dataSource>
<dataSource>
<srcDesc>LiDAR LAS</srcDesc>
<srcMedName>
<MedNameCd value="digital data"/>
</srcMedName>
<srcCitatn>
<resTitle>White Mountain National Forest Lidar (USGS Contract: G10PC00026 Task Order Numbers: G12PD00775)</resTitle>
<resAltTitle>WMNF_2012_LiDAR_LAS</resAltTitle>
<date>
<pubDate date="inapplicable"/>
</date>
<citRespParty>
<rpOrgName>Photo Science, Inc.</rpOrgName>
<role>
<RoleCd value="006"/>
</role>
</citRespParty>
</srcCitatn>
<srcExt>
<exDesc>ground condition</exDesc>
<tempEle>
<TempExtent>
<exTemp>
<TM_Period>
<tmBegin>2012-11-06</tmBegin>
<tmEnd>2012-11-17</tmEnd>
</TM_Period>
</exTemp>
</TempExtent>
</tempEle>
</srcExt>
</dataSource>
<dataSource>
<srcDesc>LiDAR LAS</srcDesc>
<srcMedName>
<MedNameCd value="digital data"/>
</srcMedName>
<srcCitatn>
<resTitle>G14PD01014 - White Mountain National Forest3 LiDAR - FY2014</resTitle>
<resAltTitle>WMNF_2014_LiDAR_LAS</resAltTitle>
<date>
<pubDate>2015-04-10</pubDate>
</date>
<citRespParty>
<rpOrgName>Quantum Spatial, Inc.</rpOrgName>
<role>
<RoleCd value="006"/>
</role>
</citRespParty>
</srcCitatn>
<srcExt>
<exDesc>ground condition</exDesc>
<tempEle>
<TempExtent>
<exTemp>
<TM_Period>
<tmBegin>2014-10-28</tmBegin>
<tmEnd>2014-11-06</tmEnd>
</TM_Period>
</exTemp>
</TempExtent>
</tempEle>
</srcExt>
</dataSource>
<dataSource>
<srcDesc>Tile processing extent</srcDesc>
<srcMedName>
<MedNameCd value="digital data"/>
</srcMedName>
<srcCitatn>
<resTitle>USGS Quarter Quads</resTitle>
<resAltTitle>QQs</resAltTitle>
<date>
<pubDate date="inapplicable"/>
</date>
<citRespParty>
<rpOrgName>USGS</rpOrgName>
<role>
<RoleCd value="006"/>
</role>
</citRespParty>
</srcCitatn>
<srcExt>
<exDesc>ground condition</exDesc>
<tempEle>
<TempExtent>
<exTemp>
<TM_Instant>
<tmPosition>2015</tmPosition>
</TM_Instant>
</exTemp>
</TempExtent>
</tempEle>
</srcExt>
</dataSource>
<dataSource>
<srcDesc>Bare earth DEM</srcDesc>
<srcMedName>
<MedNameCd value="digital data"/>
</srcMedName>
<srcCitatn>
<resTitle>LiDAR_Bare_Earth_DEM_NH</resTitle>
<resAltTitle>BAREERTHDEM</resAltTitle>
<date>
<pubDate>2019</pubDate>
</date>
<citRespParty>
<rpOrgName>Earth Systems Research Center, University of New Hampshire</rpOrgName>
<role>
<RoleCd value="006"/>
</role>
</citRespParty>
</srcCitatn>
<srcExt>
<exDesc>ground condition</exDesc>
<tempEle>
<TempExtent>
<exTemp>
<TM_Period>
<tmBegin>2011-05-06</tmBegin>
<tmEnd>2018-05-24</tmEnd>
</TM_Period>
</exTemp>
</TempExtent>
</tempEle>
</srcExt>
</dataSource>
</dataLineage>
</dqInfo>
<spatRepInfo>
<Georect>
<numDims>2</numDims>
<axisDimension type="001">
<dimSize>145588</dimSize>
<dimResol>
<value Sync="TRUE" uom="m">2.000000</value>
</dimResol>
</axisDimension>
<axisDimension type="002">
<dimSize>76766</dimSize>
<dimResol>
<value Sync="TRUE" uom="m">2.000000</value>
</dimResol>
</axisDimension>
<cellGeo>
<CellGeoCd Sync="TRUE" value="002"/>
</cellGeo>
<tranParaAv Sync="TRUE">1</tranParaAv>
<chkPtAv Sync="TRUE">0</chkPtAv>
<cornerPts>
<pos Sync="TRUE">208335.852430 4729191.274952</pos>
</cornerPts>
<cornerPts>
<pos Sync="TRUE">208335.852430 5020367.274952</pos>
</cornerPts>
<cornerPts>
<pos Sync="TRUE">361867.852430 5020367.274952</pos>
</cornerPts>
<cornerPts>
<pos Sync="TRUE">361867.852430 4729191.274952</pos>
</cornerPts>
<centerPt>
<pos Sync="TRUE">285101.852430 4874779.274952</pos>
</centerPt>
<ptInPixel>
<PixOrientCd Sync="TRUE" value="001"/>
</ptInPixel>
</Georect>
</spatRepInfo>
<eainfo>
<overview>
<eaover>Data represents LiDAR-based first returns for New Hampshire.</eaover>
<eadetcit>Cell values represent first return elevation in meters.</eadetcit>
</overview>
</eainfo>
<mdLang>
<languageCode Sync="TRUE" value="eng"/>
<countryCode Sync="TRUE" value="USA"/>
</mdLang>
<mdHrLvName Sync="TRUE">dataset</mdHrLvName>
<refSysInfo>
<RefSystem>
<refSysID>
<identCode Sync="TRUE" code="26919"/>
<idCodeSpace Sync="TRUE">EPSG</idCodeSpace>
<idVersion Sync="TRUE">6.11(3.0.1)</idVersion>
</refSysID>
</RefSystem>
</refSysInfo>
<contInfo>
<ImgDesc>
<contentTyp>
<ContentTypCd Sync="TRUE" value="001"/>
</contentTyp>
<covDim>
<Band>
