{ "currentVersion": 11.4, "serviceDescription": "
imperv2010_bad process steps<\/SPAN><\/P> Ran MosaicToNewRaster using:<\/SPAN><\/P> NHCoastalViewerData.gdb\\imperv2010_01_partial<\/SPAN><\/P> NHCoastalViewerData.gdb\\imperv2010_03_partial<\/SPAN><\/P> NHCoastalViewerData.gdb\\imperv2010_15<\/SPAN><\/P> NHCoastalViewerData.gdb\\imperv2010_17<\/SPAN><\/P> NHCoastalViewerData.gdb\\imperv2010_me_partial<\/SPAN><\/P> to create ic_2010_base (options: # 1_BIT # 1 LAST FIRST)<\/SPAN><\/P> Converted NoData to 0's (ic_2010_base_0s)<\/SPAN><\/P> <\/P> Created ic_2010_prep from ic_2010_2015 where ic_2010 = 1 (should have just used r_2010_ic_expand_shrink)<\/SPAN><\/P> Created ic_2010_prep_0s by converting NoData to 0s<\/SPAN><\/P> Ran ExtractByMask on ic_2010_prep_0s to clip to boundaries of 52 PREP towns for ic_2010_prep_0s_extract<\/SPAN><\/P> Mosaicked ic_2010_prep_0s into ic_2010_base_0s<\/SPAN><\/P> Expanded/shrank 1's in ic_2010_base_0s by 1 pixel to fill gaps at seems for ic_2010_base_0s_exp_shr<\/SPAN><\/P> SetNull on ic_2010_base_0s_exp_shr for ic_2010_bad<\/SPAN><\/P> Copied ic_2010_bad to I:\\Projects\\NHCoastalViewer\\NHCoastalViewerData.gdb\\imperv2010_bad<\/SPAN><\/P> <\/P><\/DIV><\/DIV><\/DIV>",
"name": "ImageServices/imperv2010_bad",
"description": " imperv2010_bad process steps<\/SPAN><\/P> Ran MosaicToNewRaster using:<\/SPAN><\/P> NHCoastalViewerData.gdb\\imperv2010_01_partial<\/SPAN><\/P> NHCoastalViewerData.gdb\\imperv2010_03_partial<\/SPAN><\/P> NHCoastalViewerData.gdb\\imperv2010_15<\/SPAN><\/P> NHCoastalViewerData.gdb\\imperv2010_17<\/SPAN><\/P> NHCoastalViewerData.gdb\\imperv2010_me_partial<\/SPAN><\/P> to create ic_2010_base (options: # 1_BIT # 1 LAST FIRST)<\/SPAN><\/P> Converted NoData to 0's (ic_2010_base_0s)<\/SPAN><\/P> <\/P> Created ic_2010_prep from ic_2010_2015 where ic_2010 = 1 (should have just used r_2010_ic_expand_shrink)<\/SPAN><\/P> Created ic_2010_prep_0s by converting NoData to 0s<\/SPAN><\/P> Ran ExtractByMask on ic_2010_prep_0s to clip to boundaries of 52 PREP towns for ic_2010_prep_0s_extract<\/SPAN><\/P> Mosaicked ic_2010_prep_0s into ic_2010_base_0s<\/SPAN><\/P> Expanded/shrank 1's in ic_2010_base_0s by 1 pixel to fill gaps at seems for ic_2010_base_0s_exp_shr<\/SPAN><\/P> SetNull on ic_2010_base_0s_exp_shr for ic_2010_bad<\/SPAN><\/P> Copied ic_2010_bad to I:\\Projects\\NHCoastalViewer\\NHCoastalViewerData.gdb\\imperv2010_bad<\/SPAN><\/P> <\/P><\/DIV><\/DIV><\/DIV>",
"extent": {
"xmin": 1041913.8475519435,
"ymin": 86862.75659395661,
"xmax": 1302098.8475519435,
"ymax": 433391.7565939566,
"spatialReference": {
"wkid": 102710,
"latestWkid": 3437
}
},
"initialExtent": {
"xmin": 1041913.8475519435,
"ymin": 86862.75659395661,
"xmax": 1302098.8475519435,
"ymax": 433391.7565939566,
"spatialReference": {
"wkid": 102710,
"latestWkid": 3437
}
},
"fullExtent": {
"xmin": 1041913.8475519435,
"ymin": 86862.75659395661,
"xmax": 1302098.8475519435,
"ymax": 433391.7565939566,
"spatialReference": {
"wkid": 102710,
"latestWkid": 3437
}
},
"sortableFields": "",
"bandCount": 1,
"pixelType": "U1",
"minValues": [
1
],
"maxValues": [
1
],
"meanValues": [
1
],
"stdvValues": [
0
],
"hasMultidimensions": false,
"pixelSizeX": 1,
"pixelSizeY": 1,
"meanPixelSize": 0.30480060960121924,
"datasetFormat": "FGDBR",
"uncompressedSize": 11270205984,
"blockWidth": 128,
"blockHeight": 128,
"compressionType": "LZ77",
"bandNames": [
"Band_1"
],
"allowCopy": true,
"allowAnalysis": true,
"itemAccess": false,
"inspectionCapabilities": "",
"minPixelSize": 0,
"maxPixelSize": 0,
"copyrightText": "",
"serviceDataType": "esriImageServiceDataTypeGeneric",
"serviceSourceType": "esriImageServiceSourceTypeDataset",
"objectIdField": "",
"fields": [],
"capabilities": "Image,Metadata,Mensuration",
"defaultMosaicMethod": "Center",
"allowedMosaicMethods": "",
"sortField": "",
"sortValue": null,
"sortAscending": true,
"mosaicOperator": "First",
"defaultCompressionQuality": 75,
"defaultResamplingMethod": "Bilinear",
"maxImageHeight": 4100,
"maxImageWidth": 15000,
"allowRasterFunction": true,
"rasterFunctionInfos": [
{
"name": "None",
"description": "",
"help": ""
}
],
"rasterTypeInfos": [
{
"name": "Raster Dataset",
"description": "Supports all ArcGIS Raster Datasets",
"help": ""
}
],
"mensurationCapabilities": "Basic",
"hasHistograms": true,
"hasColormap": false,
"hasRasterAttributeTable": true,
"minScale": 0,
"maxScale": 0,
"exportTilesAllowed": false,
"supportsStatistics": false,
"supportsAdvancedQueries": false,
"editFieldsInfo": null,
"ownershipBasedAccessControlForRasters": null,
"allowComputeTiePoints": false,
"useStandardizedQueries": true,
"advancedQueryCapabilities": {
"useStandardizedQueries": true,
"supportsStatistics": false,
"supportsOrderBy": false,
"supportsDistinct": false,
"supportsPagination": false
},
"spatialReference": {
"wkid": 102710,
"latestWkid": 3437
}
}