{
 "currentVersion": 11.4,
 "serviceDescription": "ImageServices/NH_NAIP_2016_RGB",
 "name": "ImageServices/NH_NAIP_2016_RGB",
 "description": "",
 "extent": {
  "xmin": 712052.0286234805,
  "ymin": 55601.898970586946,
  "xmax": 1284147.3411234496,
  "ymax": 1032759.3934705346,
  "spatialReference": {
   "wkid": 103104,
   "latestWkid": 6525
  }
 },
 "initialExtent": {
  "xmin": 712052.0286234805,
  "ymin": 55601.898970586946,
  "xmax": 1284147.3411234496,
  "ymax": 1032759.3934705346,
  "spatialReference": {
   "wkid": 103104,
   "latestWkid": 6525
  }
 },
 "fullExtent": {
  "xmin": 712052.0286234805,
  "ymin": 55601.898970586946,
  "xmax": 1284147.3411234496,
  "ymax": 1032759.3934705346,
  "spatialReference": {
   "wkid": 103104,
   "latestWkid": 6525
  }
 },
 "sortableFields": "",
 "bandCount": 4,
 "pixelType": "U8",
 "minValues": [
  0,
  0,
  0,
  0
 ],
 "maxValues": [
  255,
  255,
  255,
  255
 ],
 "meanValues": [
  50.683541380272,
  69.721964499041,
  64.823076554578,
  99.773282761047
 ],
 "stdvValues": [
  54.149229270714,
  70.673913151948,
  63.599594672841,
  103.97113421547
 ],
 "hasMultidimensions": false,
 "pixelSizeX": 1.9684999999998938,
 "pixelSizeY": 1.9684999999998944,
 "meanPixelSize": 0.5999999999999678,
 "datasetFormat": "IMAGINE Image",
 "uncompressedSize": 577061512500,
 "blockWidth": 64,
 "blockHeight": 64,
 "compressionType": "None",
 "bandNames": [
  "Layer_1",
  "Layer_2",
  "Layer_3",
  "Layer_4"
 ],
 "allowCopy": true,
 "allowAnalysis": true,
 "itemAccess": false,
 "inspectionCapabilities": "",
 "noDataValue": 0,
 "noDataValues": [
  0,
  0,
  0,
  0
 ],
 "minPixelSize": 0,
 "maxPixelSize": 0,
 "copyrightText": "",
 "serviceDataType": "esriImageServiceDataTypeGeneric",
 "serviceSourceType": "esriImageServiceSourceTypeDataset",
 "objectIdField": "",
 "fields": [],
 "capabilities": "Image,Metadata,Mensuration",
 "defaultMosaicMethod": "Center",
 "allowedMosaicMethods": "",
 "sortField": "",
 "sortValue": null,
 "sortAscending": true,
 "mosaicOperator": "First",
 "defaultCompressionQuality": 75,
 "defaultResamplingMethod": "Bilinear",
 "maxImageHeight": 4100,
 "maxImageWidth": 15000,
 "allowRasterFunction": true,
 "rasterFunctionInfos": [
  {
   "name": "None",
   "description": "",
   "help": ""
  }
 ],
 "rasterTypeInfos": [
  {
   "name": "Raster Dataset",
   "description": "Supports all ArcGIS Raster Datasets",
   "help": ""
  }
 ],
 "mensurationCapabilities": "Basic",
 "hasHistograms": true,
 "hasColormap": false,
 "hasRasterAttributeTable": false,
 "minScale": 0,
 "maxScale": 0,
 "exportTilesAllowed": false,
 "supportsStatistics": false,
 "supportsAdvancedQueries": false,
 "editFieldsInfo": null,
 "ownershipBasedAccessControlForRasters": null,
 "allowComputeTiePoints": false,
 "useStandardizedQueries": true,
 "advancedQueryCapabilities": {
  "useStandardizedQueries": true,
  "supportsStatistics": false,
  "supportsOrderBy": false,
  "supportsDistinct": false,
  "supportsPagination": false
 },
 "spatialReference": {
  "wkid": 103104,
  "latestWkid": 6525
 }
}
