{
 "currentVersion": 11.4,
 "serviceDescription": "2014 NAIP imagery for New Hampshire displayed as cir",
 "name": "ImageServices/NH_NAIP_2014_CIR",
 "description": "2014 NAIP imagery for New Hampshire displayed as cir",
 "extent": {
  "xmin": 712054.0716458922,
  "ymin": 55600.6988389903,
  "xmax": 1284152.6649792255,
  "ymax": 1032760.8180056568,
  "spatialReference": {
   "wkid": 102710,
   "latestWkid": 3437
  }
 },
 "initialExtent": {
  "xmin": 712054.0716458922,
  "ymin": 55600.6988389903,
  "xmax": 1284152.6649792255,
  "ymax": 1032760.8180056568,
  "spatialReference": {
   "wkid": 102710,
   "latestWkid": 3437
  }
 },
 "fullExtent": {
  "xmin": 712054.0716458922,
  "ymin": 55600.6988389903,
  "xmax": 1284152.6649792255,
  "ymax": 1032760.8180056568,
  "spatialReference": {
   "wkid": 102710,
   "latestWkid": 3437
  }
 },
 "sortableFields": "",
 "bandCount": 4,
 "pixelType": "U8",
 "minValues": [
  9,
  2,
  4,
  1
 ],
 "maxValues": [
  255,
  255,
  255,
  255
 ],
 "meanValues": [
  94.790499310713,
  126.58272692852,
  116.81014608611,
  146.29790845147
 ],
 "stdvValues": [
  36.530924149855,
  35.270141256822,
  27.540111057776,
  44.836659988589
 ],
 "hasMultidimensions": false,
 "pixelSizeX": 3.280833333333333,
 "pixelSizeY": 3.280833333333333,
 "meanPixelSize": 1,
 "datasetFormat": "IMAGINE Image",
 "uncompressedSize": 207743893856,
 "blockWidth": 64,
 "blockHeight": 64,
 "compressionType": "None",
 "bandNames": [
  "Layer_1",
  "Layer_2",
  "Layer_3",
  "Layer_4"
 ],
 "allowCopy": true,
 "allowAnalysis": true,
 "itemAccess": false,
 "inspectionCapabilities": "",
 "noDataValue": 0,
 "noDataValues": [
  0,
  0,
  0,
  0
 ],
 "minPixelSize": 0,
 "maxPixelSize": 0,
 "copyrightText": "",
 "serviceDataType": "esriImageServiceDataTypeGeneric",
 "serviceSourceType": "esriImageServiceSourceTypeDataset",
 "objectIdField": "",
 "fields": [],
 "capabilities": "Image,Metadata,Mensuration",
 "defaultMosaicMethod": "Center",
 "allowedMosaicMethods": "",
 "sortField": "",
 "sortValue": null,
 "sortAscending": true,
 "mosaicOperator": "First",
 "defaultCompressionQuality": 75,
 "defaultResamplingMethod": "Bilinear",
 "maxImageHeight": 4100,
 "maxImageWidth": 15000,
 "allowRasterFunction": true,
 "rasterFunctionInfos": [
  {
   "name": "CIR_Default",
   "description": "CIR Color",
   "help": ""
  },
  {
   "name": "None",
   "description": "",
   "help": ""
  }
 ],
 "rasterTypeInfos": [
  {
   "name": "Raster Dataset",
   "description": "Supports all ArcGIS Raster Datasets",
   "help": ""
  }
 ],
 "mensurationCapabilities": "Basic",
 "hasHistograms": true,
 "hasColormap": false,
 "hasRasterAttributeTable": false,
 "minScale": 0,
 "maxScale": 0,
 "exportTilesAllowed": false,
 "supportsStatistics": false,
 "supportsAdvancedQueries": false,
 "editFieldsInfo": null,
 "ownershipBasedAccessControlForRasters": null,
 "allowComputeTiePoints": false,
 "useStandardizedQueries": true,
 "advancedQueryCapabilities": {
  "useStandardizedQueries": true,
  "supportsStatistics": false,
  "supportsOrderBy": false,
  "supportsDistinct": false,
  "supportsPagination": false
 },
 "spatialReference": {
  "wkid": 102710,
  "latestWkid": 3437
 }
}
