{
 "currentVersion": 11.4,
 "serviceDescription": "ImageServices/NH_NAIP_2011_CIR",
 "name": "ImageServices/NH_NAIP_2011_CIR",
 "description": "",
 "extent": {
  "xmin": 741934.2837897651,
  "ymin": 66764.28463873989,
  "xmax": 1281391.8114807652,
  "ymax": 1027254.3920527399,
  "spatialReference": {
   "wkid": 102710,
   "latestWkid": 3437
  }
 },
 "initialExtent": {
  "xmin": 741934.2837897651,
  "ymin": 66764.28463873989,
  "xmax": 1281391.8114807652,
  "ymax": 1027254.3920527399,
  "spatialReference": {
   "wkid": 102710,
   "latestWkid": 3437
  }
 },
 "fullExtent": {
  "xmin": 741934.2837897651,
  "ymin": 66764.28463873989,
  "xmax": 1281391.8114807652,
  "ymax": 1027254.3920527399,
  "spatialReference": {
   "wkid": 102710,
   "latestWkid": 3437
  }
 },
 "sortableFields": "",
 "bandCount": 4,
 "pixelType": "U8",
 "minValues": [
  0,
  0,
  0,
  0
 ],
 "maxValues": [
  255,
  255,
  255,
  255
 ],
 "meanValues": [
  56.580063104256,
  66.21168421324,
  68.708017436793,
  84.104757261891
 ],
 "stdvValues": [
  55.753262704529,
  63.115072353417,
  62.186352421439,
  83.615574316147
 ],
 "hasMultidimensions": false,
 "pixelSizeX": 3.2808330000000008,
 "pixelSizeY": 3.280833,
 "meanPixelSize": 0.9999998983997971,
 "datasetFormat": "IMAGINE Image",
 "uncompressedSize": 192549278664,
 "blockWidth": 64,
 "blockHeight": 64,
 "compressionType": "None",
 "bandNames": [
  "Layer_1",
  "Layer_2",
  "Layer_3",
  "Layer_4"
 ],
 "allowCopy": true,
 "allowAnalysis": true,
 "itemAccess": false,
 "inspectionCapabilities": "",
 "noDataValue": 256,
 "noDataValues": [
  256,
  256,
  256,
  256
 ],
 "minPixelSize": 0,
 "maxPixelSize": 0,
 "copyrightText": "",
 "serviceDataType": "esriImageServiceDataTypeGeneric",
 "serviceSourceType": "esriImageServiceSourceTypeDataset",
 "objectIdField": "",
 "fields": [],
 "capabilities": "Mensuration,Image,Metadata",
 "defaultMosaicMethod": "Center",
 "allowedMosaicMethods": "",
 "sortField": "",
 "sortValue": null,
 "sortAscending": true,
 "mosaicOperator": "First",
 "defaultCompressionQuality": 75,
 "defaultResamplingMethod": "Bilinear",
 "maxImageHeight": 4100,
 "maxImageWidth": 15000,
 "allowRasterFunction": true,
 "rasterFunctionInfos": [
  {
   "name": "NH 2011 NAIP CIR",
   "description": "NH 2011 NAIP CIR",
   "help": ""
  },
  {
   "name": "CIR_Default",
   "description": "CIR Color",
   "help": ""
  },
  {
   "name": "NH 2003 NAIP RGB",
   "description": "NH 2003 NAIP RGB",
   "help": ""
  },
  {
   "name": "NH 2009 NAIP RGB",
   "description": "NH 2009 NAIP RGB",
   "help": ""
  },
  {
   "name": "NH 2010 2011 1ft CIR",
   "description": "NH 2010 2011 1ft CIR",
   "help": ""
  },
  {
   "name": "NH 2011 NAIP RGB",
   "description": "NH 2011 NAIP RGB",
   "help": ""
  },
  {
   "name": "NH 2012 NAIP CIR",
   "description": "NH 2012 NAIP CIR",
   "help": ""
  },
  {
   "name": "NH 2012 NAIP RGB",
   "description": "NH 2012 NAIP RGB",
   "help": ""
  },
  {
   "name": "NH 2014 NAIP CIR",
   "description": "NH 2014 NAIP CIR",
   "help": ""
  },
  {
   "name": "NH 2014 NAIP RGB",
   "description": "NH 2014 NAIP RGB",
   "help": ""
  },
  {
   "name": "NH 2015 CIR",
   "description": "NH 2015 CIR",
   "help": ""
  },
  {
   "name": "NH 2015 RGB",
   "description": "NH 2015 RGB",
   "help": ""
  },
  {
   "name": "NH 2016 NAIP CIR",
   "description": "NH 2016 NAIP CIR",
   "help": ""
  },
  {
   "name": "NH 2016 NAIP RGB",
   "description": "NH 2016 NAIP RGB",
   "help": ""
  },
  {
   "name": "NH 2018 NAIP CIR",
   "description": "NH 2018 NAIP CIR",
   "help": ""
  },
  {
   "name": "NH 2018 NAIP RGB",
   "description": "NH 2018 NAIP RGB",
   "help": ""
  },
  {
   "name": "NH 2021 CIR",
   "description": "NH 2021 CIR",
   "help": ""
  },
  {
   "name": "NH 2021 NAIP",
   "description": "NH 2021 NAIP",
   "help": ""
  },
  {
   "name": "NH 2021 RGB",
   "description": "NH 2021 RGB",
   "help": ""
  },
  {
   "name": "RGB_Default",
   "description": "RGB Color",
   "help": ""
  },
  {
   "name": "RGB_Default",
   "description": "RGB Color",
   "help": ""
  },
  {
   "name": "None",
   "description": "",
   "help": ""
  }
 ],
 "rasterTypeInfos": [
  {
   "name": "Raster Dataset",
   "description": "Supports all ArcGIS Raster Datasets",
   "help": ""
  }
 ],
 "mensurationCapabilities": "Basic",
 "hasHistograms": true,
 "hasColormap": false,
 "hasRasterAttributeTable": false,
 "minScale": 0,
 "maxScale": 0,
 "exportTilesAllowed": false,
 "supportsStatistics": false,
 "supportsAdvancedQueries": false,
 "editFieldsInfo": null,
 "ownershipBasedAccessControlForRasters": null,
 "allowComputeTiePoints": false,
 "useStandardizedQueries": true,
 "advancedQueryCapabilities": {
  "useStandardizedQueries": true,
  "supportsStatistics": false,
  "supportsOrderBy": false,
  "supportsDistinct": false,
  "supportsPagination": false
 },
 "spatialReference": {
  "wkid": 102710,
  "latestWkid": 3437
 },
 "resampling": false
}
