{
 "currentVersion": 11.4,
 "serviceDescription": "ImageServices/NH_NAIP_2008_RGB",
 "name": "ImageServices/NH_NAIP_2008_RGB",
 "description": "",
 "extent": {
  "xmin": 744463.5399204999,
  "ymin": 67833.55645450007,
  "xmax": 1245715.7673264998,
  "ymax": 1025685.8741365001,
  "spatialReference": {
   "wkid": 102710,
   "latestWkid": 3437
  }
 },
 "initialExtent": {
  "xmin": 744463.5399204999,
  "ymin": 67833.55645450007,
  "xmax": 1245715.7673264998,
  "ymax": 1025685.8741365001,
  "spatialReference": {
   "wkid": 102710,
   "latestWkid": 3437
  }
 },
 "fullExtent": {
  "xmin": 744463.5399204999,
  "ymin": 67833.55645450007,
  "xmax": 1245715.7673264998,
  "ymax": 1025685.8741365001,
  "spatialReference": {
   "wkid": 102710,
   "latestWkid": 3437
  }
 },
 "sortableFields": "",
 "bandCount": 3,
 "pixelType": "U8",
 "minValues": [
  12,
  25,
  20
 ],
 "maxValues": [
  240,
  237,
  230
 ],
 "meanValues": [
  56.078612452628,
  90.76784641085,
  64.127708397834
 ],
 "stdvValues": [
  26.292656521536,
  24.161537431332,
  17.395718201045
 ],
 "hasMultidimensions": false,
 "pixelSizeX": 3.2808329999999994,
 "pixelSizeY": 3.280833,
 "meanPixelSize": 0.9999998983997967,
 "datasetFormat": "IMAGINE Image",
 "uncompressedSize": 133815948084,
 "blockWidth": 512,
 "blockHeight": 512,
 "compressionType": "None",
 "bandNames": [
  "Layer_1",
  "Layer_2",
  "Layer_3"
 ],
 "allowCopy": true,
 "allowAnalysis": true,
 "itemAccess": false,
 "inspectionCapabilities": "",
 "noDataValue": 0,
 "noDataValues": [
  0,
  0,
  0
 ],
 "minPixelSize": 0,
 "maxPixelSize": 0,
 "copyrightText": "",
 "serviceDataType": "esriImageServiceDataTypeRGB",
 "serviceSourceType": "esriImageServiceSourceTypeDataset",
 "objectIdField": "",
 "fields": [],
 "capabilities": "Mensuration,Image,Metadata",
 "defaultMosaicMethod": "Center",
 "allowedMosaicMethods": "",
 "sortField": "",
 "sortValue": null,
 "sortAscending": true,
 "mosaicOperator": "First",
 "defaultCompressionQuality": 75,
 "defaultResamplingMethod": "Bilinear",
 "maxImageHeight": 4100,
 "maxImageWidth": 15000,
 "allowRasterFunction": true,
 "rasterFunctionInfos": [
  {
   "name": "None",
   "description": "",
   "help": ""
  }
 ],
 "rasterTypeInfos": [
  {
   "name": "Raster Dataset",
   "description": "Supports all ArcGIS Raster Datasets",
   "help": ""
  }
 ],
 "mensurationCapabilities": "Basic",
 "hasHistograms": true,
 "hasColormap": false,
 "hasRasterAttributeTable": false,
 "minScale": 0,
 "maxScale": 0,
 "exportTilesAllowed": false,
 "supportsStatistics": false,
 "supportsAdvancedQueries": false,
 "editFieldsInfo": null,
 "ownershipBasedAccessControlForRasters": null,
 "allowComputeTiePoints": false,
 "useStandardizedQueries": true,
 "advancedQueryCapabilities": {
  "useStandardizedQueries": true,
  "supportsStatistics": false,
  "supportsOrderBy": false,
  "supportsDistinct": false,
  "supportsPagination": false
 },
 "spatialReference": {
  "wkid": 102710,
  "latestWkid": 3437
 },
 "resampling": false
}
