{
 "currentVersion": 11.4,
 "serviceDescription": "This data set represents a 5-meter resolution LiDAR-derived degree slope layer for New Hampshire. It was generated\nfrom a statewide Esri Mosaic Dataset which comprised 8 separate LiDAR collections that covered the state as of January, 2020. The Mosaic Dataset\nwas used as input to the ArcGIS Spatial Analyst \"Slope\" geoprocessing tool which calculates the degree slope for each cell of the input raster,\nin this case, the statewide mosaic dataset.",
 "name": "ImageServices/LiDAR_Derived_Slope_Degree_NH",
 "description": "This data set represents a 5-meter resolution LiDAR-derived degree slope layer for New Hampshire. It was generated\nfrom a statewide Esri Mosaic Dataset which comprised 8 separate LiDAR collections that covered the state as of January, 2020. The Mosaic Dataset\nwas used as input to the ArcGIS Spatial Analyst \"Slope\" geoprocessing tool which calculates the degree slope for each cell of the input raster,\nin this case, the statewide mosaic dataset.",
 "extent": {
  "xmin": 711187.2942715406,
  "ymin": -72245.17493458581,
  "xmax": 1278508.9942715417,
  "ymax": 1031738.8375654165,
  "spatialReference": {
   "wkid": 103104,
   "latestWkid": 6525
  }
 },
 "initialExtent": {
  "xmin": 711187.2942715406,
  "ymin": -72245.17493458581,
  "xmax": 1278508.9942715417,
  "ymax": 1031738.8375654165,
  "spatialReference": {
   "wkid": 103104,
   "latestWkid": 6525
  }
 },
 "fullExtent": {
  "xmin": 711187.2942715406,
  "ymin": -72245.17493458581,
  "xmax": 1278508.9942715417,
  "ymax": 1031738.8375654165,
  "spatialReference": {
   "wkid": 103104,
   "latestWkid": 6525
  }
 },
 "sortableFields": "",
 "bandCount": 1,
 "pixelType": "S32",
 "minValues": [
  0
 ],
 "maxValues": [
  84
 ],
 "meanValues": [
  8.4398932675422
 ],
 "stdvValues": [
  7.3414118938572
 ],
 "hasMultidimensions": false,
 "pixelSizeX": 16.4041666666667,
 "pixelSizeY": 16.4041666666667,
 "meanPixelSize": 5.000000000000011,
 "datasetFormat": "IMAGINE Image",
 "uncompressedSize": 9309874464,
 "blockWidth": 64,
 "blockHeight": 64,
 "compressionType": "None",
 "bandNames": [
  "Layer_1"
 ],
 "allowCopy": true,
 "allowAnalysis": true,
 "itemAccess": false,
 "inspectionCapabilities": "",
 "noDataValue": -2147483648,
 "noDataValues": [
  -2147483648
 ],
 "minPixelSize": 0,
 "maxPixelSize": 0,
 "copyrightText": "LiDAR-Derived Degree Slope - NH, 2020, Earth System Research Center, University of NH (https://granit.unh.edu)",
 "serviceDataType": "esriImageServiceDataTypeGeneric",
 "serviceSourceType": "esriImageServiceSourceTypeDataset",
 "objectIdField": "",
 "fields": [],
 "capabilities": "Mensuration,Image,Metadata",
 "defaultMosaicMethod": "Center",
 "allowedMosaicMethods": "",
 "sortField": "",
 "sortValue": null,
 "sortAscending": true,
 "mosaicOperator": "First",
 "defaultCompressionQuality": 75,
 "defaultResamplingMethod": "Bilinear",
 "maxImageHeight": 4100,
 "maxImageWidth": 15000,
 "allowRasterFunction": true,
 "rasterFunctionInfos": [
  {
   "name": "None",
   "description": "",
   "help": ""
  }
 ],
 "rasterTypeInfos": [
  {
   "name": "Raster Dataset",
   "description": "Supports all ArcGIS Raster Datasets",
   "help": ""
  }
 ],
 "mensurationCapabilities": "Basic",
 "hasHistograms": true,
 "hasColormap": false,
 "hasRasterAttributeTable": true,
 "minScale": 0,
 "maxScale": 0,
 "exportTilesAllowed": false,
 "supportsStatistics": false,
 "supportsAdvancedQueries": false,
 "editFieldsInfo": null,
 "ownershipBasedAccessControlForRasters": null,
 "allowComputeTiePoints": false,
 "useStandardizedQueries": true,
 "advancedQueryCapabilities": {
  "useStandardizedQueries": true,
  "supportsStatistics": false,
  "supportsOrderBy": false,
  "supportsDistinct": false,
  "supportsPagination": false
 },
 "spatialReference": {
  "wkid": 103104,
  "latestWkid": 6525
 },
 "resampling": false
}
