<?xml version="1.0" encoding="UTF-8" standalone="no"?>
<metadata xml:lang="en">
<Esri>
<CreaDate>20210507</CreaDate>
<CreaTime>09360500</CreaTime>
<ArcGISFormat>1.0</ArcGISFormat>
<SyncOnce>FALSE</SyncOnce>
<DataProperties>
<lineage>
<Process Date="20210507" Time="093605" ToolSource="c:\program files\arcgis\pro\Resources\ArcToolbox\toolboxes\Image Analyst Tools.tbx\RasterCalculator">RasterCalculator Int(Plus( "LiDAR_Derived_Slope_Degree_NH_utm.img",0.5)) R:\Imagery\LiDAR\DerivedData\LiDAR_Derived_Slope_Degree_NH.img</Process>
</lineage>
<itemProps>
<itemName Sync="TRUE">LiDAR_Derived_Slope_Degree_NH.img</itemName>
<itemLocation>
<linkage Sync="TRUE">file://R:\Imagery\LiDAR\DerivedData\LiDAR_Derived_Slope_Degree_NH.img</linkage>
<protocol Sync="TRUE">Local Area Network</protocol>
</itemLocation>
<nativeExtBox>
<westBL Sync="TRUE">711187.294272</westBL>
<eastBL Sync="TRUE">1278508.994272</eastBL>
<southBL Sync="TRUE">-72245.174935</southBL>
<northBL Sync="TRUE">1031738.837565</northBL>
<exTypeCode Sync="TRUE">1</exTypeCode>
</nativeExtBox>
<imsContentType Sync="TRUE">002</imsContentType>
</itemProps>
<coordRef>
<type Sync="TRUE">Projected</type>
<geogcsn Sync="TRUE">GCS_NAD_1983_2011</geogcsn>
<csUnits Sync="TRUE">Linear Unit: Foot_US (0.304801)</csUnits>
<projcsn Sync="TRUE">NAD_1983_2011_StatePlane_New_Hampshire_FIPS_2800_Ft_US</projcsn>
<peXml Sync="TRUE">&lt;ProjectedCoordinateSystem xsi:type='typens:ProjectedCoordinateSystem' xmlns:xsi='http://www.w3.org/2001/XMLSchema-instance' xmlns:xs='http://www.w3.org/2001/XMLSchema' xmlns:typens='http://www.esri.com/schemas/ArcGIS/2.9.0'&gt;&lt;WKT&gt;PROJCS[&amp;quot;NAD_1983_2011_StatePlane_New_Hampshire_FIPS_2800_Ft_US&amp;quot;,GEOGCS[&amp;quot;GCS_NAD_1983_2011&amp;quot;,DATUM[&amp;quot;D_NAD_1983_2011&amp;quot;,SPHEROID[&amp;quot;GRS_1980&amp;quot;,6378137.0,298.257222101]],PRIMEM[&amp;quot;Greenwich&amp;quot;,0.0],UNIT[&amp;quot;Degree&amp;quot;,0.0174532925199433]],PROJECTION[&amp;quot;Transverse_Mercator&amp;quot;],PARAMETER[&amp;quot;False_Easting&amp;quot;,984250.0],PARAMETER[&amp;quot;False_Northing&amp;quot;,0.0],PARAMETER[&amp;quot;Central_Meridian&amp;quot;,-71.66666666666667],PARAMETER[&amp;quot;Scale_Factor&amp;quot;,0.9999666666666667],PARAMETER[&amp;quot;Latitude_Of_Origin&amp;quot;,42.5],UNIT[&amp;quot;Foot_US&amp;quot;,0.3048006096012192],AUTHORITY[&amp;quot;EPSG&amp;quot;,6525]]&lt;/WKT&gt;&lt;XOrigin&gt;-17463700&lt;/XOrigin&gt;&lt;YOrigin&gt;-48257000&lt;/YOrigin&gt;&lt;XYScale&gt;137246076.82899535&lt;/XYScale&gt;&lt;ZOrigin&gt;-100000&lt;/ZOrigin&gt;&lt;ZScale&gt;10000&lt;/ZScale&gt;&lt;MOrigin&gt;-100000&lt;/MOrigin&gt;&lt;MScale&gt;10000&lt;/MScale&gt;&lt;XYTolerance&gt;0.0032808333333333331&lt;/XYTolerance&gt;&lt;ZTolerance&gt;0.001&lt;/ZTolerance&gt;&lt;MTolerance&gt;0.001&lt;/MTolerance&gt;&lt;HighPrecision&gt;true&lt;/HighPrecision&gt;&lt;WKID&gt;103104&lt;/WKID&gt;&lt;LatestWKID&gt;6525&lt;/LatestWKID&gt;&lt;/ProjectedCoordinateSystem&gt;</peXml>
</coordRef>
<RasterProperties>
<General>
<PixelDepth Sync="TRUE">32</PixelDepth>
<HasColormap Sync="TRUE">FALSE</HasColormap>
<CompressionType Sync="TRUE">None</CompressionType>
<NumBands Sync="TRUE">1</NumBands>
<Format Sync="TRUE">IMAGINE Image</Format>
<HasPyramids Sync="TRUE">TRUE</HasPyramids>
<SourceType Sync="TRUE">continuous</SourceType>
<PixelType Sync="TRUE">signed integer</PixelType>
<NoDataValue Sync="TRUE">-2.1474836e+09</NoDataValue>
</General>
</RasterProperties>
</DataProperties>
<SyncDate>20220505</SyncDate>
<SyncTime>12492700</SyncTime>
<ModDate>20220505</ModDate>
<ModTime>12492700</ModTime>
</Esri>
<mdChar>
<CharSetCd value="004"/>
</mdChar>
<mdHrLv>
<ScopeCd value="005"/>
</mdHrLv>
<mdContact>
<rpIndName>NH GRANIT Database Manager</rpIndName>
<rpOrgName>Earth Systems Research Center</rpOrgName>
<rpPosName>NH GRANIT Database Manager</rpPosName>
<rpCntInfo>
<cntPhone>
<voiceNum>603-862-1214</voiceNum>
<faxNum>603-862-0188</faxNum>
</cntPhone>
<cntAddress addressType="physical">
<delPoint>8 College Rd</delPoint>
<city>Durham</city>
<adminArea>New Hampshire</adminArea>
<postCode>03824</postCode>
<country>US</country>
<eMailAdd>granit@unh.edu</eMailAdd>
</cntAddress>
</rpCntInfo>
<role>
<RoleCd value="007"/>
</role>
</mdContact>
<mdDateSt>20210508</mdDateSt>
<mdStanName>ArcGIS Metadata</mdStanName>
<mdStanVer>1.0</mdStanVer>
<distInfo>
<distributor>
<distorCont>
<rpIndName>NH GRANIT Database Manager</rpIndName>
<rpOrgName>Earth Systems Research Center</rpOrgName>
<rpPosName>NH GRANIT Database Manager</rpPosName>
<rpCntInfo>
<cntPhone>
<voiceNum>603-862-1214</voiceNum>
<faxNum>603-862-0188</faxNum>
</cntPhone>
<cntAddress addressType="both">
<delPoint>Morse Hall, University of New Hampshire</delPoint>
<city>Durham</city>
<adminArea>NH</adminArea>
<postCode>03824</postCode>
<country>US</country>
<eMailAdd>granit@unh.edu</eMailAdd>
</cntAddress>
<cntHours>8:30AM-5PM, EST</cntHours>
</rpCntInfo>
<role>
<RoleCd value="005"/>
</role>
</distorCont>
<distorOrdPrc>
<resFees>No charge when downloaded from the Internet.</resFees>
</distorOrdPrc>
<distorFormat>
<formatName>ERDAS .img file</formatName>
<formatTech>Ability to read/import ERDAS img format.</formatTech>
</distorFormat>
<distorTran>
<transSize>9325.0</transSize>
<onLineSrc>
<linkage>Network_Resource_Name: &lt;URL:https://granit.unh.edu&gt;</linkage>
</onLineSrc>
</distorTran>
</distributor>
<distTranOps>
<onLineSrc>
<linkage>&lt;URL:https://ftp.granit.sr.unh.edu/GRANIT_Data/Raster_Data/LiDAR_Derived_degreeSlope/&gt;</linkage>
</onLineSrc>
</distTranOps>
<distFormat>
<formatName Sync="TRUE">Raster Dataset</formatName>
</distFormat>
</distInfo>
<dataIdInfo>
<idCitation>
<resTitle>LiDAR_Derived_Slope_Degree_NH</resTitle>
<date>
<pubDate>2021-05-08</pubDate>
</date>
<citRespParty>
<rpOrgName>Earth Systems Research Center, University of New Hampshire</rpOrgName>
<role>
<RoleCd value="006"/>
</role>
</citRespParty>
<citRespParty>
<rpOrgName>Earth Systems Research Center, University of New Hampshire</rpOrgName>
<rpCntInfo>
<cntAddress>
<delPoint>Durham, New Hampshire</delPoint>
</cntAddress>
</rpCntInfo>
<role>
<RoleCd value="010"/>
</role>
</citRespParty>
<presForm>
<PresFormCd value="005"/>
</presForm>
<presForm>
<fgdcGeoform>raster digital data</fgdcGeoform>
</presForm>
<otherCitDet>None</otherCitDet>
</idCitation>
<idAbs>This data set represents a 5-meter resolution LiDAR-derived degree slope layer for New Hampshire. It was generated
from a statewide Esri Mosaic Dataset which comprised 8 separate LiDAR collections that covered the state as of January, 2020. The Mosaic Dataset
was used as input to the ArcGIS Spatial Analyst "Slope" geoprocessing tool which calculates the degree slope for each cell of the input raster,
in this case, the statewide mosaic dataset.</idAbs>
<idPurp>This data set estimates the degree slope for pixels in the raster dataset, and is one of a suite of topographic datasets available from
NH GRANIT that convey the shape of the Earth's surface.</idPurp>
<idCredit>LiDAR-Derived Degree Slope - NH, 2020, Earth System Research Center, University of NH (https://granit.unh.edu)</idCredit>
<idStatus>
<ProgCd value="001"/>
</idStatus>
<idPoC>
<rpIndName>NH GRANIT Database Manager</rpIndName>
<rpOrgName>Earth Systems Research Center</rpOrgName>
<rpPosName>Database Manager</rpPosName>
<rpCntInfo>
<cntPhone>
<voiceNum>603-862-1214</voiceNum>
<faxNum>603-862-0188</faxNum>
</cntPhone>
<cntAddress addressType="both">
<delPoint>Morse Hall, University of New Hampshire</delPoint>
<city>Durham</city>
<adminArea>NH</adminArea>
<postCode>03824</postCode>
<country>US</country>
<eMailAdd>granit@unh.edu</eMailAdd>
</cntAddress>
<cntHours>8:30AM-5PM, EST</cntHours>
</rpCntInfo>
<role>
<RoleCd value="007"/>
</role>
</idPoC>
<resMaint>
<maintFreq>
<MaintFreqCd value="011"/>
</maintFreq>
</resMaint>
<placeKeys>
<keyword>United States</keyword>
<keyword>Northeast</keyword>
<keyword>New England</keyword>
<keyword>New Hampshire</keyword>
</placeKeys>
<themeKeys>
<keyword>elevation</keyword>
<thesaName>
<resTitle>ISO 19115 Topic Categories</resTitle>
</thesaName>
</themeKeys>
<themeKeys>
<keyword>slope</keyword>
<keyword>elevation</keyword>
<keyword>LiDAR</keyword>
<keyword>New Hampshire</keyword>
<keyword>degree slope</keyword>
</themeKeys>
<searchKeys>
<keyword>elevation</keyword>
<keyword>slope</keyword>
<keyword>elevation</keyword>
<keyword>LiDAR</keyword>
<keyword>New Hampshire</keyword>
<keyword>degree slope</keyword>
<keyword>United States</keyword>
<keyword>Northeast</keyword>
<keyword>New England</keyword>
<keyword>New Hampshire</keyword>
</searchKeys>
<resConst>
<Consts>
<useLimit>Please cite NH GRANIT (See Data_Set_Credit). Not for Legal use.</useLimit>
</Consts>
</resConst>
<resConst>
<LegConsts>
<useLimit>Digital data in NH GRANIT represent the efforts of the contributing agencies to record information from the cited
source materials. Earth Systems Research Center, under contract to the NH Office of Strategic Initiatives, and in
consultation with cooperating agencies, maintains a continuing program to identify and correct errors in these
data. OSI, ESRC, and the cooperating agencies make no claim as to the validity or reliability or to any implied uses of
these data.</useLimit>
</LegConsts>
</resConst>
<spatRpType>
<SpatRepTypCd value="002"/>
</spatRpType>
<tpCat>
<TopicCatCd value="006"/>
</tpCat>
<envirDesc>Microsoft Windows 7 Version 6.1 (Build 7601) Service Pack 1; Esri ArcGIS 10.6.1; Esri ArcGIS Pro 2.3.3</envirDesc>
<dataExt>
<geoEle>
<GeoBndBox>
<exTypeCode>true</exTypeCode>
<westBL>-72.728316</westBL>
<eastBL>-70.522623</eastBL>
<northBL>45.330379</northBL>
<southBL>42.296598</southBL>
</GeoBndBox>
</geoEle>
</dataExt>
<dataExt>
<exDesc>Publication Date</exDesc>
<tempEle>
<TempExtent>
<exTemp>
<TM_Period>
<tmBegin>2011-05-06</tmBegin>
<tmEnd>2021-05-08</tmEnd>
</TM_Period>
</exTemp>
</TempExtent>
</tempEle>
<geoEle/>
</dataExt>
<suppInfo>One companion data set representing slope in percent(LiDAR_Derived_Slope_Percent_NH.img)is also available from NH GRANIT.</suppInfo>
<dataLang>
<languageCode Sync="TRUE" value="eng"/>
<countryCode Sync="TRUE" value="USA"/>
</dataLang>
<dataExt>
<geoEle>
<GeoBndBox esriExtentType="search">
<exTypeCode Sync="TRUE">1</exTypeCode>
<westBL Sync="TRUE">-72.728316</westBL>
<eastBL Sync="TRUE">-70.522623</eastBL>
<northBL Sync="TRUE">45.330379</northBL>
<southBL Sync="TRUE">42.296598</southBL>
</GeoBndBox>
</geoEle>
</dataExt>
</dataIdInfo>
<dqInfo>
<dqScope>
<scpLvl>
<ScopeCd value="005"/>
</scpLvl>
</dqScope>
<report type="DQQuanAttAcc">
<measDesc>The critical attribute of this data is the raster cell degree slope, the absolute accuracy of which has been affected by a number of
processing steps. The original LiDAR elevation source DEMs had a 0.7 - 2 meter or better nominal post spacing (GSD).</measDesc>
<evalMethDesc>None</evalMethDesc>
<measResult>
<QuanResult>
<quanVal>Signed Integer</quanVal>
</QuanResult>
</measResult>
</report>
<report type="DQConcConsis">
<measDesc>None</measDesc>
</report>
<report type="DQCompOm">
<measDesc>Data are complete for the State of New Hampshire, and reflect the content of the source datasets.</measDesc>
</report>
<dataLineage>
<prcStep>
<stepDesc>The ArcGIS "Slope" geoprocessing tool was applied to BAREERTHDEM along with the "DEGREE" option to generate an interim slope layer. The
interim slope layer was then projected to the NH Stateplane spatial reference system.</stepDesc>
<stepDateTm>2021-05-07</stepDateTm>
<stepSrc type="used">
<srcCitatn>
<resAltTitle>BAREERTHDEM</resAltTitle>
</srcCitatn>
</stepSrc>
<stepSrc type="produced">
<srcCitatn>
<resAltTitle>degreeSlope</resAltTitle>
</srcCitatn>
</stepSrc>
</prcStep>
<dataSource>
<srcDesc>Input LiDAR DEM</srcDesc>
<srcMedName>
<MedNameCd value="digital data"/>
</srcMedName>
<srcCitatn>
<resTitle>Coastal New Hampshire 2011 LiDAR collection</resTitle>
<resAltTitle>Coastal_LiDAR_DEM</resAltTitle>
<date>
<pubDate>2011</pubDate>
</date>
<citRespParty>
<rpOrgName>Photo Science, Inc.</rpOrgName>
<role>
<RoleCd value="006"/>
</role>
</citRespParty>
</srcCitatn>
<srcExt>
<exDesc>ground condition</exDesc>
<tempEle>
<TempExtent>
<exTemp>
<TM_Period>
<tmBegin>2011-05-06</tmBegin>
<tmEnd>2011-06-30</tmEnd>
</TM_Period>
</exTemp>
</TempExtent>
</tempEle>
</srcExt>
</dataSource>
<dataSource>
<srcDesc>Input LiDAR DEM</srcDesc>
<srcMedName>
<MedNameCd value="digital data"/>
</srcMedName>
<srcCitatn>
<resTitle>USGS Connecticut River NH State Plane LiDAR</resTitle>
<resAltTitle>Connecticut_River_LiDAR_DEM</resAltTitle>
<date>
<pubDate>2016</pubDate>
</date>
<citRespParty>
<rpOrgName>Quantum Spatial, Inc.</rpOrgName>
<role>
<RoleCd value="006"/>
</role>
</citRespParty>
</srcCitatn>
<srcExt>
<exDesc>ground condition</exDesc>
<tempEle>
<TempExtent>
<exTemp>
<TM_Period>
<tmBegin>2015-10-24</tmBegin>
<tmEnd>2016-04-29</tmEnd>
</TM_Period>
</exTemp>
</TempExtent>
</tempEle>
</srcExt>
</dataSource>
<dataSource>
<srcDesc>Input LiDAR DEM</srcDesc>
<srcMedName>
<MedNameCd value="digital data"/>
</srcMedName>
<srcCitatn>
<resTitle>TERRAIN, Merrimack HUC 8 Watershed, Massachusetts and New Hampshire</resTitle>
<resAltTitle>Merrimack_LiDAR_DEM</resAltTitle>
<date>
<pubDate>2012-09-14</pubDate>
</date>
<citRespParty>
<rpOrgName>Federal Emergency Management Agency</rpOrgName>
<role>
<RoleCd value="006"/>
</role>
</citRespParty>
</srcCitatn>
<srcExt>
<exDesc>ground condition</exDesc>
<tempEle>
<TempExtent>
<exTemp>
<TM_Instant>
<tmPosition>2012-09-14</tmPosition>
</TM_Instant>
</exTemp>
</TempExtent>
</tempEle>
</srcExt>
</dataSource>
<dataSource>
<srcDesc>Input LiDAR DEM</srcDesc>
<srcMedName>
<MedNameCd value="digital data"/>
</srcMedName>
<srcCitatn>
<resTitle>TERRAIN, Nashua, Massachusetts</resTitle>
<resAltTitle>Nashua_LiDAR_DEM</resAltTitle>
<date>
<pubDate>2011-07-15</pubDate>
</date>
<citRespParty>
<rpOrgName>Federal Emergency Management Agency</rpOrgName>
<role>
<RoleCd value="006"/>
</role>
</citRespParty>
</srcCitatn>
<srcExt>
<exDesc>ground condition</exDesc>
<tempEle>
<TempExtent>
<exTemp>
<TM_Instant>
<tmPosition>2011-01-28</tmPosition>
</TM_Instant>
</exTemp>
</TempExtent>
</tempEle>
</srcExt>
</dataSource>
<dataSource>
<srcDesc>LiDAR DEM</srcDesc>
<srcMedName>
<MedNameCd value="digital data"/>
</srcMedName>
<srcCitatn>
<resTitle>Umbagog NH/ME 2016 LiDAR</resTitle>
<resAltTitle>Umbagog_LiDAR_DEM</resAltTitle>
<date>
<pubDate>2018-08-30</pubDate>
</date>
<citRespParty>
<rpOrgName>Quantum Spatial, Inc.</rpOrgName>
<role>
<RoleCd value="006"/>
</role>
</citRespParty>
</srcCitatn>
<srcExt>
<exDesc>ground condition</exDesc>
<tempEle>
<TempExtent>
<exTemp>
<TM_Period>
<tmBegin>2016-04-06</tmBegin>
<tmEnd>2018-05-24</tmEnd>
</TM_Period>
</exTemp>
</TempExtent>
</tempEle>
</srcExt>
</dataSource>
<dataSource>
<srcDesc>LiDAR DEM</srcDesc>
<srcMedName>
<MedNameCd value="digital data"/>
</srcMedName>
<srcCitatn>
<resTitle>White Mountain National Forest Lidar (USGS Contract: G10PC00026 Task Order Numbers: G10PD01309 and G10PD00088)</resTitle>
<resAltTitle>WMNF_2011_LiDAR_DEM</resAltTitle>
<date>
<pubDate date="inapplicable"/>
</date>
<citRespParty>
<rpOrgName>Photo Science, Inc.</rpOrgName>
<role>
<RoleCd value="006"/>
</role>
</citRespParty>
</srcCitatn>
<srcExt>
<exDesc>ground condition</exDesc>
<tempEle>
<TempExtent>
<exTemp>
<TM_Period>
<tmBegin>2010-11-11</tmBegin>
<tmEnd>2012-04-19</tmEnd>
</TM_Period>
</exTemp>
</TempExtent>
</tempEle>
</srcExt>
</dataSource>
<dataSource>
<srcDesc>LiDAR DEM</srcDesc>
<srcMedName>
<MedNameCd value="digital data"/>
</srcMedName>
<srcCitatn>
<resTitle>White Mountain National Forest Lidar (USGS Contract: G10PC00026 Task Order Numbers: G12PD00775)</resTitle>
<resAltTitle>WMNF_2012_LiDAR_DEM</resAltTitle>
<date>
<pubDate date="inapplicable"/>
</date>
<citRespParty>
<rpOrgName>Photo Science, Inc.</rpOrgName>
<role>
<RoleCd value="006"/>
</role>
</citRespParty>
</srcCitatn>
<srcExt>
<exDesc>ground condition</exDesc>
<tempEle>
<TempExtent>
<exTemp>
<TM_Period>
<tmBegin>2012-11-06</tmBegin>
<tmEnd>2012-11-17</tmEnd>
</TM_Period>
</exTemp>
</TempExtent>
</tempEle>
</srcExt>
</dataSource>
<dataSource>
<srcDesc>LiDAR DEM</srcDesc>
<srcMedName>
<MedNameCd value="digital data"/>
</srcMedName>
<srcCitatn>
<resTitle>G14PD01014 - White Mountain National Forest3 LiDAR - FY2014</resTitle>
<resAltTitle>WMNF_2014_LiDAR_DEM</resAltTitle>
<date>
<pubDate>2015-04-10</pubDate>
</date>
<citRespParty>
<rpOrgName>Quantum Spatial, Inc.</rpOrgName>
<role>
<RoleCd value="006"/>
</role>
</citRespParty>
</srcCitatn>
<srcExt>
<exDesc>ground condition</exDesc>
<tempEle>
<TempExtent>
<exTemp>
<TM_Period>
<tmBegin>2014-10-28</tmBegin>
<tmEnd>2014-11-06</tmEnd>
</TM_Period>
</exTemp>
</TempExtent>
</tempEle>
</srcExt>
</dataSource>
<dataSource>
<srcDesc>Bare earth DEM</srcDesc>
<srcMedName>
<MedNameCd value="digital data"/>
</srcMedName>
<srcCitatn>
<resTitle>LiDAR_Bare_Earth_DEM_NH.img</resTitle>
<resAltTitle>BAREERTHDEM</resAltTitle>
<date>
<pubDate>2019</pubDate>
</date>
<citRespParty>
<rpOrgName>Earth Systems Research Center, University of New Hampshire</rpOrgName>
<role>
<RoleCd value="006"/>
</role>
</citRespParty>
</srcCitatn>
<srcExt>
<exDesc>ground condition</exDesc>
<tempEle>
<TempExtent>
<exTemp>
<TM_Period>
<tmBegin>2011-05-06</tmBegin>
<tmEnd>2018-05-24</tmEnd>
</TM_Period>
</exTemp>
</TempExtent>
</tempEle>
</srcExt>
</dataSource>
</dataLineage>
</dqInfo>
<spatRepInfo>
<Georect>
<numDims>2</numDims>
<axisDimension type="001">
<dimSize>67299</dimSize>
<dimResol>
<value Sync="TRUE" uom="ftUS">16.404167</value>
</dimResol>
</axisDimension>
<axisDimension type="002">
<dimSize>34584</dimSize>
<dimResol>
<value Sync="TRUE" uom="ftUS">16.404167</value>
</dimResol>
</axisDimension>
<cellGeo>
<CellGeoCd Sync="TRUE" value="002"/>
</cellGeo>
<tranParaAv Sync="TRUE">1</tranParaAv>
<chkPtAv Sync="TRUE">0</chkPtAv>
<cornerPts>
<pos Sync="TRUE">711187.294272 -72245.174935</pos>
</cornerPts>
<cornerPts>
<pos Sync="TRUE">711187.294272 1031738.837565</pos>
</cornerPts>
<cornerPts>
<pos Sync="TRUE">1278508.994272 1031738.837565</pos>
</cornerPts>
<cornerPts>
<pos Sync="TRUE">1278508.994272 -72245.174935</pos>
</cornerPts>
<centerPt>
<pos Sync="TRUE">994848.144272 479746.831315</pos>
</centerPt>
<ptInPixel>
<PixOrientCd Sync="TRUE" value="001"/>
</ptInPixel>
</Georect>
</spatRepInfo>
<eainfo>
<overview>
<eaover>Data represents degree slope values for New Hampshire.</eaover>
<eadetcit>Cell values degree slope</eadetcit>
</overview>
<detailed Name="LiDAR_Derived_Slope_Degree_NH.img.vat">
<enttyp>
<enttypl Sync="TRUE">LiDAR_Derived_Slope_Degree_NH.img.vat</enttypl>
<enttypt Sync="TRUE">Table</enttypt>
<enttypc Sync="TRUE">85</enttypc>
</enttyp>
<attr>
<attrlabl Sync="TRUE">OID</attrlabl>
<attalias Sync="TRUE">OID</attalias>
<attrtype Sync="TRUE">OID</attrtype>
<attwidth Sync="TRUE">4</attwidth>
<atprecis Sync="TRUE">0</atprecis>
<attscale Sync="TRUE">0</attscale>
<attrdef Sync="TRUE">Internal feature number.</attrdef>
<attrdefs Sync="TRUE">Esri</attrdefs>
<attrdomv>
<udom Sync="TRUE">Sequential unique whole numbers that are automatically generated.</udom>
</attrdomv>
</attr>
<attr>
<attrlabl Sync="TRUE">Value</attrlabl>
<attalias Sync="TRUE">Value</attalias>
<attrtype Sync="TRUE">Integer</attrtype>
<attwidth Sync="TRUE">10</attwidth>
<atprecis Sync="TRUE">10</atprecis>
<attscale Sync="TRUE">0</attscale>
</attr>
<attr>
<attrlabl Sync="TRUE">Count</attrlabl>
<attalias Sync="TRUE">Count</attalias>
<attrtype Sync="TRUE">Double</attrtype>
<attwidth Sync="TRUE">19</attwidth>
<atprecis Sync="TRUE">0</atprecis>
<attscale Sync="TRUE">0</attscale>
</attr>
</detailed>
</eainfo>
<mdLang>
<languageCode Sync="TRUE" value="eng"/>
<countryCode Sync="TRUE" value="USA"/>
</mdLang>
<mdHrLvName Sync="TRUE">dataset</mdHrLvName>
<refSysInfo>
<RefSystem>
<refSysID>
<identCode Sync="TRUE" code="6525"/>
<idCodeSpace Sync="TRUE">EPSG</idCodeSpace>
<idVersion Sync="TRUE">8.2.10(10.3.1)</idVersion>
</refSysID>
</RefSystem>
</refSysInfo>
<contInfo>
<ImgDesc>
<contentTyp>
<ContentTypCd Sync="TRUE" value="001"/>
</contentTyp>
<covDim>
<Band>
<dimDescrp Sync="TRUE">Layer_1</dimDescrp>
<maxVal Sync="TRUE">84.000000</maxVal>
<minVal Sync="TRUE">0.000000</minVal>
<bitsPerVal Sync="TRUE">32</bitsPerVal>
<valUnit>
<UOM type="length"/>
</valUnit>
</Band>
</covDim>
</ImgDesc>
</contInfo>
</metadata>
