{
 "currentVersion": 11.4,
 "serviceDescription": "ImageServices/LiDAR_Bare_Earth_multi_HS_NH_2022",
 "name": "ImageServices/LiDAR_Bare_Earth_multi_HS_NH_2022",
 "description": "",
 "extent": {
  "xmin": 209059.50072263984,
  "ymin": 4726714.123971599,
  "xmax": 373218.25017775985,
  "ymax": 5019972.694948159,
  "spatialReference": {
   "wkid": 26919,
   "latestWkid": 26919,
   "vcsWkid": 5703,
   "latestVcsWkid": 5703
  }
 },
 "initialExtent": {
  "xmin": 209059.50072263984,
  "ymin": 4726714.123971599,
  "xmax": 373218.25017775985,
  "ymax": 5019972.694948159,
  "spatialReference": {
   "wkid": 26919,
   "latestWkid": 26919,
   "vcsWkid": 5703,
   "latestVcsWkid": 5703
  }
 },
 "fullExtent": {
  "xmin": 209059.50072263984,
  "ymin": 4726714.123971599,
  "xmax": 373218.25017775985,
  "ymax": 5019972.694948159,
  "spatialReference": {
   "wkid": 26919,
   "latestWkid": 26919,
   "vcsWkid": 5703,
   "latestVcsWkid": 5703
  }
 },
 "sortableFields": "",
 "heightModelInfo": {
  "heightModel": "gravity_related_height",
  "vertCRS": "NAVD_1988",
  "heightUnit": "meter"
 },
 "bandCount": 1,
 "pixelType": "F32",
 "minValues": [
  -10.796661376953
 ],
 "maxValues": [
  1916.1048583984
 ],
 "meanValues": [
  336.61135530174
 ],
 "stdvValues": [
  227.62292400554
 ],
 "hasMultidimensions": false,
 "pixelSizeX": 0.76200152,
 "pixelSizeY": 0.76200152,
 "meanPixelSize": 0.76200152,
 "datasetFormat": "IMAGINE Image",
 "uncompressedSize": 331637066572,
 "blockWidth": 64,
 "blockHeight": 64,
 "compressionType": "None",
 "bandNames": [
  "Layer_1"
 ],
 "allowCopy": true,
 "allowAnalysis": true,
 "itemAccess": false,
 "inspectionCapabilities": "",
 "noDataValue": -3.4028234663852886E38,
 "noDataValues": [
  -3.4028234663852886E38
 ],
 "minPixelSize": 0,
 "maxPixelSize": 0,
 "copyrightText": "",
 "serviceDataType": "esriImageServiceDataTypeGeneric",
 "serviceSourceType": "esriImageServiceSourceTypeDataset",
 "objectIdField": "",
 "fields": [],
 "capabilities": "Mensuration,Image,Metadata",
 "defaultMosaicMethod": "Center",
 "allowedMosaicMethods": "",
 "sortField": "",
 "sortValue": null,
 "sortAscending": true,
 "mosaicOperator": "First",
 "defaultCompressionQuality": 75,
 "defaultResamplingMethod": "Bilinear",
 "maxImageHeight": 4100,
 "maxImageWidth": 15000,
 "allowRasterFunction": true,
 "rasterFunctionInfos": [
  {
   "name": "Multi Hillshade",
   "description": "Multidirectional Hillshade",
   "help": ""
  },
  {
   "name": "Shaded Relief",
   "description": "Shaded relief Hillshade",
   "help": ""
  },
  {
   "name": "NE Hillshade",
   "description": "NE Hillshade",
   "help": ""
  },
  {
   "name": "NW Hillshade",
   "description": "NW Hillshade",
   "help": ""
  },
  {
   "name": "None",
   "description": "",
   "help": ""
  }
 ],
 "rasterTypeInfos": [
  {
   "name": "Raster Dataset",
   "description": "Supports all ArcGIS Raster Datasets",
   "help": ""
  }
 ],
 "mensurationCapabilities": "Basic",
 "hasHistograms": true,
 "hasColormap": false,
 "hasRasterAttributeTable": false,
 "minScale": 0,
 "maxScale": 0,
 "exportTilesAllowed": false,
 "supportsStatistics": false,
 "supportsAdvancedQueries": false,
 "editFieldsInfo": null,
 "ownershipBasedAccessControlForRasters": null,
 "allowComputeTiePoints": false,
 "useStandardizedQueries": true,
 "advancedQueryCapabilities": {
  "useStandardizedQueries": true,
  "supportsStatistics": false,
  "supportsOrderBy": false,
  "supportsDistinct": false,
  "supportsPagination": false
 },
 "spatialReference": {
  "wkid": 26919,
  "latestWkid": 26919,
  "vcsWkid": 5703,
  "latestVcsWkid": 5703
 },
 "resampling": false
}
