{
 "currentVersion": 11.4,
 "serviceDescription": "ImageServices/CV_RecreationalBoaterRouteDensity",
 "name": "ImageServices/CV_RecreationalBoaterRouteDensity",
 "description": "",
 "extent": {
  "xmin": -78.47892887835242,
  "ymin": 32.32123824427801,
  "xmax": -60.637046452843904,
  "ymax": 47.62991455957992,
  "spatialReference": {
   "wkid": 4269,
   "latestWkid": 4269
  }
 },
 "initialExtent": {
  "xmin": -78.47892887835242,
  "ymin": 32.32123824427801,
  "xmax": -60.637046452843904,
  "ymax": 47.62991455957992,
  "spatialReference": {
   "wkid": 4269,
   "latestWkid": 4269
  }
 },
 "fullExtent": {
  "xmin": -78.47892887835242,
  "ymin": 32.32123824427801,
  "xmax": -60.637046452843904,
  "ymax": 47.62991455957992,
  "spatialReference": {
   "wkid": 4269,
   "latestWkid": 4269
  }
 },
 "sortableFields": "",
 "bandCount": 1,
 "pixelType": "F32",
 "minValues": [
  -7.976114273071289
 ],
 "maxValues": [
  3.4088399410247803
 ],
 "meanValues": [
  0.0902568223162552
 ],
 "stdvValues": [
  0.9964828659978128
 ],
 "hasMultidimensions": false,
 "pixelSizeX": 0.0032188133547733206,
 "pixelSizeY": 0.0032188133547733215,
 "meanPixelSize": 358.3166636119547,
 "datasetFormat": "FGDBR",
 "uncompressedSize": 105450032,
 "blockWidth": 128,
 "blockHeight": 128,
 "compressionType": "LZ77",
 "bandNames": [
  "Band_1"
 ],
 "allowCopy": true,
 "allowAnalysis": true,
 "itemAccess": false,
 "inspectionCapabilities": "",
 "minPixelSize": 0,
 "maxPixelSize": 0,
 "copyrightText": "",
 "serviceDataType": "esriImageServiceDataTypeGeneric",
 "serviceSourceType": "esriImageServiceSourceTypeDataset",
 "objectIdField": "",
 "fields": [],
 "capabilities": "Mensuration,Image,Metadata",
 "defaultMosaicMethod": "Center",
 "allowedMosaicMethods": "",
 "sortField": "",
 "sortValue": null,
 "sortAscending": true,
 "mosaicOperator": "First",
 "defaultCompressionQuality": 75,
 "defaultResamplingMethod": "Bilinear",
 "maxImageHeight": 4100,
 "maxImageWidth": 15000,
 "allowRasterFunction": true,
 "rasterFunctionInfos": [
  {
   "name": "Recreational Boater Route Density",
   "description": "Recreational Boater Activity for CV",
   "help": ""
  },
  {
   "name": "None",
   "description": "",
   "help": ""
  }
 ],
 "rasterTypeInfos": [
  {
   "name": "Raster Dataset",
   "description": "Supports all ArcGIS Raster Datasets",
   "help": ""
  }
 ],
 "mensurationCapabilities": "Basic",
 "hasHistograms": true,
 "hasColormap": false,
 "hasRasterAttributeTable": false,
 "minScale": 0,
 "maxScale": 0,
 "exportTilesAllowed": false,
 "supportsStatistics": false,
 "supportsAdvancedQueries": false,
 "editFieldsInfo": null,
 "ownershipBasedAccessControlForRasters": null,
 "allowComputeTiePoints": false,
 "useStandardizedQueries": true,
 "advancedQueryCapabilities": {
  "useStandardizedQueries": true,
  "supportsStatistics": false,
  "supportsOrderBy": false,
  "supportsDistinct": false,
  "supportsPagination": false
 },
 "spatialReference": {
  "wkid": 4269,
  "latestWkid": 4269
 },
 "resampling": false
}
